BEGIN:VCALENDAR
VERSION:2.0
PRODID:-//jEvents 2.0 for Joomla//EN
CALSCALE:GREGORIAN
METHOD:PUBLISH
BEGIN:VEVENT
UID:01e710e095f2c3a7286e8a112eba17a2
CATEGORIES:Polar Conferences, Meetings and Events
CREATED:20201125T084551
SUMMARY:GREENLAND-DENMARK 1721 + 300 = 2021
LOCATION:Aalborg\, Denmark
DESCRIPTION:As we approach the year 2021, Greenland and Denmark can look back at 300 ye
 ars of colonization and resistance, continuous cultural encounters and rela
 tionship-building, cooperation and conflict.Without doubt, media and public
  debate will intensify. We hope to contribute to making debates informed by
  research. Hence, we offer this conference as a platform for panels present
 ing and discussing thematic and disciplinary evaluations, as well as on-goi
 ng projects within the overall theme. Read more about the conference: https
 ://www.en.cgs.aau.dk/research/conferences/greenland-denmark\n
X-ALT-DESC;FMTTYPE=text/html:<p><span class="">As we approach the year 2021, Greenland and Denmark can l
 ook back at 300 years of colonization and resistance, continuous cultural e
 ncounters and relationship-building, cooperation and conflict.<br class="" 
 /><br class="" />Without doubt, media and public debate will intensify. We 
 hope to contribute to making debates informed by research. Hence, we offer 
 this conference as a platform for panels presenting and discussing thematic
  and disciplinary evaluations, as well as on-going projects within the over
 all theme.<br class="" />&nbsp;<br class="" />Read more about the conferenc
 e: <a href="https://www.en.cgs.aau.dk/research/conferences/greenland-denmar
 k">https://www.en.cgs.aau.dk/research/conferences/greenland-denmark</a></sp
 an><span class=""></span></p>
DTSTAMP:20260423T040052Z
DTSTART;TZID=UTC;VALUE=DATE:20210609
DTEND;TZID=UTC;VALUE=DATE:20210612
SEQUENCE:0
TRANSP:OPAQUE
END:VEVENT
END:VCALENDAR