BEGIN:VCALENDAR
VERSION:2.0
PRODID:-//jEvents 2.0 for Joomla//EN
CALSCALE:GREGORIAN
METHOD:PUBLISH
BEGIN:VEVENT
UID:23d26e2f31a499e9b813410d71b1f414
CATEGORIES:Polar Online Events
CREATED:20201125T081034
SUMMARY:Webinar: Marine Science in Svalbard - Global to Local Perspective
LOCATION:Online
DESCRIPTION:<p><strong>Webinar series: An Anchor Point to a Drifting World</strong><br 
 /><strong>Friday, 27 November 2020</strong><br /><strong>10:00-11:30 a.m. C
 entral European Time</strong></p><p>The Svalbard Integrated Arctic Earth Ob
 servation System (<a href="https://www.arcus.org/civicrm/mailing/url?u=2640
 8&amp;qid=4515870" rel="nofollow">SIOS</a>) announces the 6th webinar in th
 eir webinar series. This webinar, titled&nbsp;<em>Marine Science in Svalbar
 d - Global to Local Perspective</em>, will take place on Friday, 27 Novembe
 r 2020 from10:00 to 11:30 a.m. Central European Time.</p><p>The webinar wil
 l use the momentum of the SIOS Marine infrastructure Network Workshop and s
 hed new light on the global and local perspective of marine science in Sval
 bard.</p><p><strong>The program for the webinar will be as follows:</strong
 ></p><ul><li>10:00-10:10: Welcome and introduction to the webinar (Shridhar
  Jawak, SIOS Remote Sensing Officer)</li><li>10:10-10:25: Ocean predictabil
 ity, observations and links to UN Decade of Ocean (Mark Payne, Technical Un
 iversity of Denmark [DTU])</li><li>10:25-10:40: Observational networks in E
 urope (Alejandro Orfila, Mediterranean Institute for Advanced Studies [IMED
 EA])</li><li>10:40-10:55: Sea ice remote sensing (Anton Korosov, National E
 nergy Research Scientific Computing Center [NERSC])</li><li>5 min break</li
 ><li>11:00-11:10: Information talk about the icebreaker Laura Bassi (charac
 teristics of the ship and tentative logistical plans for 2021)</li><li>11:1
 0-11:30: Panel Discussion on the outcomes of the SIOS marine infrastructure
  network workshop and the next steps for the network<ul><li>Moderator: Inge
 r Jennings, SIOS Logistics and Access Officer</li><li>Panel: Manuel Bensi, 
 Arild Sundfjord, Frank Nilsen, and Agnieszka Beszynska-Möller</li></ul></li
 ></ul><p>A further note: SIOS play a very active role in encouraging Early 
 Career Researchers (ECRs) to attend, participate, and contribute to SIOS ac
 tivities. These webinars are an excellent chance to discover the exciting s
 cience that is going on in and around the Svalbard region. In the future, o
 rganizers would also like to encourage ECRs to present at these webinars. T
 hose interested should get in touch with organizers to learn more.</p><p>Fo
 r more information, go to:<br /><a href="https://www.arcus.org/civicrm/mail
 ing/url?u=26404&amp;qid=4515870" rel="nofollow">Webinar webpage</a></p><p>T
 o register, go to:<br /><a href="https://www.arcus.org/civicrm/mailing/url?
 u=26405&amp;qid=4515870" rel="nofollow">Webinar registration webpage</a></p
 ><p>For questions, contact:<br />William D. Harcourt<br />Email:&nbsp;<a hr
 ef="https://www.arcus.org/civicrm/mailing/url?u=26406&amp;qid=4515870" rel=
 "nofollow"></a><span id="cloak7388b4e2cd6d0778fc4a56f751e64a17">This email 
 address is being protected from spambots. You need JavaScript enabled to vi
 ew it.</span><script type='text/javascript'>
				document.getElementById('c
 loak7388b4e2cd6d0778fc4a56f751e64a17').innerHTML = '';
				var prefix = '&#
 109;a' + 'i&#108;' + '&#116;o';
				var path = 'hr' + 'ef' + '=';
				var a
 ddy7388b4e2cd6d0778fc4a56f751e64a17 = 'wdh1' + '&#64;';
				addy7388b4e2cd6
 d0778fc4a56f751e64a17 = addy7388b4e2cd6d0778fc4a56f751e64a17 + 'st-&#97;ndr
 &#101;ws' + '&#46;' + '&#97;c' + '&#46;' + '&#117;k';
				var addy_text7388
 b4e2cd6d0778fc4a56f751e64a17 = 'wdh1' + '&#64;' + 'st-&#97;ndr&#101;ws' + '
 &#46;' + '&#97;c' + '&#46;' + '&#117;k';document.getElementById('cloak7388b
 4e2cd6d0778fc4a56f751e64a17').innerHTML += '<a ' + path + '\'' + prefix + '
 :' + addy7388b4e2cd6d0778fc4a56f751e64a17 + '\'>'+addy_text7388b4e2cd6d0778
 fc4a56f751e64a17+'<\/a>';
		</script></p><p>Shridhar Jawak<br />Email:&nbsp
 ;<a href="https://www.arcus.org/civicrm/mailing/url?u=26407&amp;qid=4515870
 " rel="nofollow" title="&lt;a href=">https://www.arcus.org/civicrm/mailing/
 url?u=26407&amp;qid=4515870</a>"&gt;<span id="cloaka6803950dd378315a0942c62
 15ef6cab">This email address is being protected from spambots. You need Jav
 aScript enabled to view it.</span><script type='text/javascript'>
				docum
 ent.getElementById('cloaka6803950dd378315a0942c6215ef6cab').innerHTML = '';
 
				var prefix = '&#109;a' + 'i&#108;' + '&#116;o';
				var path = 'hr' + 
 'ef' + '=';
				var addya6803950dd378315a0942c6215ef6cab = 'r&#101;m&#111;t
 &#101;s&#101;ns&#105;ng' + '&#64;';
				addya6803950dd378315a0942c6215ef6ca
 b = addya6803950dd378315a0942c6215ef6cab + 's&#105;&#111;s-sv&#97;lb&#97;rd
 ' + '&#46;' + '&#111;rg';
				var addy_texta6803950dd378315a0942c6215ef6cab
  = 'r&#101;m&#111;t&#101;s&#101;ns&#105;ng' + '&#64;' + 's&#105;&#111;s-sv&
 #97;lb&#97;rd' + '&#46;' + '&#111;rg';document.getElementById('cloaka680395
 0dd378315a0942c6215ef6cab').innerHTML += '<a ' + path + '\'' + prefix + ':'
  + addya6803950dd378315a0942c6215ef6cab + '\'>'+addy_texta6803950dd378315a0
 942c6215ef6cab+'<\/a>';
		</script></p>
DTSTAMP:20260425T195425Z
DTSTART;TZID=UTC:20201127T100000
DTEND;TZID=UTC:20201127T113000
SEQUENCE:0
TRANSP:OPAQUE
END:VEVENT
END:VCALENDAR