BEGIN:VCALENDAR
VERSION:2.0
PRODID:-//jEvents 2.0 for Joomla//EN
CALSCALE:GREGORIAN
METHOD:PUBLISH
BEGIN:VEVENT
UID:c8d3ae83a223321e6c2faf442b27dd04
CATEGORIES:Polar Online Events
CREATED:20201124T204716
SUMMARY:NSF Directorate for Geosciences Virtual Office Hours
LOCATION:online
DESCRIPTION:The National Science Foundation (NSF) announces their Directorate for Geosc
 iences (GEO) virtual office hours.\nThese office hours will take place on 2
  December 2020, 2:30-4:00 p.m. Eastern Standard Time. Advance registration 
 is required.\nNormally presented as a workshop at the American Geophysical 
 Union Fall Meeting, Navigating the NSF System is a good opportunity for fir
 st time proposers and early career scientists to gain insight to the ins an
 d outs of the NSF grant proposal process. The webinar consists of a present
 ation and a live question and answer session with GEO Program Officers.\nTo
  register, go to:\n \nFor more information, go to:\n <a href="https://www.a
 rcus.org/civicrm/mailing/url?u=26426&amp;qid=4519632">Webinar webpage</a>\n
X-ALT-DESC;FMTTYPE=text/html:<p style="text-align: justify;">The National Science Foundation (NSF) annou
 nces their <strong>Directorate for Geosciences (GEO) virtual office hours</
 strong>.</p><p style="text-align: justify;">These office hours will take pl
 ace on 2 December 2020, 2:30-4:00 p.m. Eastern Standard Time. <em>Advance r
 egistration is required.</em></p><p style="text-align: justify;">Normally p
 resented as a workshop at the American Geophysical Union Fall Meeting, <em>
 Navigating the NSF System</em> is a good opportunity for first time propose
 rs and early career scientists to gain insight to the ins and outs of the N
 SF grant proposal process. The webinar consists of a presentation and a liv
 e question and answer session with GEO Program Officers.</p><p style="text-
 align: justify;">To register, go to:<br /> <a href="https://www.arcus.org/c
 ivicrm/mailing/url?u=26425&amp;qid=4519632">Webinar registration webpage</a
 ></p><p style="text-align: justify;">For more information, go to:<br /> <a 
 href="https://www.arcus.org/civicrm/mailing/url?u=26426&amp;qid=4519632">We
 binar webpage</a></p>
DTSTAMP:20260421T000650Z
DTSTART;TZID=UTC:20201202T193000
DTEND;TZID=UTC:20201202T210000
SEQUENCE:0
TRANSP:OPAQUE
END:VEVENT
END:VCALENDAR