BEGIN:VCALENDAR
VERSION:2.0
PRODID:-//jEvents 2.0 for Joomla//EN
CALSCALE:GREGORIAN
METHOD:PUBLISH
BEGIN:VEVENT
UID:54d6565d29f3b1411f68405f44c83178
CATEGORIES:Polar Online Events
CREATED:20201116T094353
SUMMARY:Polar Pride Day
LOCATION:Online
DESCRIPTION:#PolarPride (https://twitter.com/hashtag/PolarPride?src=hashtag_click) Day 
 will be on celecrated on November 18th<a href="https://twitter.com/hashtag/
 LGBTSTEMDay?src=hashtag_click" class="css-4rbku5 css-18t94o4 css-901oao css
 -16my406 r-1n1174f r-1loqt21 r-1qd0xha r-ad9z0x r-bcqeeo r-qvutc0" dir="ltr
 " role="link" data-focusable="true"></a>! Whether you are in #Antarctica (h
 ttps://twitter.com/hashtag/Antarctica?src=hashtag_click), the <a href="http
 s://twitter.com/hashtag/Arctic?src=hashtag_click" class="css-4rbku5 css-18t
 94o4 css-901oao css-16my406 r-1n1174f r-1loqt21 r-1qd0xha r-ad9z0x r-bcqeeo
  r-qvutc0" dir="ltr" role="link" data-focusable="true">#Arctic</a> or somew
 here else, if you care about making polar research a fully inclusive commun
 ity please join the celebrations on Wednesday! Don’t forget to use #PolarPr
 ide (https://twitter.com/hashtag/PolarPride?src=hashtag_click)!\n
X-ALT-DESC;FMTTYPE=text/html:<p><span class="r-18u37iz"><a href="https://twitter.com/hashtag/PolarPride?
 src=hashtag_click" class="css-4rbku5 css-18t94o4 css-901oao css-16my406 r-1
 n1174f r-1loqt21 r-1qd0xha r-ad9z0x r-bcqeeo r-qvutc0" dir="ltr" role="link
 " data-focusable="true">#PolarPride</a></span><span class="css-901oao css-1
 6my406 r-1qd0xha r-ad9z0x r-bcqeeo r-qvutc0"> Day will be on celecrated on 
 November 18th</span><span class="r-18u37iz"><a href="https://twitter.com/ha
 shtag/LGBTSTEMDay?src=hashtag_click" class="css-4rbku5 css-18t94o4 css-901o
 ao css-16my406 r-1n1174f r-1loqt21 r-1qd0xha r-ad9z0x r-bcqeeo r-qvutc0" di
 r="ltr" role="link" data-focusable="true"></a></span><span class="css-901oa
 o css-16my406 r-1qd0xha r-ad9z0x r-bcqeeo r-qvutc0">! Whether you are in </
 span><span class="r-18u37iz"><a href="https://twitter.com/hashtag/Antarctic
 a?src=hashtag_click" class="css-4rbku5 css-18t94o4 css-901oao css-16my406 r
 -1n1174f r-1loqt21 r-1qd0xha r-ad9z0x r-bcqeeo r-qvutc0" dir="ltr" role="li
 nk" data-focusable="true">#Antarctica</a></span><span class="css-901oao css
 -16my406 r-1qd0xha r-ad9z0x r-bcqeeo r-qvutc0">, the </span><span class="r-
 18u37iz"><a href="https://twitter.com/hashtag/Arctic?src=hashtag_click" cla
 ss="css-4rbku5 css-18t94o4 css-901oao css-16my406 r-1n1174f r-1loqt21 r-1qd
 0xha r-ad9z0x r-bcqeeo r-qvutc0" dir="ltr" role="link" data-focusable="true
 ">#Arctic</a></span><span class="css-901oao css-16my406 r-1qd0xha r-ad9z0x 
 r-bcqeeo r-qvutc0"> or somewhere else, if you care about making polar resea
 rch a fully inclusive community please join the celebrations on Wednesday! 
 Don’t forget to use </span><span class="r-18u37iz"><a href="https://twitter
 .com/hashtag/PolarPride?src=hashtag_click" class="css-4rbku5 css-18t94o4 cs
 s-901oao css-16my406 r-1n1174f r-1loqt21 r-1qd0xha r-ad9z0x r-bcqeeo r-qvut
 c0" dir="ltr" role="link" data-focusable="true">#PolarPride</a></span><span
  class="css-901oao css-16my406 r-1qd0xha r-ad9z0x r-bcqeeo r-qvutc0">!</spa
 n></p>
DTSTAMP:20260422T172233Z
DTSTART;TZID=UTC;VALUE=DATE:20201118
DTEND;TZID=UTC;VALUE=DATE:20201119
SEQUENCE:0
TRANSP:OPAQUE
END:VEVENT
END:VCALENDAR