BEGIN:VCALENDAR
VERSION:2.0
PRODID:-//jEvents 2.0 for Joomla//EN
CALSCALE:GREGORIAN
METHOD:PUBLISH
BEGIN:VEVENT
UID:54598c2c4c7a18eb559b9c4df3dfcad3
CATEGORIES:Polar Online Events
CREATED:20201111T185459
SUMMARY:November 2020 National Weather Service Alaska Climate Outlook Briefing
DESCRIPTION:Rick Thoman, Alaska Center for Climate Assessment and Policy (ACCAP)\n Frid
 ay, 20 November 2020\n 12:00-1:00 p.m. AST\nThe tools and techniques for ma
 king monthly and season scale climate forecasts are rapidly changing, with 
 the potential to provide useful forecasts at the month and longer range. RI
 ck will review recent climate conditions around Alaska, review some forecas
 t tools, and finish up the Climate Prediction Center’s forecast for Decembe
 r and the winter season. Join the gathering online to learn more about Alas
 ka climate and weather.\nFor more information and to register for this even
 t, go to:\n November 2020 Alaska Climate Outlook Briefing webinar webpage w
 ebinar webpage (https://uaf-accap.org/event/november-2020-nws-briefing/)\n
X-ALT-DESC;FMTTYPE=text/html:<p>Rick Thoman, Alaska Center for Climate Assessment and Policy (ACCAP)<br 
 /> Friday, 20 November 2020<br /> 12:00-1:00 p.m. AST</p><p>The tools and t
 echniques for making monthly and season scale climate forecasts are rapidly
  changing, with the potential to provide useful forecasts at the month and 
 longer range. RIck will review recent climate conditions around Alaska, rev
 iew some forecast tools, and finish up the Climate Prediction Center’s fore
 cast for December and the winter season. Join the gathering online to learn
  more about Alaska climate and weather.</p><p>For more information and to r
 egister for this event, go to:<br /> <a href="https://uaf-accap.org/event/n
 ovember-2020-nws-briefing/"><em>November 2020 Alaska Climate Outlook Briefi
 ng webinar webpage</em> webinar webpage</a></p>
DTSTAMP:20260420T100831Z
DTSTART;TZID=UTC;VALUE=DATE:20201120
DTEND;TZID=UTC;VALUE=DATE:20201121
SEQUENCE:0
TRANSP:OPAQUE
END:VEVENT
END:VCALENDAR