BEGIN:VCALENDAR
VERSION:2.0
PRODID:-//jEvents 2.0 for Joomla//EN
CALSCALE:GREGORIAN
METHOD:PUBLISH
BEGIN:VEVENT
UID:ed765fade2e684072d2c692134c87491
CATEGORIES:Polar Online Events
CREATED:20210322T094807
SUMMARY:Job Hunting in a Pandemic
LOCATION:Online
DESCRIPTION:The Global Water Futures Young Professionals are hosting two virtual panels
  on job hunting in a pandemic, both in and out of academia. Please join us 
 for a structured conversation that presents diverse perspectives on career 
 opportunities, challenging stereotypes about career paths, and inspires you
 ng professionals to plan their next steps during the covid-19 pandemic.\nYo
 u can register for these events below:\nJob Hunting Outside Academia (March
  23 @ 12 pm CST/ pm EDT) - https://gwf.usask.ca/events/2021/03/job-hunting-
 outside-academia-in-a-pandemic.php\nJob Hunting In Academia (March 30 @ 12 
 pm CST/ pm EDT) - <a href="https://gwf.usask.ca/events/2021/03/job-hunting-
 inside-academia-pandemic.php" target="_blank" rel="noopener">https://gwf.us
 ask.ca/events/2021/03/job-hunting-inside-academia-pandemic.php</a>\n
X-ALT-DESC;FMTTYPE=text/html:<p>The <strong>Global Water Futures Young Professionals</strong> are hostin
 g two virtual panels on <strong>job hunting in a pandemic, both in and out 
 of academia</strong>. Please join us for a structured conversation that pre
 sents diverse perspectives on career opportunities, challenging stereotypes
  about career paths, and inspires young professionals to plan their next st
 eps during the covid-19 pandemic.</p><p>You can register for these events b
 elow:</p><p>Job Hunting Outside Academia (March 23 @ 12 pm CST/ pm EDT) - <
 a href="https://gwf.usask.ca/events/2021/03/job-hunting-outside-academia-in
 -a-pandemic.php" target="_blank" rel="noopener">https://gwf.usask.ca/events
 /2021/03/job-hunting-outside-academia-in-a-pandemic.php</a></p><p>Job Hunti
 ng In Academia (March 30 @ 12 pm CST/ pm EDT) - <a href="https://gwf.usask.
 ca/events/2021/03/job-hunting-inside-academia-pandemic.php" target="_blank"
  rel="noopener">https://gwf.usask.ca/events/2021/03/job-hunting-inside-acad
 emia-pandemic.php</a></p>
DTSTAMP:20260422T220358Z
DTSTART;TZID=UTC;VALUE=DATE:20210323
DTEND;TZID=UTC;VALUE=DATE:20210324
SEQUENCE:0
TRANSP:OPAQUE
END:VEVENT
END:VCALENDAR