BEGIN:VCALENDAR
VERSION:2.0
PRODID:-//jEvents 2.0 for Joomla//EN
CALSCALE:GREGORIAN
METHOD:PUBLISH
BEGIN:VEVENT
UID:8631c7d55802ce3d168d4ba925cab189
CATEGORIES:Polar Online Events
CREATED:20210310T125807
SUMMARY:ACCAP - Alaska Drought Webinar Series
LOCATION:Online
DESCRIPTION:Alaska Drought Webinar Series - all @12pmTuesday March 16 - What does droug
 ht look like in Interior AlaskaTuesday March 23 - What does drought look li
 ke in Northwest Alaska(https://uaf-accap.org/research-activities/alaska-dro
 ught-webinar-series/) What does drought look like in your region?Participan
 ts are welcome to join other regional sessions to learn about what drought 
 looks like and what others have experienced during unusually dry times. Inf
 ormation shared in these listening sessions will help to inform a future in
 -person workshop on drought preparation, once it is safe. Goals of the drou
 ght webinar series\n - Participants will get a better sense of drought or u
 nusual dryness, impacts of drought and interconnections in Alaska.\n - Part
 icipants will share information and resources to raise awareness about drou
 ght and lead to changes in response to dry conditions.\n - Information shar
 ed will help to organize a future in-person workshop to help communities pr
 epare for drought in the future.More information and registration: <a href=
 "https://uaf-accap.org/research-activities/alaska-drought-webinar-series/" 
 target="_blank" rel="noopener">https://uaf-accap.org/research-activities/al
 aska-drought-webinar-series/</a>
X-ALT-DESC;FMTTYPE=text/html:<div dir="ltr"><div dir="ltr"><div dir="ltr"><div dir="ltr"><div dir="ltr">
 <div dir="ltr"><div dir="ltr"><div dir="ltr"><div dir="ltr"><div dir="ltr">
 <div dir="ltr"><div><div><div dir="ltr"><div dir="ltr"><div><strong>Alaska 
 Drought Webinar Series - all @12pm</strong></div><div style="text-align: ju
 stify;"><em>Tuesday March 16 -&nbsp;What does drought look like in Interior
  Alaska</em></div><div style="text-align: justify;"><em>Tuesday March 23 -&
 nbsp;What does drought look like in Northwest Alaska</em></div><div style="
 text-align: justify;">(<a href="https://uaf-accap.org/research-activities/a
 laska-drought-webinar-series/" target="_blank" rel="noopener">https://uaf-a
 ccap.org/research-activities/alaska-drought-webinar-series/</a>)</div><div 
 style="text-align: justify;">&nbsp;</div><div style="text-align: justify;">
 <strong><span style="color: #000000;">What does drought look like in your r
 egion?</span></strong></div></div></div></div></div></div></div></div></div
 ></div></div></div></div></div></div></div><div style="text-align: justify;
 "><div><div><div><span style="color: #000000;">Participants are welcome to 
 join other regional sessions to learn about what drought looks like and wha
 t others have experienced during unusually dry times. Information shared in
  these listening sessions will help to inform a future in-person workshop o
 n drought preparation, once it is safe.</span></div><div><div>&nbsp;</div><
 div>Goals of the drought webinar series</div></div></div></div></div><block
 quote><div><div><div><div><div><ul><li>Participants will get a better sense
  of drought or unusual dryness, impacts of drought and interconnections in 
 Alaska.</li><li>Participants will share information and resources to raise 
 awareness about drought and lead to changes in response to dry conditions.<
 /li><li>Information shared will help to organize a future in-person worksho
 p to help communities prepare for drought in the future.</li></ul></div></d
 iv></div></div></div></blockquote><div><div><div><div style="text-align: ju
 stify;">More information and registration: <a href="https://uaf-accap.org/r
 esearch-activities/alaska-drought-webinar-series/" target="_blank" rel="noo
 pener">https://uaf-accap.org/research-activities/alaska-drought-webinar-ser
 ies/</a></div></div></div></div>
DTSTAMP:20260422T220357Z
DTSTART;TZID=UTC;VALUE=DATE:20210323
DTEND;TZID=UTC;VALUE=DATE:20210324
SEQUENCE:0
TRANSP:OPAQUE
END:VEVENT
END:VCALENDAR