BEGIN:VCALENDAR
VERSION:2.0
PRODID:-//jEvents 2.0 for Joomla//EN
CALSCALE:GREGORIAN
METHOD:PUBLISH
BEGIN:VEVENT
UID:ca092f77b564cf5fc6f89397603bf715
CATEGORIES:Polar Online Events
CREATED:20201023T144544
SUMMARY:AMOS Annual Conference
DESCRIPTION:The Australian Meteorological and Oceanographic Society (AMOS) (https://amo
 s.eventsair.com/amos-2021/about-amos-2021) is delighted to announce the 28t
 h AMOS Annual Conference: ‘Science for Impact’. We will hold this event onl
 ine, 8–12 February 2021. Our ‘Science for Impact’ theme highlights the real
 -world benefits science has, and can continue to have, through collaboratio
 n and partnerships. AMOS 2021 delegates are not just from Australia but fro
 m across the world—researchers, government representatives, NGOs, businesse
 s, students and the media.\n
X-ALT-DESC;FMTTYPE=text/html:<p>The <a href="https://amos.eventsair.com/amos-2021/about-amos-2021">Austr
 alian Meteorological and Oceanographic Society (AMOS)</a> is delighted to a
 nnounce the 28th AMOS Annual Conference: ‘Science for Impact’. We will hold
  this event&nbsp;online,&nbsp;8–12 February 2021. Our&nbsp;‘Science&nbsp;fo
 r&nbsp;Impact’ theme highlights the real-world benefits&nbsp;science&nbsp;h
 as, and can continue to have,&nbsp;through&nbsp;collaboration and partnersh
 ips. AMOS 2021 delegates are not just from Australia but from across the wo
 rld—researchers, government representatives, NGOs, businesses, students and
  the media.</p>
DTSTAMP:20260423T035751Z
DTSTART;TZID=UTC:20210208T080000
DTEND;TZID=UTC:20210212T170000
SEQUENCE:0
TRANSP:OPAQUE
END:VEVENT
END:VCALENDAR