BEGIN:VCALENDAR
VERSION:2.0
PRODID:-//jEvents 2.0 for Joomla//EN
CALSCALE:GREGORIAN
METHOD:PUBLISH
BEGIN:VEVENT
UID:3121825b895691ffdde4574bd5eb712d
CATEGORIES:Polar Online Events
CREATED:20201023T080341
SUMMARY:3rd Meeting of the Chilean Cryosphere Society (SOCHICRI)
LOCATION:Online
DESCRIPTION:It is with great pleasure that we invite you to participate in the 3rd (onl
 ine!) Meeting of the Chilean Cryosphere Society (SOCHICRI), this Thursday 1
 8 and Friday 19 from 9:00AM to about 6:00PM local Chilean time (UTC/GMT -3)
 .\nThe program can be downloaded here: http://sochicri.cl/documentos/2021/p
 r/programa_21.pdf\n\nThe meeting will be live-streamed in <a href="https://
 www.youtube.com/FaugUdeC" target="_blank" rel="noopener">Youtube</a>, Faceb
 ook  (https://www.facebook.com/faugudecoficial/)and <a href="https://www.in
 stagram.com/faugudec" target="_blank" rel="noopener">Instagram </a>so you c
 an post your questions for the talks and posters to be presented\n\nMore in
 fo: http://sochicri.cl/proximos_eventos.html\n\n\nWe hope to see you this w
 eek!\n\nRodrigo Abarca\nAlfonso Fernández\nBenedita Santos\n\nOrganizing Co
 mmittee \nUniversidad de Concepción\n\n\n
X-ALT-DESC;FMTTYPE=text/html:<p style="text-align: justify;">It is with great pleasure that we invite yo
 u to participate in the <strong>3rd (online!) Meeting of the Chilean Cryosp
 here Society (SOCHICRI)</strong>, this<strong> Thursday 18 and Friday 19</s
 trong> from 9:00AM to about 6:00PM local Chilean time (UTC/GMT -3).</p><p s
 tyle="text-align: justify;">The program can be downloaded here: <a href="ht
 tp://sochicri.cl/documentos/2021/pr/programa_21.pdf" target="_blank" rel="n
 oopener">http://sochicri.cl/documentos/2021/pr/programa_21.pdf</a><br /><br
  />The meeting will be live-streamed in <a href="https://www.youtube.com/Fa
 ugUdeC" target="_blank" rel="noopener">Youtube</a>, <a href="https://www.fa
 cebook.com/faugudecoficial/" target="_blank" rel="noopener">Facebook </a>an
 d <a href="https://www.instagram.com/faugudec" target="_blank" rel="noopene
 r">Instagram </a>so you can post your questions for the talks and posters t
 o be presented<br /><br />More info: <a href="http://sochicri.cl/proximos_e
 ventos.html" target="_blank" rel="noopener">http://sochicri.cl/proximos_eve
 ntos.html</a><br /><br /><br />We hope to see you this week!<br /><br />Rod
 rigo Abarca<br />Alfonso Fernández<br />Benedita Santos<br /><br />Organizi
 ng Committee <br />Universidad de Concepción</p><p><span lang="EN-GB"></spa
 n><span lang="EN-GB"><br /></span></p>
DTSTAMP:20260423T054323Z
DTSTART;TZID=UTC;VALUE=DATE:20210318
DTEND;TZID=UTC;VALUE=DATE:20210320
SEQUENCE:0
TRANSP:OPAQUE
END:VEVENT
END:VCALENDAR