BEGIN:VCALENDAR
VERSION:2.0
PRODID:-//jEvents 2.0 for Joomla//EN
CALSCALE:GREGORIAN
METHOD:PUBLISH
BEGIN:VEVENT
UID:3d5a355797cd72465055ca1d9ba2a9e4
CATEGORIES:Polar Online Events
CREATED:20201023T074856
SUMMARY:Principles of Hydrology Short Course (virtual format)
DESCRIPTION:We are pleased to announce that Dr. John Pomeroy will still be offering his
  University of Saskatchewan-based graduate short course, Geography 827- Pri
 nciples of Hydrology, from January 11th to 22nd, 2021. Due to concerns rega
 rding the COVID-19 pandemic, the course will be offered as a condensed mode
 l  and will be hosted online.\nFor information about this course and how to
  apply, go to: https://research-groups.usask.ca/hydrology/training-educatio
 n/intensive-courses/geog-827.php\nPlease feel free to contact <a href="mail
 to:john.pomeroy@usask.ca"> </a>This email address is being protected from s
 pambots. You need JavaScript enabled to view it.
				document.getElementByI
 d('cloak61c3c321f1300b9db30ea66513fe1507').innerHTML = '';
				var prefix =
  '&#109;a' + 'i&#108;' + '&#116;o';
				var path = 'hr' + 'ef' + '=';
				v
 ar addy61c3c321f1300b9db30ea66513fe1507 = 'j&#111;hn.p&#111;m&#101;r&#111;y
 ' + '&#64;';
				addy61c3c321f1300b9db30ea66513fe1507 = addy61c3c321f1300b9
 db30ea66513fe1507 + '&#117;s&#97;sk' + '&#46;' + 'c&#97;';
				var addy_tex
 t61c3c321f1300b9db30ea66513fe1507 = 'j&#111;hn.p&#111;m&#101;r&#111;y(&#97;
 t)&#117;s&#97;sk.c&#97;';document.getElementById('cloak61c3c321f1300b9db30e
 a66513fe1507').innerHTML += '<a ' + path + '\'' + prefix + ':' + addy61c3c3
 21f1300b9db30ea66513fe1507 + '\'>'+addy_text61c3c321f1300b9db30ea66513fe150
 7+'';
		 if you have any questions about course content, or you can contact
  me ( (mailto:Jolana.piercy@usask.ca)This email address is being protected 
 from spambots. You need JavaScript enabled to view it.
				document.getElem
 entById('cloakd14f61e51fda54d905b01677501957c3').innerHTML = '';
				var pr
 efix = '&#109;a' + 'i&#108;' + '&#116;o';
				var path = 'hr' + 'ef' + '=';
 
				var addyd14f61e51fda54d905b01677501957c3 = 'J&#111;l&#97;n&#97;.p&#105
 ;&#101;rcy' + '&#64;';
				addyd14f61e51fda54d905b01677501957c3 = addyd14f6
 1e51fda54d905b01677501957c3 + '&#117;s&#97;sk' + '&#46;' + 'c&#97;';
				va
 r addy_textd14f61e51fda54d905b01677501957c3 = 'J&#111;l&#97;n&#97;.p&#105;&
 #101;rcy(&#97;t)&#117;s&#97;sk.c&#97;';document.getElementById('cloakd14f61
 e51fda54d905b01677501957c3').innerHTML += '<a ' + path + '\'' + prefix + ':
 ' + addyd14f61e51fda54d905b01677501957c3 + '\'>'+addy_textd14f61e51fda54d90
 5b01677501957c3+'';
		) if you have any questions about registering for the
  course.\n
X-ALT-DESC;FMTTYPE=text/html:<p>We are pleased to announce that Dr. John Pomeroy will still be offering 
 his University of Saskatchewan-based graduate short course, Geography 827- 
 Principles of Hydrology, from January 11<sup>th</sup> to 22<sup>nd</sup>, 2
 021. Due to concerns regarding the COVID-19 pandemic, the course will be of
 fered as a condensed model &nbsp;and will be hosted online.</p><p>For infor
 mation about this course and how to apply, go to: <a href="https://research
 -groups.usask.ca/hydrology/training-education/intensive-courses/geog-827.ph
 p">https://research-groups.usask.ca/hydrology/training-education/intensive-
 courses/geog-827.php</a></p><p>Please feel free to contact <a href="mailto:
 john.pomeroy@usask.ca"> </a><span id="cloak61c3c321f1300b9db30ea66513fe1507
 ">This email address is being protected from spambots. You need JavaScript 
 enabled to view it.</span><script type='text/javascript'>
				document.getE
 lementById('cloak61c3c321f1300b9db30ea66513fe1507').innerHTML = '';
				var
  prefix = '&#109;a' + 'i&#108;' + '&#116;o';
				var path = 'hr' + 'ef' + '
 =';
				var addy61c3c321f1300b9db30ea66513fe1507 = 'j&#111;hn.p&#111;m&#101
 ;r&#111;y' + '&#64;';
				addy61c3c321f1300b9db30ea66513fe1507 = addy61c3c3
 21f1300b9db30ea66513fe1507 + '&#117;s&#97;sk' + '&#46;' + 'c&#97;';
				var
  addy_text61c3c321f1300b9db30ea66513fe1507 = 'j&#111;hn.p&#111;m&#101;r&#11
 1;y(&#97;t)&#117;s&#97;sk.c&#97;';document.getElementById('cloak61c3c321f13
 00b9db30ea66513fe1507').innerHTML += '<a ' + path + '\'' + prefix + ':' + a
 ddy61c3c321f1300b9db30ea66513fe1507 + '\'>'+addy_text61c3c321f1300b9db30ea6
 6513fe1507+'<\/a>';
		</script> if you have any questions about course cont
 ent, or you can contact me (<a href="mailto:Jolana.piercy@usask.ca"></a><sp
 an id="cloakd14f61e51fda54d905b01677501957c3">This email address is being p
 rotected from spambots. You need JavaScript enabled to view it.</span><scri
 pt type='text/javascript'>
				document.getElementById('cloakd14f61e51fda54
 d905b01677501957c3').innerHTML = '';
				var prefix = '&#109;a' + 'i&#108;'
  + '&#116;o';
				var path = 'hr' + 'ef' + '=';
				var addyd14f61e51fda54d
 905b01677501957c3 = 'J&#111;l&#97;n&#97;.p&#105;&#101;rcy' + '&#64;';
				a
 ddyd14f61e51fda54d905b01677501957c3 = addyd14f61e51fda54d905b01677501957c3 
 + '&#117;s&#97;sk' + '&#46;' + 'c&#97;';
				var addy_textd14f61e51fda54d90
 5b01677501957c3 = 'J&#111;l&#97;n&#97;.p&#105;&#101;rcy(&#97;t)&#117;s&#97;
 sk.c&#97;';document.getElementById('cloakd14f61e51fda54d905b01677501957c3')
 .innerHTML += '<a ' + path + '\'' + prefix + ':' + addyd14f61e51fda54d905b0
 1677501957c3 + '\'>'+addy_textd14f61e51fda54d905b01677501957c3+'<\/a>';
		<
 /script>) if you have any questions about registering for the course.</p>
DTSTAMP:20260423T035755Z
DTSTART;TZID=UTC:20210111T080000
DTEND;TZID=UTC:20210111T170000
SEQUENCE:0
TRANSP:OPAQUE
END:VEVENT
END:VCALENDAR