BEGIN:VCALENDAR
VERSION:2.0
PRODID:-//jEvents 2.0 for Joomla//EN
CALSCALE:GREGORIAN
METHOD:PUBLISH
BEGIN:VEVENT
UID:0994220a16cd4b5cfc185a1201494195
CATEGORIES:Polar Conferences, Meetings and Events
CREATED:20200722T072841
SUMMARY:International Symposium on Interactions of Ice Sheets and Glaciers with the Ocean
LOCATION:La Jolla\, California\, USA
DESCRIPTION:The first circular for the ‘International Symposium on Interactions of Ice 
 Sheets and Glaciers with the Ocean’ to be held in La Jolla, California, USA
 , 27 June–2 July 2021, is now online.\nPlease visit https://www.igsoc.org/s
 ymposia/2021/lajolla/\nRegistration will open soon, watch this space.\n
X-ALT-DESC;FMTTYPE=text/html:<p>The first circular for the ‘International Symposium on Interactions of I
 ce Sheets and Glaciers with the Ocean’ to be held in La Jolla, California, 
 USA, 27 June–2 July 2021, is now online.</p><p>Please visit <a href="https:
 //www.igsoc.org/symposia/2021/lajolla/" target="_blank" rel="noopener" data
 -saferedirecturl="https://www.google.com/url?q=https://www.igsoc.org/sympos
 ia/2021/lajolla/&amp;source=gmail&amp;ust=1595488843048000&amp;usg=AFQjCNF-
 QPEDI8DkKqJyywJkB5qCb_r7-w">https://www.igsoc.org/symposia/2021/lajolla/</a
 ></p><p>Registration will open soon, watch this space.</p>
DTSTAMP:20260425T153146Z
DTSTART;TZID=UTC;VALUE=DATE:20210627
DTEND;TZID=UTC;VALUE=DATE:20210703
SEQUENCE:0
TRANSP:OPAQUE
END:VEVENT
END:VCALENDAR