BEGIN:VCALENDAR
VERSION:2.0
PRODID:-//jEvents 2.0 for Joomla//EN
CALSCALE:GREGORIAN
METHOD:PUBLISH
BEGIN:VEVENT
UID:b59413da505600b3f245ddbd92f81efd
CATEGORIES:Polar Online Events
CREATED:20200625T122010
SUMMARY:Eurosoil 2021
LOCATION:Online
DESCRIPTION:THE EUROSOIL 2021 GENEVA CONGRESS HAS GONE FULLY VIRTUAL: 23-27 AUGUST 2021
 The registration deadlines have been aligned to the new congress dates as f
 ollows:Early Bird Registration: until 26 May 2021 (23:59 CET)\n Regular Reg
 istration: until 18 August 2021 (23:59 CET)\n Late/On-Site Registration: fr
 om 19 August 2021\nThe objective of Eurosoil 2021 is to bring together, in 
 a safe online space, leading research scientists working on soil related to
 pics and stakeholders dealing with issues of public concern, such as soil d
 egradation and consequences of climatic changes. The important bridging rol
 e of soil practitioners to translate scientific knowledge into practice wil
 l be emphasised during the virtual edition of Eurosoil 2021.\nClick here (h
 ttps://eurosoil2020.com/geneva-and-venue/#1588686585087-620419c6-a094) to v
 iew the FAQ’s on our website\nWe thank you for your attention – please keep
  updated by visiting the Eurosoil 2021 <a href="https://eurosoil2020.com/" 
 target="_blank" rel="noopener">website</a> regularly.\nThe Eurosoil 2021 Or
 ganising Committee\n 
X-ALT-DESC;FMTTYPE=text/html:<div id="pum_popup_title_2976" class="pum-title popmake-title"><h3>THE EURO
 SOIL 2021 GENEVA CONGRESS HAS GONE FULLY VIRTUAL:&nbsp;23-27 AUGUST 2021</h
 3></div><div class="pum-content popmake-content"><div class="vc_row wpb_row
  vc_row-fluid vc_custom_1588793207464 vc_row-has-fill"><div class="pop-colu
 mn wpb_column vc_column_container vc_col-sm-12"><div class="vc_column-inner
  vc_custom_1588793322745"><div class="wpb_wrapper"><div class="wpb_text_col
 umn wpb_content_element"><div class="wpb_wrapper">The registration deadline
 s have been aligned to the new congress dates as follows:<p><strong>Early B
 ird Registration: until 26 May 2021 (23:59 CET)</strong><br /> <strong>Regu
 lar Registration: until 18 August 2021 (23:59 CET)</strong><br /> <strong>L
 ate/On-Site Registration: from 19 August 2021</strong></p></div></div><em>T
 he objective of Eurosoil 2021 is to bring together, in a safe online space,
  leading research scientists working on soil related topics and stakeholder
 s dealing with issues of public concern, such as soil degradation and conse
 quences of climatic changes. The important bridging role of soil practition
 ers to translate scientific knowledge into practice will be emphasised duri
 ng the virtual edition of Eurosoil 2021.</em><br /><div class="wpb_text_col
 umn wpb_content_element"><div class="wpb_wrapper"><p>Click <a href="https:/
 /eurosoil2020.com/geneva-and-venue/#1588686585087-620419c6-a094">here</a> t
 o view the FAQ’s on our website</p></div></div><div class="wpb_text_column 
 wpb_content_element"><div class="wpb_wrapper"><p>We thank you for your atte
 ntion – please keep updated by visiting the Eurosoil 2021&nbsp;<a href="htt
 ps://eurosoil2020.com/" target="_blank" rel="noopener">website</a> regularl
 y.</p><p><strong>The Eurosoil 2021 Organising Committee</strong></p></div><
 /div></div></div></div></div><div class="vc_row wpb_row vc_row-fluid"><div 
 class="button-pop wpb_column vc_column_container vc_col-sm-12"><div class="
 vc_column-inner vc_custom_1588794222614"><div class="wpb_wrapper"><div clas
 s="wpb_raw_code wpb_content_element wpb_raw_html"><div class="wpb_wrapper">
 &nbsp;</div></div></div></div></div></div></div>
DTSTAMP:20260423T035751Z
DTSTART;TZID=UTC;VALUE=DATE:20210823
DTEND;TZID=UTC;VALUE=DATE:20210828
SEQUENCE:0
TRANSP:OPAQUE
END:VEVENT
END:VCALENDAR