BEGIN:VCALENDAR
VERSION:2.0
PRODID:-//jEvents 2.0 for Joomla//EN
CALSCALE:GREGORIAN
METHOD:PUBLISH
BEGIN:VEVENT
UID:740ed19d8cc4f919b5b5d27a7ca67cd4
CATEGORIES:Polar Conferences, Meetings and Events
CREATED:20160418T221618
SUMMARY:22nd International Symposium on Polar Sciences
LOCATION:Incheon\, Korea
DESCRIPTION:Recent climate changes in the Arctic have radically transformed the region’
 s environmental, economic, and political landscapes and these changes have 
 also affected other parts of the globe, leaving the world with a range of i
 ssues and challenges.\nThe 2016 International Symposium on Polar Sciences i
 s organized in an effort to is organized in an effort to understand the acc
 elerating changes in Arctic and to reflect on how to prepare for their anti
 cipated impacts, and thus is entitled “The Future of the Arctic: Science an
 d Governance”.\nThe symposium is organized into six sessions to share and d
 iscuss current scientific achievements and law and policy based efforts, wh
 ich will help guide future research and observations of the rapidly changin
 g Arctic:\nObservations of the changing Arctic atmosphere\nModelling the ph
 ysical processes of Arctic climate system\nClimate change and Arctic terres
 trial ecosystems\nSea ice networks for observation and prediction\nScience,
  law and Arctic future\nSocial and human science research on the Arctic: re
 cent Korean efforts\nAbstract submission (https://symposium.kopri.re.kr/reg
 i-abs.html) closes on 25 March. <a href="https://symposium.kopri.re.kr/regi
 -abs.html">Registration</a> closes on 22 April.\nMore information here: htt
 p://symposium.kopri.re.kr\n
X-ALT-DESC;FMTTYPE=text/html:<p>Recent climate changes in the Arctic have radically transformed the regi
 on’s environmental, economic, and political landscapes and these changes ha
 ve also affected other parts of the globe, leaving the world with a range o
 f issues and challenges.</p><p>The 2016 International Symposium on Polar Sc
 iences is organized in an effort to is organized in an effort to understand
  the accelerating changes in Arctic and to reflect on how to prepare for th
 eir anticipated impacts, and thus is entitled “The Future of the Arctic: Sc
 ience and Governance”.</p><p>The symposium is organized into six sessions t
 o share and discuss current scientific achievements and law and policy base
 d efforts, which will help guide future research and observations of the ra
 pidly changing Arctic:</p><p>Observations of the changing Arctic atmosphere
 <br />Modelling the physical processes of Arctic climate system<br />Climat
 e change and Arctic terrestrial ecosystems<br />Sea ice networks for observ
 ation and prediction<br />Science, law and Arctic future<br />Social and hu
 man science research on the Arctic: recent Korean efforts</p><p><strong><a 
 href="https://symposium.kopri.re.kr/regi-abs.html">Abstract submission</a> 
 closes on 25 March. <a href="https://symposium.kopri.re.kr/regi-abs.html">R
 egistration</a> closes on 22 April.</strong></p><p>More information here: <
 a href="http://symposium.kopri.re.kr">http://symposium.kopri.re.kr</a></p>
CONTACT:Korea Polar Research Institute, This email address is being protected from spambots. You need JavaScript enabled to view it.
				document.getElementById('cloak59e6590cec8a46d1760963966b47c6b1').innerHTML = '';
				var prefix = '&#109;a' + 'i&#108;' + '&#116;o';
				var path = 'hr' + 'ef' + '=';
				var addy59e6590cec8a46d1760963966b47c6b1 = 'symp&#111;s&#105;&#117;m' + '&#64;';
				addy59e6590cec8a46d1760963966b47c6b1 = addy59e6590cec8a46d1760963966b47c6b1 + 'p&#111;l&#97;r' + '&#46;' + 'r&#101;' + '&#46;' + 'kr';
				var addy_text59e6590cec8a46d1760963966b47c6b1 = 'symp&#111;s&#105;&#117;m' + '&#64;' + 'p&#111;l&#97;r' + '&#46;' + 'r&#101;' + '&#46;' + 'kr';document.getElementById('cloak59e6590cec8a46d1760963966b47c6b1').innerHTML += '<a ' + path + '\'' + prefix + ':' + addy59e6590cec8a46d1760963966b47c6b1 + '\'>'+addy_text59e6590cec8a46d1760963966b47c6b1+'';
		
DTSTAMP:20260424T040522Z
DTSTART;TZID=UTC;VALUE=DATE:20160510
DTEND;TZID=UTC;VALUE=DATE:20160512
SEQUENCE:0
TRANSP:OPAQUE
END:VEVENT
END:VCALENDAR