BEGIN:VCALENDAR
VERSION:2.0
PRODID:-//jEvents 2.0 for Joomla//EN
CALSCALE:GREGORIAN
METHOD:PUBLISH
BEGIN:VEVENT
UID:900c22e6ac3c81a6701acc85ad36a61b
CATEGORIES:Polar Conferences, Meetings and Events
CREATED:20200623T143738
SUMMARY:WAIS community discussions covering race and racism in West Antarctic research and early-career impacts of CoViD-19
DESCRIPTION:We hope that you are doing well in these difficult times. In an effort to e
 nsure the health and safety of our community, we want to let you all know t
 hat the 2021 West Antarctic Ice Sheet (WAIS) Workshop will not be an in-per
 son meeting this fall. Instead, we are planning to have community-oriented 
 discussions on 6-7 October 2020 focused on addressing racial diversity and 
 inclusion and supporting early-career researchers (ECRs) in the WAIS commun
 ity. \n \n One of the defining aspects of WAIS Workshops is the encourageme
 nt of interdisciplinary scientific exchanges across career levels, and we w
 ant to make sure that there are still forums for such fruitful, engaging di
 scourse among our West Antarctic research community in spite of COVID-19. T
 o retain a semblance of that unique environment, the WAIS Workshop Organize
 rs are planning to facilitate  a series of distributed science sessions for
  interested community members that will begin before October. These session
 s will meet virtually every few weeks as small groups (&lt;15 people) for a
  series of short research talks (5-10 minutes) followed by WAIS-style discu
 ssion. The groups will be shuffled between sessions to promote diverse view
 points on our scientific questions.\n \n These WAIS activities that are in 
 lieu of an in-person workshop will be at no cost to participants. We plan t
 o provide details on the activities by the end of July. \n \n In the meanti
 me, however, please reach out to your ECR mentee/mentor that you were paire
 d with at the 2019 WAIS Workshop. If you are new to the WAIS community and/
 or would like to now participate as an ECR mentee (defined here as undergra
 duate to ≤10 years from PhD) or as a non-ECR mentor, please contact Lauren 
 Simkins ( (mailto:lsimkins@virginia.edu)This email address is being protect
 ed from spambots. You need JavaScript enabled to view it.
				document.getE
 lementById('cloakbdeeb4ac2d455d5adc9ded065ec6c70a').innerHTML = '';
				var
  prefix = '&#109;a' + 'i&#108;' + '&#116;o';
				var path = 'hr' + 'ef' + '
 =';
				var addybdeeb4ac2d455d5adc9ded065ec6c70a = 'ls&#105;mk&#105;ns' + '
 &#64;';
				addybdeeb4ac2d455d5adc9ded065ec6c70a = addybdeeb4ac2d455d5adc9d
 ed065ec6c70a + 'v&#105;rg&#105;n&#105;&#97;' + '&#46;' + '&#101;d&#117;';
	
 			var addy_textbdeeb4ac2d455d5adc9ded065ec6c70a = 'ls&#105;mk&#105;ns' + '
 &#64;' + 'v&#105;rg&#105;n&#105;&#97;' + '&#46;' + '&#101;d&#117;';document
 .getElementById('cloakbdeeb4ac2d455d5adc9ded065ec6c70a').innerHTML += '<a '
  + path + '\'' + prefix + ':' + addybdeeb4ac2d455d5adc9ded065ec6c70a + '\'>
 '+addy_textbdeeb4ac2d455d5adc9ded065ec6c70a+'';
		). \n \n Sincerely, \n \n
  The WAIS Organizing Committee\n
X-ALT-DESC;FMTTYPE=text/html:<p>We hope that you are doing well in these difficult times. In an effort t
 o ensure the health and safety of our community, we want to let you all kno
 w that the 2021 West Antarctic Ice Sheet (WAIS) Workshop will not be an in-
 person meeting this fall. Instead, we are planning to have&nbsp;<strong>com
 munity-oriented discussions</strong>&nbsp;on 6-7 October 2020 focused on ad
 dressing racial diversity and inclusion and supporting early-career researc
 hers (ECRs) in the WAIS community.&nbsp;<br /> <br /> One of the defining a
 spects of WAIS Workshops is the encouragement of interdisciplinary scientif
 ic exchanges across career levels, and we want to make sure that there are 
 still forums for such fruitful, engaging discourse among our West Antarctic
  research community in spite of COVID-19. To retain a semblance of that uni
 que environment, the WAIS Workshop Organizers are planning to facilitate&nb
 sp;&nbsp;a series of&nbsp;<strong>distributed science sessions</strong>&nbs
 p;for interested community members that will begin before October. These se
 ssions will meet virtually every few weeks as small groups (&lt;15 people) 
 for a series of short research talks (5-10 minutes) followed by WAIS-style 
 discussion. The groups will be shuffled between sessions to promote diverse
  viewpoints on our scientific questions.<br /> <br /> These WAIS activities
  that are in lieu of an in-person workshop will be at no cost to participan
 ts. We plan to provide details on the activities by the end of July.&nbsp;<
 br /> <br /> In the meantime, however, please reach out to your ECR mentee/
 mentor that you were paired with at the 2019 WAIS Workshop. If you are new 
 to the WAIS community and/or would like to now participate as an ECR mentee
  (defined here as undergraduate to ≤10 years from PhD) or as a non-ECR ment
 or, please contact Lauren Simkins (<a href="mailto:lsimkins@virginia.edu" t
 arget="_blank"></a><span id="cloakbdeeb4ac2d455d5adc9ded065ec6c70a">This em
 ail address is being protected from spambots. You need JavaScript enabled t
 o view it.</span><script type='text/javascript'>
				document.getElementByI
 d('cloakbdeeb4ac2d455d5adc9ded065ec6c70a').innerHTML = '';
				var prefix =
  '&#109;a' + 'i&#108;' + '&#116;o';
				var path = 'hr' + 'ef' + '=';
				v
 ar addybdeeb4ac2d455d5adc9ded065ec6c70a = 'ls&#105;mk&#105;ns' + '&#64;';
	
 			addybdeeb4ac2d455d5adc9ded065ec6c70a = addybdeeb4ac2d455d5adc9ded065ec6c
 70a + 'v&#105;rg&#105;n&#105;&#97;' + '&#46;' + '&#101;d&#117;';
				var ad
 dy_textbdeeb4ac2d455d5adc9ded065ec6c70a = 'ls&#105;mk&#105;ns' + '&#64;' + 
 'v&#105;rg&#105;n&#105;&#97;' + '&#46;' + '&#101;d&#117;';document.getEleme
 ntById('cloakbdeeb4ac2d455d5adc9ded065ec6c70a').innerHTML += '<a ' + path +
  '\'' + prefix + ':' + addybdeeb4ac2d455d5adc9ded065ec6c70a + '\'>'+addy_te
 xtbdeeb4ac2d455d5adc9ded065ec6c70a+'<\/a>';
		</script>).&nbsp;<br /> <br /
 > Sincerely,&nbsp;<br /> <br /> The WAIS Organizing Committee</p>
DTSTAMP:20260425T183328Z
DTSTART;TZID=UTC:20201006T080000
DTEND;TZID=UTC:20201007T170000
SEQUENCE:0
TRANSP:OPAQUE
END:VEVENT
END:VCALENDAR