BEGIN:VCALENDAR
VERSION:2.0
PRODID:-//jEvents 2.0 for Joomla//EN
CALSCALE:GREGORIAN
METHOD:PUBLISH
BEGIN:VEVENT
UID:2f6751f7720074d12f43b781eef53b26
CATEGORIES:Polar Conferences, Meetings and Events
CREATED:20200623T143044
SUMMARY:Arctic Science Storytelling Webinar with Filmmaker Michael Snyder
DESCRIPTION:The  (MiH-RCN) announces an Arctic Science Storytelling Webinar with filmma
 ker Michael Snyder. This webinar will take place on 24 June 2020 from 10:00
  to 11:30 a.m. AKDT.\nWebinar Description:\nJoin the Migration in Harmony N
 SF-Research Coordination Network and our collaborator, award-winning filmma
 ker Mike Snyder, in this virtual workshop to learn how you should think abo
 ut your research topics and experiences in the context of a story, how to d
 evelop photographer and videographer partnerships, and how to pitch your wo
 rk to different outlets.\nMichael O. Snyder is a photographer, filmmaker, a
 nd environmental scientist who uses his combined knowledge of visual storyt
 elling and conservation to create narratives that connect people to the oth
 er-than-human-world and drive social change. As founder of Interdependent P
 ictures, he has directed films in the Arctic and his Arctic science storyte
 lling has been featured in National Geographic.\nFor more information and t
 o register for the webinar, go to:\n <a href="https://www.arcus.org/sites/a
 ll/modules/civicrm/extern/url.php?u=23650&amp;qid=4059756" target="_blank" 
 rel="nofollow noopener" data-saferedirecturl="https://www.google.com/url?q=
 https://www.arcus.org/sites/all/modules/civicrm/extern/url.php?u%3D23650%26
 qid%3D4059756&amp;source=gmail&amp;ust=1592984863165000&amp;usg=AFQjCNEA6jq
 yP9-D6MeKY1kggrd3PImUyA">Webinar webpage</a>\n
X-ALT-DESC;FMTTYPE=text/html:<p>The <a href="https://www.arcus.org/sites/all/modules/civicrm/extern/url.
 php?u=23651&amp;qid=4059756" target="_blank" rel="nofollow noopener" data-s
 aferedirecturl="https://www.google.com/url?q=https://www.arcus.org/sites/al
 l/modules/civicrm/extern/url.php?u%3D23651%26qid%3D4059756&amp;source=gmail
 &amp;ust=1592984863165000&amp;usg=AFQjCNEVlarHz0CLVsSR-mevETSj1OOwnQ">Migra
 tion in Harmony Research Coordination Network</a> (MiH-RCN) announces an Ar
 ctic Science Storytelling Webinar with filmmaker Michael Snyder. This webin
 ar will take place on 24 June 2020 from 10:00 to 11:30 a.m. AKDT.</p><p><st
 rong>Webinar Description:</strong></p><p>Join the Migration in Harmony NSF-
 Research Coordination Network and our collaborator, award-winning filmmaker
  Mike Snyder, in this virtual workshop to learn how you should think about 
 your research topics and experiences in the context of a story, how to deve
 lop photographer and videographer partnerships, and how to pitch your work 
 to different outlets.</p><p>Michael O. Snyder is a photographer, filmmaker,
  and environmental scientist who uses his combined knowledge of visual stor
 ytelling and conservation to create narratives that connect people to the o
 ther-than-human-world and drive social change. As founder of Interdependent
  Pictures, he has directed films in the Arctic and his Arctic science story
 telling has been featured in National Geographic.</p><p>For more informatio
 n and to register for the webinar, go to:<br /> <a href="https://www.arcus.
 org/sites/all/modules/civicrm/extern/url.php?u=23650&amp;qid=4059756" targe
 t="_blank" rel="nofollow noopener" data-saferedirecturl="https://www.google
 .com/url?q=https://www.arcus.org/sites/all/modules/civicrm/extern/url.php?u
 %3D23650%26qid%3D4059756&amp;source=gmail&amp;ust=1592984863165000&amp;usg=
 AFQjCNEA6jqyP9-D6MeKY1kggrd3PImUyA">Webinar webpage</a></p>
DTSTAMP:20260425T152920Z
DTSTART;TZID=UTC:20200624T080000
DTEND;TZID=UTC:20200624T170000
SEQUENCE:0
TRANSP:OPAQUE
END:VEVENT
END:VCALENDAR