BEGIN:VCALENDAR
VERSION:2.0
PRODID:-//jEvents 2.0 for Joomla//EN
CALSCALE:GREGORIAN
METHOD:PUBLISH
BEGIN:VEVENT
UID:97aca5866608fe76f61187b208420a20
CATEGORIES:Polar Conferences, Meetings and Events
CREATED:20200615T194738
SUMMARY:IGS Global Seminar: Major glaciological changes by the three big ones on Greenland at the onset of the 20th century
DESCRIPTION:June 24th Camilla Snowman Andresen, GEUS Denmark, "'Major glaciological cha
 nges by the three big ones on Greenland at the onset of the 20th century"\n
X-ALT-DESC;FMTTYPE=text/html:<p>June 24th Camilla Snowman Andresen, GEUS Denmark, "'Major glaciological 
 changes by the three big ones on Greenland at the onset of the 20th century
 "</p>
DTSTAMP:20260425T214639Z
DTSTART;TZID=UTC:20200624T080000
DTEND;TZID=UTC:20200624T170000
SEQUENCE:0
TRANSP:OPAQUE
END:VEVENT
END:VCALENDAR