BEGIN:VCALENDAR
VERSION:2.0
PRODID:-//jEvents 2.0 for Joomla//EN
CALSCALE:GREGORIAN
METHOD:PUBLISH
BEGIN:VEVENT
UID:a0222bfc077e9aef5553e9749e18501d
CATEGORIES:APECS Events
CREATED:20161016T212617
SUMMARY:APECS Workshop at ASSW 2017
LOCATION:Prague\, Czech Republic
DESCRIPTION:APECS will be organizing a career development workshop at the Arctic Scienc
 e Summit Week 2017 in Prague, Czech Republic on 2 April 2017. For more info
 rmation visit the . \n
X-ALT-DESC;FMTTYPE=text/html:<p>APECS will be organizing a career development workshop at the Arctic Sci
 ence Summit Week 2017 in <strong>Prague, Czech Republic</strong> on <strong
 >2 April 2017</strong>. For more information visit the <a href="index.php?o
 ption=com_content&view=category&layout=blog&id=277&Itemid=1490">workshop we
 bsite</a>. </p>
CONTACT:This email address is being protected from spambots. You need JavaScript enabled to view it.
				document.getElementById('cloakf1ed03c076746e25be15d5efb52ea2e7').innerHTML = '';
				var prefix = '&#109;a' + 'i&#108;' + '&#116;o';
				var path = 'hr' + 'ef' + '=';
				var addyf1ed03c076746e25be15d5efb52ea2e7 = '&#105;nf&#111;' + '&#64;';
				addyf1ed03c076746e25be15d5efb52ea2e7 = addyf1ed03c076746e25be15d5efb52ea2e7 + '&#97;p&#101;cs' + '&#46;' + '&#105;s';
				var addy_textf1ed03c076746e25be15d5efb52ea2e7 = '&#105;nf&#111;' + '&#64;' + '&#97;p&#101;cs' + '&#46;' + '&#105;s';document.getElementById('cloakf1ed03c076746e25be15d5efb52ea2e7').innerHTML += '<a ' + path + '\'' + prefix + ':' + addyf1ed03c076746e25be15d5efb52ea2e7 + '\'>'+addy_textf1ed03c076746e25be15d5efb52ea2e7+'';
		
DTSTAMP:20260424T034244Z
DTSTART;TZID=UTC;VALUE=DATE:20170402
DTEND;TZID=UTC;VALUE=DATE:20170403
SEQUENCE:0
TRANSP:OPAQUE
END:VEVENT
END:VCALENDAR