BEGIN:VCALENDAR
VERSION:2.0
PRODID:-//jEvents 2.0 for Joomla//EN
CALSCALE:GREGORIAN
METHOD:PUBLISH
BEGIN:VEVENT
UID:06c0a5eeb0f62fb89d3f8189bd0abeb6
CATEGORIES:Polar Conferences, Meetings and Events
CREATED:20200512T085033
SUMMARY:International Symposium on Ice, Snow and Water in a Warming World
LOCATION:Reykjavik\, Iceland
DESCRIPTION:The symposium: Cryosphere 2022: Ice, Snow and Water in a Warming World will
  be held in the Harpa Conference Centre, Reykjavík, Iceland, on August 21-2
 6 2022. See: https://www.cryosphere2022.is\nPlenary talks and sessions will
  focus on all components of Earth´s cryosphere and ongoing changes in their
  extent and volume: Earth's snow cover, glaciers and ice caps, the Greenlan
 d Ice Sheet, the Antarctic Ice Sheet, sea ice cover, permafrost/frozen grou
 nd, lake and river ice. Sessions will also be held on climate variations, t
 he cryosphere in high mountain areas, Earth systems modelling, new technolo
 gies, and adaptation and mitigation efforts with focus on communities affec
 ted by cryospheric change. The symposium will allow time for panel discussi
 ons on research gaps and future perspectives. Progress towards the goal of 
 limiting global warming to 1.5°C as emphasised during COP-26 in Glasgow wil
 l be highlighted.\nIn response to several inquiries, it has been decided to
  run parallel sessions on specialized session topics, if a high number of a
 bstracts is received on particular topics.\nThe International Glaciological
  Society (IGS) will publish a thematic issue of Annals of Glaciology, conta
 ining peer-reviewed papers presented at the conference. Chief editor: Prof.
  Regine Hock, University of Oslo and University of Alaska Fairbanks.\nThis 
 symposium is co-sponsored by many universities, research institutes and ass
 ociations, including the International Glaciological Society (IGS), the Wor
 ld Meteorological Office (WMO), UNESCO and IASC.Cryosphere 2020 postponed u
 ntil 2022\nAs a result of global atmospheric warming, all components of Ear
 th´s cryosphere are now changing at a dramatic pace. More than a quarter of
  the planet´s land surface receives snow precipitation each year and declin
 ing snow cover in many parts of the world is causing concern for the future
  of wintertime recreation activities. Water stored as snow and ice makes a 
 critical contribution to the world’s available freshwater supply and is ess
 ential to the sustenance of natural ecosystems, agriculture and human socie
 ties. Mass loss continues from glaciers and ice fields in all mountainous r
 egions of the world and from Arctic and sub-Arctic ice caps. The two large 
 ice sheets in Greenland and Antarctica are major contributors to rising sea
 -level and are now beginning to show signs of irreversible mass loss. The a
 real extent and thickness of Arctic sea ice cover continues to decline and 
 the resulting albedo changes are now believed to affect winter weather patt
 erns in North America and Eurasia. Increasing attention is being given to h
 azards due to thinning of lake and river ice cover and permafrost degradati
 on, including slope failure, which calls for increased in situ monitoring a
 nd the development of new remote sensing techniques.\nThis symposium will b
 ring together scientists, stakeholders and policy makers for a discussion o
 n the latest results from studies of the entire cryosphere, which plays an 
 important role in the hydrological cycle and the Earth System and is one of
  the most useful indicators of climate change. The symposium will allow amp
 le time for panel discussions on scientific results, new technologies, rese
 arch gaps and future perspectives in the light of the Paris Agreement, whic
 h calls for limiting global warming to 1.5–2°C.\nImportant dates:\nDecember
  2020 - Symposium postponed until 2022\n10 January 2022 - Early bird regist
 ration opens\n10 January 2022 - Opening of online abstract submission\n15 M
 arch 2022 - Abstract submission deadline\n1 May 2022 - Notification of abst
 ract acceptance\n1 June 2022 - End of early bird registration\n1 August 202
 2- Registration deadline\n1 August 2022 - Deadline for fieldtrip registrati
 on\n21 August 2022 - Public session, icebreaker\n22–26 August 2022 - SYMPOS
 IUM IN HARPA\n27 August 2022 - Fieldtrip to Langjökull ice cap\n27–29 Augus
 t 2022 - Three-day fieldtrip in S-Iceland\n
X-ALT-DESC;FMTTYPE=text/html:<p style="text-align: justify;">The symposium: <strong>Cryosphere 2022: Ice
 , Snow and Water in a Warming World</strong> will be held in the Harpa Conf
 erence Centre, Reykjavík, Iceland, on <strong>August 21-26 2022</strong>. S
 ee: <a href="https://www.cryosphere2022.is" target="_blank" rel="noopener">
 https://www.cryosphere2022.is</a></p><p style="text-align: justify;">Plenar
 y talks and sessions will focus on all components of Earth´s cryosphere and
  ongoing changes in their extent and volume: Earth's snow cover, glaciers a
 nd ice caps, the Greenland Ice Sheet, the Antarctic Ice Sheet, sea ice cove
 r, permafrost/frozen ground, lake and river ice. Sessions will also be held
  on climate variations, the cryosphere in high mountain areas, Earth system
 s modelling, new technologies, and adaptation and mitigation efforts with f
 ocus on communities affected by cryospheric change. The symposium will allo
 w time for panel discussions on research gaps and future perspectives. Prog
 ress towards the goal of limiting global warming to 1.5°C as emphasised dur
 ing COP-26 in Glasgow will be highlighted.</p><p style="text-align: justify
 ;">In response to several inquiries, it has been decided to run parallel se
 ssions on specialized session topics, if a high number of abstracts is rece
 ived on particular topics.</p><p style="text-align: justify;">The Internati
 onal Glaciological Society (IGS) will publish a thematic issue of <em>Annal
 s of Glaciology</em>, containing peer-reviewed papers presented at the conf
 erence. Chief editor: Prof. Regine Hock, University of Oslo and University 
 of Alaska Fairbanks.</p><p class="announcement-paragraph" style="text-align
 : justify;"><strong>This symposium is co-sponsored by many universities, re
 search institutes and associations, including the International Glaciologic
 al Society (IGS), the World Meteorological Office (WMO), UNESCO and IASC.Cr
 yosphere 2020 postponed until 2022</strong></p><p style="text-align: justif
 y;">As a result of global atmospheric warming, <strong>all components of Ea
 rth´s cryosphere </strong>are now changing at a dramatic pace. More than a 
 quarter of the planet´s land surface receives <strong>snow precipitation </
 strong>each year and declining snow cover in many parts of the world is cau
 sing concern for the future of wintertime recreation activities. Water stor
 ed as snow and ice makes a critical contribution to the world’s available f
 reshwater supply and is essential to the sustenance of natural ecosystems, 
 agriculture and human societies. Mass loss continues from <strong>glaciers 
 and ice fields </strong>in all mountainous regions of the world and from <s
 trong>Arctic and sub-Arctic ice caps</strong>. The two large <strong>ice sh
 eets in Greenland and Antarctica </strong>are major contributors to rising 
 sea-level and are now beginning to show signs of irreversible mass loss. Th
 e areal extent and thickness of <strong>Arctic sea ice </strong>cover conti
 nues to decline and the resulting albedo changes are now believed to affect
  winter weather patterns in North America and Eurasia. Increasing attention
  is being given to hazards due to thinning of <strong>lake and river ice co
 ver </strong>and <strong>permafrost </strong>degradation, including slope f
 ailure, which calls for increased <em>in situ </em>monitoring and the devel
 opment of new remote sensing techniques.</p><p style="text-align: justify;"
 >This symposium will bring together scientists, stakeholders and policy mak
 ers for a discussion on the latest results from studies of the entire cryos
 phere, which plays an important role in the hydrological cycle and the Eart
 h System and is one of the most useful indicators of climate change. The sy
 mposium will allow ample time for panel discussions on scientific results, 
 new technologies, research gaps and future perspectives in the light of the
  Paris Agreement, which calls for limiting global warming to 1.5–2°C.</p><p
  style="text-align: justify;"><strong>Important dates:</strong></p><p style
 ="text-align: justify;">December 2020 - Symposium postponed until 2022<br /
 >10 January 2022 - Early bird registration opens<br />10 January 2022 - Ope
 ning of online abstract submission<br />15 March 2022 - Abstract submission
  deadline<br />1 May 2022 - Notification of abstract acceptance<br />1 June
  2022 - End of early bird registration<br />1 August 2022- Registration dea
 dline<br />1 August 2022 - Deadline for fieldtrip registration<br />21 Augu
 st 2022 - Public session, icebreaker<br />22–26 August 2022 - SYMPOSIUM IN 
 HARPA<br />27 August 2022 - Fieldtrip to Langjökull ice cap<br />27–29 Augu
 st 2022 - Three-day fieldtrip in S-Iceland</p>
DTSTAMP:20260423T040724Z
DTSTART;TZID=UTC;VALUE=DATE:20220821
DTEND;TZID=UTC;VALUE=DATE:20220827
SEQUENCE:0
TRANSP:OPAQUE
END:VEVENT
END:VCALENDAR