BEGIN:VCALENDAR
VERSION:2.0
PRODID:-//jEvents 2.0 for Joomla//EN
CALSCALE:GREGORIAN
METHOD:PUBLISH
BEGIN:VEVENT
UID:b9507b2e10f55ec7a74bc7f70775e1aa
CATEGORIES:Field and Summer Schools
CREATED:20200428T134200
SUMMARY:North-Eastern Federal University Online Arctic Summer School 2020
DESCRIPTION:The Arctic Summer School 2020 organized by North-Eastern Federal University
  (https://www.uarctic.org/member-profiles/russia/8640/north-eastern-federal
 -university), Russia and <a href="https://www.northernforum.org/en/">Northe
 rn Forum international organization</a> will be held online from July 27 – 
 August 7, 2020\nThe lecture course will focus on the following topics: Deve
 lopment of the Arctic Zone of the Russian Federation, Yakutia’s Regional De
 velopment, Culture of the Indigenous Peoples of Russian Federation, Climate
  Change, etc.\nThe lectures will be held via ZOOM platform. Lectures will b
 e 40 minutes plus 20 minutes for questions and discussion.\nParticipation f
 ee: 100 Euro\nLanguage: English (Lectures are in English or in Russian with
  English simultaneous interpretation.)\nFor application please register at 
  (http://oas.s-vfu.ru/)<a href="http://oas.s-vfu.ru/">http://oas.s-vfu.ru/<
 /a>\nIn case of questions please email  (mailto:international@s-vfu.ru)This
  email address is being protected from spambots. You need JavaScript enable
 d to view it.
				document.getElementById('cloak8057624b19107bbb8604604d015
 3f16c').innerHTML = '';
				var prefix = '&#109;a' + 'i&#108;' + '&#116;o';
 
				var path = 'hr' + 'ef' + '=';
				var addy8057624b19107bbb8604604d0153
 f16c = '&#105;nt&#101;rn&#97;t&#105;&#111;n&#97;l' + '&#64;';
				addy80576
 24b19107bbb8604604d0153f16c = addy8057624b19107bbb8604604d0153f16c + 's-vf&
 #117;' + '&#46;' + 'r&#117;';
				var addy_text8057624b19107bbb8604604d0153
 f16c = '&#105;nt&#101;rn&#97;t&#105;&#111;n&#97;l' + '&#64;' + 's-vf&#117;'
  + '&#46;' + 'r&#117;';document.getElementById('cloak8057624b19107bbb860460
 4d0153f16c').innerHTML += '<a ' + path + '\'' + prefix + ':' + addy8057624b
 19107bbb8604604d0153f16c + '\'>'+addy_text8057624b19107bbb8604604d0153f16c+
 '';
		 or school coordinator Alexandra Ponomareva <a href="mailto:av.ponoma
 reva@s-vfu.ru"></a>This email address is being protected from spambots. You
  need JavaScript enabled to view it.
				document.getElementById('cloak0192
 c9eba6f52e9622ddb0d40e8cb4b1').innerHTML = '';
				var prefix = '&#109;a' +
  'i&#108;' + '&#116;o';
				var path = 'hr' + 'ef' + '=';
				var addy0192c
 9eba6f52e9622ddb0d40e8cb4b1 = '&#97;v.p&#111;n&#111;m&#97;r&#101;v&#97;' + 
 '&#64;';
				addy0192c9eba6f52e9622ddb0d40e8cb4b1 = addy0192c9eba6f52e9622d
 db0d40e8cb4b1 + 's-vf&#117;' + '&#46;' + 'r&#117;';
				var addy_text0192c9
 eba6f52e9622ddb0d40e8cb4b1 = '&#97;v.p&#111;n&#111;m&#97;r&#101;v&#97;' + '
 &#64;' + 's-vf&#117;' + '&#46;' + 'r&#117;';document.getElementById('cloak0
 192c9eba6f52e9622ddb0d40e8cb4b1').innerHTML += '<a ' + path + '\'' + prefix
  + ':' + addy0192c9eba6f52e9622ddb0d40e8cb4b1 + '\'>'+addy_text0192c9eba6f5
 2e9622ddb0d40e8cb4b1+'';
		\nPlease take notice! The Online Arctic Summer S
 chool 2020 will be held only in case of cancellation of full-time Arctic Su
 mmer School (https://www.s-vfu.ru/en/study/arctic_summer_school/) in Yakuts
 k.\n
X-ALT-DESC;FMTTYPE=text/html:<div class="article-intro"><p>The Arctic Summer School 2020 organized by <a
  title="North-Eastern Federal University" href="https://www.uarctic.org/mem
 ber-profiles/russia/8640/north-eastern-federal-university" data-udi="umb://
 document/77ce7d033d534430b2c898e189639304">North-Eastern Federal University
 </a>, Russia and <a href="https://www.northernforum.org/en/">Northern Forum
  international organization</a> will be held online from July 27 – August 7
 , 2020</p></div><div class="article-body"><p>The lecture course will focus 
 on the following topics: Development of the Arctic Zone of the Russian Fede
 ration, Yakutia’s Regional Development, Culture of the Indigenous Peoples o
 f Russian Federation, Climate Change, etc.</p><p>The lectures will be held 
 via ZOOM platform. Lectures will be 40 minutes plus 20 minutes for question
 s and discussion.</p><p><strong>Participation fee:</strong> 100 Euro</p><p>
 <strong>Language:</strong> English (Lectures are in English or in Russian w
 ith English simultaneous interpretation.)</p><p>For application please regi
 ster at <a href="http://oas.s-vfu.ru/"></a><a href="http://oas.s-vfu.ru/">h
 ttp://oas.s-vfu.ru/</a></p><p>In case of questions please email <a href="ma
 ilto:international@s-vfu.ru"></a><span id="cloak8057624b19107bbb8604604d015
 3f16c">This email address is being protected from spambots. You need JavaSc
 ript enabled to view it.</span><script type='text/javascript'>
				document
 .getElementById('cloak8057624b19107bbb8604604d0153f16c').innerHTML = '';
		
 		var prefix = '&#109;a' + 'i&#108;' + '&#116;o';
				var path = 'hr' + 'ef
 ' + '=';
				var addy8057624b19107bbb8604604d0153f16c = '&#105;nt&#101;rn&#
 97;t&#105;&#111;n&#97;l' + '&#64;';
				addy8057624b19107bbb8604604d0153f16
 c = addy8057624b19107bbb8604604d0153f16c + 's-vf&#117;' + '&#46;' + 'r&#117
 ;';
				var addy_text8057624b19107bbb8604604d0153f16c = '&#105;nt&#101;rn&#
 97;t&#105;&#111;n&#97;l' + '&#64;' + 's-vf&#117;' + '&#46;' + 'r&#117;';doc
 ument.getElementById('cloak8057624b19107bbb8604604d0153f16c').innerHTML += 
 '<a ' + path + '\'' + prefix + ':' + addy8057624b19107bbb8604604d0153f16c +
  '\'>'+addy_text8057624b19107bbb8604604d0153f16c+'<\/a>';
		</script> or sc
 hool coordinator Alexandra Ponomareva <a href="mailto:av.ponomareva@s-vfu.r
 u"></a><span id="cloak0192c9eba6f52e9622ddb0d40e8cb4b1">This email address 
 is being protected from spambots. You need JavaScript enabled to view it.</
 span><script type='text/javascript'>
				document.getElementById('cloak0192
 c9eba6f52e9622ddb0d40e8cb4b1').innerHTML = '';
				var prefix = '&#109;a' +
  'i&#108;' + '&#116;o';
				var path = 'hr' + 'ef' + '=';
				var addy0192c
 9eba6f52e9622ddb0d40e8cb4b1 = '&#97;v.p&#111;n&#111;m&#97;r&#101;v&#97;' + 
 '&#64;';
				addy0192c9eba6f52e9622ddb0d40e8cb4b1 = addy0192c9eba6f52e9622d
 db0d40e8cb4b1 + 's-vf&#117;' + '&#46;' + 'r&#117;';
				var addy_text0192c9
 eba6f52e9622ddb0d40e8cb4b1 = '&#97;v.p&#111;n&#111;m&#97;r&#101;v&#97;' + '
 &#64;' + 's-vf&#117;' + '&#46;' + 'r&#117;';document.getElementById('cloak0
 192c9eba6f52e9622ddb0d40e8cb4b1').innerHTML += '<a ' + path + '\'' + prefix
  + ':' + addy0192c9eba6f52e9622ddb0d40e8cb4b1 + '\'>'+addy_text0192c9eba6f5
 2e9622ddb0d40e8cb4b1+'<\/a>';
		</script></p><p><em><strong>Please take not
 ice!</strong> The Online Arctic Summer School 2020 will be held only in cas
 e of cancellation of full-time <a href="https://www.s-vfu.ru/en/study/arcti
 c_summer_school/">Arctic Summer School</a> in Yakutsk.</em></p></div>
DTSTAMP:20260425T181313Z
DTSTART;TZID=UTC:20200428T080000
DTEND;TZID=UTC:20200428T170000
SEQUENCE:0
TRANSP:OPAQUE
END:VEVENT
END:VCALENDAR