BEGIN:VCALENDAR
VERSION:2.0
PRODID:-//jEvents 2.0 for Joomla//EN
CALSCALE:GREGORIAN
METHOD:PUBLISH
BEGIN:VEVENT
UID:f4722e2eb0c012c91f5704b07a3962af
CATEGORIES:Polar Conferences, Meetings and Events
CREATED:20200414T124850
SUMMARY:SIPN2 Webinar: Understanding Stakeholder Information Needs for Sea-Ice Forecasting
DESCRIPTION:SIPN2 Webinar\n Sea Ice Prediction Network – Phase 2 (SIPN2)\nDate: Tuesday
 , 28 April 2020\nTime: 8:00 a.m. to 9:00 a.m. (AKDT)\nWebinar Title: Unders
 tanding Stakeholder Information Needs for Sea-Ice Forecasting\nMore informa
 tion and registration: https://www.arcus.org/sipn/meetings/webinars\nThe Se
 a Ice Prediction Network – Phase 2 (<a href="https://www.arcus.org/sites/al
 l/modules/civicrm/extern/url.php?u=21931&amp;qid=3740927" target="_blank" r
 el="noopener" data-saferedirecturl="https://www.google.com/url?q=https://ww
 w.arcus.org/sites/all/modules/civicrm/extern/url.php?u%3D21931%26qid%3D3740
 927&amp;source=gmail&amp;ust=1586954191321000&amp;usg=AFQjCNGl0jLwjz5Eeks1P
 hSd73ksuptrAg">SIPN2</a>) announces an open webinar entitled, Understanding
  Stakeholder Information Needs for Sea-Ice Forecasting.\nThe one-hour webin
 ar will be held on Tuesday, 28 April 2020, starting at:\n8:00 a.m. (AKDT), 
 9:00 a.m. (PDT), 10:00 a.m. (MDT) 11:00 a.m. (CDT), 12:00 p.m. (EDT), and 6
 :00 p.m. (CEDT).\nThis webinar will include an overview of stakeholder grou
 ps and their information needs, examples of how stakeholder groups deal wit
 h sea-ice and relate to sea-ice information, and discussion of how informat
 ion gathered through stakeholder engagement can be of use to the sea-ice fo
 recasting community. Time for participant questions will follow the present
 ations.\nWebinar Presenters Include:\n\n - Hajo Eicken, Director, Internati
 onal Arctic Research Center;\n - Joseph Little, Experimental Arctic Predict
 ion Initiative, International Arctic Research Center/School of Management;\
 n - Zeke Baker, Postdoctoral Research Associate, University of Oklahoma and
  National Weather Service-Alaska;\n - Marta Terrado, Science Communication 
 Specialist, Barcelona Supercomputing CenterThis webinar is designed for the
  sea-ice research community and others interested in information about unde
 rstanding stakeholder needs for sea-ice forecasting. While this is an open 
 event, attendees should be aware that the discussions will largely be of a 
 technical nature.\nThe webinar will be archived and available online after 
 the event.\nFor questions, please contact:\n Betsy Turner-Bogren\n Email: T
 his email address is being protected from spambots. You need JavaScript ena
 bled to view it.
				document.getElementById('cloaka36ba4518ad5cb468849e9b3
 f9122ced').innerHTML = '';
				var prefix = '&#109;a' + 'i&#108;' + '&#116;
 o';
				var path = 'hr' + 'ef' + '=';
				var addya36ba4518ad5cb468849e9b3f
 9122ced = 'b&#101;tsy' + '&#64;';
				addya36ba4518ad5cb468849e9b3f9122ced 
 = addya36ba4518ad5cb468849e9b3f9122ced + '&#97;rc&#117;s' + '&#46;' + '&#11
 1;rg';
				var addy_texta36ba4518ad5cb468849e9b3f9122ced = 'b&#101;tsy' + '
 &#64;' + '&#97;rc&#117;s' + '&#46;' + '&#111;rg';document.getElementById('c
 loaka36ba4518ad5cb468849e9b3f9122ced').innerHTML += '<a ' + path + '\'' + p
 refix + ':' + addya36ba4518ad5cb468849e9b3f9122ced + '\'>'+addy_texta36ba45
 18ad5cb468849e9b3f9122ced+'';
		\n
X-ALT-DESC;FMTTYPE=text/html:<p><strong>SIPN2 Webinar</strong><br /> Sea Ice Prediction Network – Phase 
 2 (SIPN2)</p><p><strong>Date</strong>: Tuesday, 28 April 2020</p><p><strong
 >Time:</strong> 8:00 a.m. to 9:00 a.m. (AKDT)</p><p><strong>Webinar Title:<
 /strong> Understanding Stakeholder Information Needs for Sea-Ice Forecastin
 g</p><p><strong>More information and registration:</strong> <a href="https:
 //www.arcus.org/sipn/meetings/webinars">https://www.arcus.org/sipn/meetings
 /webinars</a></p><hr /><p>The Sea Ice Prediction Network – Phase 2 (<a href
 ="https://www.arcus.org/sites/all/modules/civicrm/extern/url.php?u=21931&am
 p;qid=3740927" target="_blank" rel="noopener" data-saferedirecturl="https:/
 /www.google.com/url?q=https://www.arcus.org/sites/all/modules/civicrm/exter
 n/url.php?u%3D21931%26qid%3D3740927&amp;source=gmail&amp;ust=15869541913210
 00&amp;usg=AFQjCNGl0jLwjz5Eeks1PhSd73ksuptrAg">SIPN2</a>) announces an open
  webinar entitled, <em>Understanding Stakeholder Information Needs for Sea-
 Ice Forecasting</em>.</p><p>The one-hour webinar will be held on Tuesday, 2
 8 April 2020, starting at:</p><p>8:00 a.m. (AKDT), 9:00 a.m. (PDT), 10:00 a
 .m. (MDT) 11:00 a.m. (CDT), 12:00 p.m. (EDT), and 6:00 p.m. (CEDT).</p><p>T
 his webinar will include an overview of stakeholder groups and their inform
 ation needs, examples of how stakeholder groups deal with sea-ice and relat
 e to sea-ice information, and discussion of how information gathered throug
 h stakeholder engagement can be of use to the sea-ice forecasting community
 . Time for participant questions will follow the presentations.</p><p><em><
 strong>Webinar Presenters Include:</strong></em></p><ul><li>Hajo Eicken, Di
 rector, International Arctic Research Center;</li><li>Joseph Little, Experi
 mental Arctic Prediction Initiative, International Arctic Research Center/S
 chool of Management;</li><li>Zeke Baker, Postdoctoral Research Associate, U
 niversity of Oklahoma and National Weather Service-Alaska;</li><li>Marta Te
 rrado, Science Communication Specialist, Barcelona Supercomputing Center</l
 i></ul><p>This webinar is designed for the sea-ice research community and o
 thers interested in information about understanding stakeholder needs for s
 ea-ice forecasting. While this is an open event, attendees should be aware 
 that the discussions will largely be of a technical nature.</p><p>The webin
 ar will be archived and available online after the event.</p><p>For questio
 ns, please contact:<br /> Betsy Turner-Bogren<br /> Email: <a href="https:/
 /www.arcus.org/sites/all/modules/civicrm/extern/url.php?u=21930&amp;qid=374
 0927" target="_blank" rel="noopener" data-saferedirecturl="https://www.goog
 le.com/url?q=https://www.arcus.org/sites/all/modules/civicrm/extern/url.php
 ?u%3D21930%26qid%3D3740927&amp;source=gmail&amp;ust=1586954191321000&amp;us
 g=AFQjCNE2Xk9WIW9ZZ52v5fJ5Q5p_l8EC3A"></a><span id="cloaka36ba4518ad5cb4688
 49e9b3f9122ced">This email address is being protected from spambots. You ne
 ed JavaScript enabled to view it.</span><script type='text/javascript'>
			
 	document.getElementById('cloaka36ba4518ad5cb468849e9b3f9122ced').innerHTML
  = '';
				var prefix = '&#109;a' + 'i&#108;' + '&#116;o';
				var path = '
 hr' + 'ef' + '=';
				var addya36ba4518ad5cb468849e9b3f9122ced = 'b&#101;ts
 y' + '&#64;';
				addya36ba4518ad5cb468849e9b3f9122ced = addya36ba4518ad5cb
 468849e9b3f9122ced + '&#97;rc&#117;s' + '&#46;' + '&#111;rg';
				var addy_
 texta36ba4518ad5cb468849e9b3f9122ced = 'b&#101;tsy' + '&#64;' + '&#97;rc&#1
 17;s' + '&#46;' + '&#111;rg';document.getElementById('cloaka36ba4518ad5cb46
 8849e9b3f9122ced').innerHTML += '<a ' + path + '\'' + prefix + ':' + addya3
 6ba4518ad5cb468849e9b3f9122ced + '\'>'+addy_texta36ba4518ad5cb468849e9b3f91
 22ced+'<\/a>';
		</script></p>
DTSTAMP:20260425T180951Z
DTSTART;TZID=UTC:20200428T080000
SEQUENCE:0
TRANSP:OPAQUE
END:VEVENT
END:VCALENDAR