BEGIN:VCALENDAR
VERSION:2.0
PRODID:-//jEvents 2.0 for Joomla//EN
CALSCALE:GREGORIAN
METHOD:PUBLISH
BEGIN:VEVENT
UID:37b457a1016c4f0f3236f3501d4746e6
CATEGORIES:Polar Conferences, Meetings and Events
CREATED:20200226T140725
SUMMARY:II International scientific and technical conference - postponed to October-November 2020
LOCATION:Norilsk\, Russia
DESCRIPTION:Workshop postponed due to COVID-19 concerns. Please visit the event website
  for additional information.\nThe Arctic Permafrost Research Center at Nori
 lsk State Industrial Institute (https://www.uarctic.org/member-profiles/rus
 sia/8613/norilsk-state-industrial-institute) invites you to participate in 
 the II International scientific and technical conference "Experience and pr
 ospects of construction and operation of buildings and structures on perman
 ently frozen soils".\nThe conference’s aim is to solve complex problems rel
 ated to the conservation and further operation of buildings and structures 
 on the permafrost. Following the conference, a special issue of the indexed
  journal "Scientific Bulletin of the Arctic" will be published.\nParticipat
 ion in the conference and publication of scientific articles is free of cha
 rge.\nApplications deadline - March 15, 2020.\nFor more information, applic
 ation form and registration requirements, see the <a href="https://ru.uarct
 ic.org/media/1600497/%D0%B8%D0%BD%D1%84%D0%BE%D1%80%D0%BC%D0%B0%D1%86%D0%B8
 %D0%BE%D0%BD%D0%BD%D0%BE%D0%B5-%D0%BF%D0%B8%D1%81%D1%8C%D0%BC%D0%BE.pdf">In
 formation letter</a>. (in Russian)\n
X-ALT-DESC;FMTTYPE=text/html:<div class="article-intro"><p><strong>Workshop postponed due to COVID-19 co
 ncerns.</strong><strong>&nbsp;Please visit the event website for additional
  information.</strong></p><p>The Arctic Permafrost Research Center at&nbsp;
 <a title="Norilsk State Industrial Institute" href="https://www.uarctic.org
 /member-profiles/russia/8613/norilsk-state-industrial-institute" data-udi="
 umb://document/c94286a11ac546459628c40c700a08bb">Norilsk State Industrial I
 nstitute</a>&nbsp;invites you to participate in the II International scient
 ific and technical conference "Experience and prospects of construction and
  operation of buildings and structures on permanently frozen soils".</p></d
 iv><div class="article-body"><p>The conference’s aim is to solve complex pr
 oblems related to the conservation and further operation of buildings and s
 tructures on the permafrost. Following the conference, a special issue of t
 he indexed journal "Scientific Bulletin of the Arctic" will be published.</
 p><p>Participation in the conference and publication of scientific articles
  is free of charge.</p><p>Applications deadline - March 15, 2020.</p><p>For
  more information, application form and registration requirements, see the&
 nbsp;<a href="https://ru.uarctic.org/media/1600497/%D0%B8%D0%BD%D1%84%D0%BE
 %D1%80%D0%BC%D0%B0%D1%86%D0%B8%D0%BE%D0%BD%D0%BD%D0%BE%D0%B5-%D0%BF%D0%B8%D
 1%81%D1%8C%D0%BC%D0%BE.pdf">Information letter</a>. (in Russian)</p></div>
CONTACT:Zhanna Petukhova: This email address is being protected from spambots. You need JavaScript enabled to view it.
				document.getElementById('cloak20e0582a8de59e8c6f458968227f062d').innerHTML = '';
				var prefix = '&#109;a' + 'i&#108;' + '&#116;o';
				var path = 'hr' + 'ef' + '=';
				var addy20e0582a8de59e8c6f458968227f062d = 'p&#101;t&#117;h&#111;v&#97;jg' + '&#64;';
				addy20e0582a8de59e8c6f458968227f062d = addy20e0582a8de59e8c6f458968227f062d + 'm&#97;&#105;l' + '&#46;' + 'r&#117;';
				var addy_text20e0582a8de59e8c6f458968227f062d = 'p&#101;t&#117;h&#111;v&#97;jg' + '&#64;' + 'm&#97;&#105;l' + '&#46;' + 'r&#117;';document.getElementById('cloak20e0582a8de59e8c6f458968227f062d').innerHTML += '<a ' + path + '\'' + prefix + ':' + addy20e0582a8de59e8c6f458968227f062d + '\'>'+addy_text20e0582a8de59e8c6f458968227f062d+'';
		, Mikhail Elesin:  This email address is being protected from spambots. You need JavaScript enabled to view it.
				document.getElementById('cloakd5e25cb11df45f69d76d0bd65228f202').innerHTML = '';
				var prefix = '&#109;a' + 'i&#108;' + '&#116;o';
				var path = 'hr' + 'ef' + '=';
				var addyd5e25cb11df45f69d76d0bd65228f202 = '&#101;m&#97;0674' + '&#64;';
				addyd5e25cb11df45f69d76d0bd65228f202 = addyd5e25cb11df45f69d76d0bd65228f202 + 'm&#97;&#105;l' + '&#46;' + 'r&#117;';
				var addy_textd5e25cb11df45f69d76d0bd65228f202 = '&#101;m&#97;0674' + '&#64;' + 'm&#97;&#105;l' + '&#46;' + 'r&#117;';document.getElementById('cloakd5e25cb11df45f69d76d0bd65228f202').innerHTML += '<a ' + path + '\'' + prefix + ':' + addyd5e25cb11df45f69d76d0bd65228f202 + '\'>'+addy_textd5e25cb11df45f69d76d0bd65228f202+'';
		
DTSTAMP:20260425T195022Z
DTSTART;TZID=UTC;VALUE=DATE:20200402
DTEND;TZID=UTC;VALUE=DATE:20200403
SEQUENCE:0
TRANSP:OPAQUE
END:VEVENT
END:VCALENDAR