BEGIN:VCALENDAR
VERSION:2.0
PRODID:-//jEvents 2.0 for Joomla//EN
CALSCALE:GREGORIAN
METHOD:PUBLISH
BEGIN:VEVENT
UID:6af1eeb125a26f44ed3c6c5582bae787
CATEGORIES:Polar Conferences, Meetings and Events
CREATED:20200206T085545
SUMMARY:2020 Fletcher Arctic Conference
LOCATION:Medford\, Massachusetts\, USA
DESCRIPTION:Since 2012, the annual Arctic Conference at The Fletcher School of Law and 
 Diplomacy has provided a platform for policymakers, business leaders, acade
 mics and students to address the implications of a volatile Arctic. This co
 nference brings together high-level leaders working in business, governance
 , human rights, international law, and science from around the world to sha
 re insights, research, and engage in conversations on the pressing issues o
 f a multi-disciplinary nature in the Arctic region.\nThe Fletcher Arctic Co
 nference is a student-run initiative, with key contributions from senior Fl
 etcher School faculty and leadership. We remain dedicated to inclusivity an
 d high-quality dialogue by bringing together diverse speakers both in educa
 tion and background. We look forward to contributing to the conversation an
 d illuminating the multitude of perspectives surrounding the future of a ra
 pidly changing Arctic.\nMore information on the conference website (https:/
 /sites.tufts.edu/fletcherarctic/#). \n
X-ALT-DESC;FMTTYPE=text/html:<p>Since 2012, the annual Arctic Conference at The Fletcher School of Law a
 nd Diplomacy has provided a platform for policymakers, business leaders, ac
 ademics and students to address the implications of a volatile Arctic.&nbsp
 ;This conference brings together high-level leaders&nbsp;working in busines
 s, governance, human rights, international law, and science from around the
  world to share insights, research, and engage in conversations on the pres
 sing issues of a multi-disciplinary&nbsp;nature in the Arctic region.</p><p
  class="p1"><span class="s1">The Fletcher Arctic Conference is a student-ru
 n initiative, with key contributions from senior Fletcher School faculty an
 d leadership. We remain dedicated to inclusivity and high-quality dialogue 
 by bringing together diverse speakers both in education and background. We 
 look forward to contributing to the conversation and illuminating the multi
 tude of perspectives surrounding the future of a rapidly changing Arctic.</
 span></p><p>More information on the <a href="https://sites.tufts.edu/fletch
 erarctic/#">conference website</a>.&nbsp;</p>
DTSTAMP:20260425T030439Z
DTSTART;TZID=UTC;VALUE=DATE:20200207
DTEND;TZID=UTC;VALUE=DATE:20200209
SEQUENCE:0
TRANSP:OPAQUE
END:VEVENT
END:VCALENDAR