BEGIN:VCALENDAR
VERSION:2.0
PRODID:-//jEvents 2.0 for Joomla//EN
CALSCALE:GREGORIAN
METHOD:PUBLISH
BEGIN:VEVENT
UID:7d6b740e47939181b2a282e8ed9eaa43
CATEGORIES:Polar Conferences, Meetings and Events
CREATED:20191119T082956
SUMMARY:Workshop "Knowledge Formations and Colonial Encounters in the Arctic"
LOCATION:Cambridge\, UK
DESCRIPTION:This workshop is part of a series of research events organised as part of t
 he ERC Arctic Cultures project. It brings together team members, leading in
 ternational experts and interested scholars into dialogue around the themes
  of the project. The focus for this workshop\nspecifically is to examine th
 e co-production of Arctic knowledge formations through encounters between i
 ndigenous inhabitants and non-indigenous actors. Presentations will draw up
 on empirical research and theorisation to investigate spatial formations of
  the Arctic and the role of Northern actors and institutions.\n\nSpeakers i
 nclude: Johanne Bruun, Kirsten Hastrup, Nanna Kaalund, Jonathan King, Peter
  Kulchyski, Peter Martin, Alex Partridge, Pitseolak Pfeifer, Richard Powell
 , Søren Rud, Pamela Stern, Jaanika Vider and John Woitkowitz.\n\nPlease fin
 d the programme, abstracts and further details about registration on our we
 bsite: https://www.arcticcultures.org/category/news-and-events/.\n\nAttenda
 nce is free but prior registration is required please.\n\nFollow us on Twit
 ter @ArcticCult.\n
X-ALT-DESC;FMTTYPE=text/html:<p>This workshop is part of a series of research events organised as part&n
 bsp;of the ERC Arctic Cultures project. It brings together team members,&nb
 sp;leading international experts and interested scholars into dialogue&nbsp
 ;around the themes of the project. The focus for this workshop<br />specifi
 cally is to examine the co-production of Arctic knowledge&nbsp;formations t
 hrough encounters between indigenous inhabitants and&nbsp;non-indigenous ac
 tors. Presentations will draw upon empirical research&nbsp;and theorisation
  to investigate spatial formations of the Arctic and the&nbsp;role of North
 ern actors and institutions.<br /><br />Speakers include: Johanne Bruun, Ki
 rsten Hastrup, Nanna Kaalund,&nbsp;Jonathan King, Peter Kulchyski, Peter Ma
 rtin, Alex Partridge, Pitseolak&nbsp;Pfeifer, Richard Powell, Søren Rud, Pa
 mela Stern, Jaanika Vider and John&nbsp;Woitkowitz.<br /><br />Please find 
 the programme, abstracts and further details about&nbsp;registration on our
  website:&nbsp;<a href="https://www.arcticcultures.org/category/news-and-ev
 ents/">https://www.arcticcultures.org/category/news-and-events/</a>.<br /><
 br />Attendance is free but prior registration is required please.<br /><br
  />Follow us on Twitter @ArcticCult.</p>
CONTACT:Dr. Richard Powell: Principal Investigator, This email address is being protected from spambots. You need JavaScript enabled to view it.
				document.getElementById('cloak27dfe1f236d6b913429f3993fb081375').innerHTML = '';
				var prefix = '&#109;a' + 'i&#108;' + '&#116;o';
				var path = 'hr' + 'ef' + '=';
				var addy27dfe1f236d6b913429f3993fb081375 = 'rcp31' + '&#64;';
				addy27dfe1f236d6b913429f3993fb081375 = addy27dfe1f236d6b913429f3993fb081375 + 'c&#97;m' + '&#46;' + '&#97;c' + '&#46;' + '&#117;k';
				var addy_text27dfe1f236d6b913429f3993fb081375 = 'rcp31' + '&#64;' + 'c&#97;m' + '&#46;' + '&#97;c' + '&#46;' + '&#117;k';document.getElementById('cloak27dfe1f236d6b913429f3993fb081375').innerHTML += '<a ' + path + '\'' + prefix + ':' + addy27dfe1f236d6b913429f3993fb081375 + '\'>'+addy_text27dfe1f236d6b913429f3993fb081375+'';
		
DTSTAMP:20260425T030507Z
DTSTART;TZID=UTC;VALUE=DATE:20200109
DTEND;TZID=UTC;VALUE=DATE:20200111
SEQUENCE:0
TRANSP:OPAQUE
END:VEVENT
END:VCALENDAR