BEGIN:VCALENDAR
VERSION:2.0
PRODID:-//jEvents 2.0 for Joomla//EN
CALSCALE:GREGORIAN
METHOD:PUBLISH
BEGIN:VEVENT
UID:6b952a39611c16423fa8760e682a1fdc
CATEGORIES:APECS Events
CREATED:20191105T075809
SUMMARY:Dutch polar symposium
LOCATION:The Hague\, The Netherlands
DESCRIPTION:Each year NWO and APECS Netherlands co-organize the Dutch polar symposium. 
 This year's symposium is entitled 'Poles under Pressure' and takes place No
 vember 21st in The Hague. Specifically we will zoom in on the following thr
 ee themes: geopolitical and economic pressure, ice and climatic pressure an
 d ecosystem pressure.\nhttps://www.nwo.nl/onderzoek-en-resultaten/programma
 s/nederlands+polair+programma/symposium\n
X-ALT-DESC;FMTTYPE=text/html:<p><span data-sheets-value="{&quot;1&quot;:2,&quot;2&quot;:&quot;Each year 
 NWO and APECS Netherlands co-organize the Dutch polar symposium. This year'
 s symposium is entitled 'Poles under Pressure' and takes place November 21s
 t in The Hague. Specifically we will zoom in on the following three themes:
  geopolitical and economic pressure, ice and climatic pressure and ecosyste
 m pressure.&quot;}" data-sheets-userformat="{&quot;2&quot;:513,&quot;3&quot
 ;:{&quot;1&quot;:0},&quot;12&quot;:0}">Each year NWO and APECS Netherlands 
 co-organize the Dutch polar symposium. This year's symposium is entitled 'P
 oles under Pressure' and takes place November 21st in The Hague. Specifical
 ly we will zoom in on the following three themes: geopolitical and economic
  pressure, ice and climatic pressure and ecosystem pressure.</span></p><p><
 span data-sheets-value="{&quot;1&quot;:2,&quot;2&quot;:&quot;&lt;a href="><
 a class="in-cell-link" href="https://www.nwo.nl/onderzoek-en-resultaten/pro
 grammas/nederlands+polair+programma/symposium" target="_blank" rel="noopene
 r">https://www.nwo.nl/onderzoek-en-resultaten/programmas/nederlands+polair+
 programma/symposium</a></span></p>
CONTACT:This email address is being protected from spambots. You need JavaScript enabled to view it.
				document.getElementById('cloakb94077a422b1ddb97e4032788bdc34a5').innerHTML = '';
				var prefix = '&#109;a' + 'i&#108;' + '&#116;o';
				var path = 'hr' + 'ef' + '=';
				var addyb94077a422b1ddb97e4032788bdc34a5 = 'npp' + '&#64;';
				addyb94077a422b1ddb97e4032788bdc34a5 = addyb94077a422b1ddb97e4032788bdc34a5 + 'nw&#111;' + '&#46;' + 'nl';
				var addy_textb94077a422b1ddb97e4032788bdc34a5 = 'npp' + '&#64;' + 'nw&#111;' + '&#46;' + 'nl';document.getElementById('cloakb94077a422b1ddb97e4032788bdc34a5').innerHTML += '<a ' + path + '\'' + prefix + ':' + addyb94077a422b1ddb97e4032788bdc34a5 + '\'>'+addy_textb94077a422b1ddb97e4032788bdc34a5+'';
		 (Dutch polar programma)
DTSTAMP:20260425T214639Z
DTSTART;TZID=UTC;VALUE=DATE:20191121
DTEND;TZID=UTC;VALUE=DATE:20191122
SEQUENCE:0
TRANSP:OPAQUE
END:VEVENT
END:VCALENDAR