BEGIN:VCALENDAR
VERSION:2.0
PRODID:-//jEvents 2.0 for Joomla//EN
CALSCALE:GREGORIAN
METHOD:PUBLISH
BEGIN:VEVENT
UID:22e928402f68796113f5b48220c9799c
CATEGORIES:Polar Conferences, Meetings and Events
CREATED:20191016T101839
SUMMARY:4th Polar Ecology Conference
LOCATION:České Budějovice\, Czech Republic
DESCRIPTION:4th Polar Ecology Conference organised by the Centre for Polar Ecology (htt
 ps://www.prf.jcu.cz/en/cpe) at University of South Bohemia in České Budějov
 ice, Czech Republic. The conference will be held on Feb 12-15th 2020 and it
 s theme is “Interactions between Ocean and Terrestrial Ecosystems”. However
 , we accept submission of abstracts from all polar disciplines. \n<a class=
 "" style="font-family: inherit; font-size: 1rem;" href="https://www.prf.jcu
 .cz/en/cpe/polar-ecology-conference2020/registration.html" target="_blank" 
 rel="noopener">Registration</a> is now open and there are no conference fee
 s but the attendee list is limited to 70 participants. More details and reg
 ular updates can be found on the conference website (https://www.prf.jcu.cz
 /en/cpe/polar-ecology-conference2020.html)  If you have any enquiry, feel f
 ree to contact us at: This email address is being protected from spambots. 
 You need JavaScript enabled to view it.
				document.getElementById('cloak1
 f480c31ffe2c1d9091482e93450fa6b').innerHTML = '';
				var prefix = '&#109;a
 ' + 'i&#108;' + '&#116;o';
				var path = 'hr' + 'ef' + '=';
				var addy1f
 480c31ffe2c1d9091482e93450fa6b = 'p&#111;l&#97;r&#101;c&#111;l&#111;gy2020'
  + '&#64;';
				addy1f480c31ffe2c1d9091482e93450fa6b = addy1f480c31ffe2c1d9
 091482e93450fa6b + 'gm&#97;&#105;l' + '&#46;' + 'c&#111;m';
				var addy_te
 xt1f480c31ffe2c1d9091482e93450fa6b = 'p&#111;l&#97;r&#101;c&#111;l&#111;gy2
 020' + '&#64;' + 'gm&#97;&#105;l' + '&#46;' + 'c&#111;m';document.getElemen
 tById('cloak1f480c31ffe2c1d9091482e93450fa6b').innerHTML += '<a class="" st
 yle="font-family: inherit; font-size: 1rem;" ' + path + '\'' + prefix + ':'
  + addy1f480c31ffe2c1d9091482e93450fa6b + '\' target="_blank">'+addy_text1f
 480c31ffe2c1d9091482e93450fa6b+'';
		 or check the <a class="" style="font-
 family: inherit; font-size: 1rem;" href="https://www.facebook.com/czechpola
 r/" target="_blank" rel="noopener">Centre for Polar Ecology facebook page</
 a>. \n
X-ALT-DESC;FMTTYPE=text/html:<p>4th Polar Ecology Conference organised by the&nbsp;<a class="" href="htt
 ps://www.prf.jcu.cz/en/cpe" target="_blank" rel="noopener">Centre for Polar
  Ecology</a>&nbsp;at University of South Bohemia in České Budějovice, Czech
  Republic. The conference will be held on&nbsp;<strong class="">Feb 12-15th
  2020&nbsp;</strong>and its&nbsp;theme is “<em class="">Interactions betwee
 n Ocean and Terrestrial Ecosystems</em>”. However, we accept submission of 
 abstracts from all polar disciplines.&nbsp;</p><p><a class="" style="font-f
 amily: inherit; font-size: 1rem;" href="https://www.prf.jcu.cz/en/cpe/polar
 -ecology-conference2020/registration.html" target="_blank" rel="noopener">R
 egistration</a>&nbsp;is now open and there are no conference fees but the a
 ttendee list is limited to 70 participants. More details and regular update
 s can be found on the&nbsp;<a class="" style="font-family: inherit; font-si
 ze: 1rem;" href="https://www.prf.jcu.cz/en/cpe/polar-ecology-conference2020
 .html" target="_blank" rel="noopener">conference website</a>&nbsp; If you h
 ave any enquiry, feel free to contact us at:&nbsp;<span id="cloak1f480c31ff
 e2c1d9091482e93450fa6b">This email address is being protected from spambots
 . You need JavaScript enabled to view it.</span><script type='text/javascri
 pt'>
				document.getElementById('cloak1f480c31ffe2c1d9091482e93450fa6b').i
 nnerHTML = '';
				var prefix = '&#109;a' + 'i&#108;' + '&#116;o';
				var 
 path = 'hr' + 'ef' + '=';
				var addy1f480c31ffe2c1d9091482e93450fa6b = 'p
 &#111;l&#97;r&#101;c&#111;l&#111;gy2020' + '&#64;';
				addy1f480c31ffe2c1d
 9091482e93450fa6b = addy1f480c31ffe2c1d9091482e93450fa6b + 'gm&#97;&#105;l'
  + '&#46;' + 'c&#111;m';
				var addy_text1f480c31ffe2c1d9091482e93450fa6b 
 = 'p&#111;l&#97;r&#101;c&#111;l&#111;gy2020' + '&#64;' + 'gm&#97;&#105;l' +
  '&#46;' + 'c&#111;m';document.getElementById('cloak1f480c31ffe2c1d9091482e
 93450fa6b').innerHTML += '<a class="" style="font-family: inherit; font-siz
 e: 1rem;" ' + path + '\'' + prefix + ':' + addy1f480c31ffe2c1d9091482e93450
 fa6b + '\' target="_blank">'+addy_text1f480c31ffe2c1d9091482e93450fa6b+'<\/
 a>';
		</script>&nbsp;or check the&nbsp;<a class="" style="font-family: inh
 erit; font-size: 1rem;" href="https://www.facebook.com/czechpolar/" target=
 "_blank" rel="noopener">Centre for Polar Ecology facebook page</a>.&nbsp;</
 p>
DTSTAMP:20260425T014104Z
DTSTART;TZID=UTC;VALUE=DATE:20200212
DTEND;TZID=UTC;VALUE=DATE:20200216
SEQUENCE:0
TRANSP:OPAQUE
END:VEVENT
END:VCALENDAR