BEGIN:VCALENDAR
VERSION:2.0
PRODID:-//jEvents 2.0 for Joomla//EN
CALSCALE:GREGORIAN
METHOD:PUBLISH
BEGIN:VEVENT
UID:2d5d059bab5ad44e6fad9a6b7e069b5b
CATEGORIES:Polar Conferences, Meetings and Events
CREATED:20160906T060427
SUMMARY:XIIth SCAR Biology Symposium
LOCATION:Leuven\, Belgium
DESCRIPTION:The main theme for the XIIth SCAR (Scientific Committee on Antarctic Resear
 ch (http://www.scar.org/)) biology symposium is "Scale matters". From the s
 mall molecular scale, through population and large ecosystem scale, biologi
 cal processes and diversity span all these levels. Understanding these proc
 esses as well past and present patterns of biodiversity are essential for u
 nderstanding possible threats to Antarctic biology and their impact. With t
 his Symposium we want to focus on understanding biological distribution and
  trends as well as adaptation and processes both in the marine and terrestr
 ial realm including the human biology. Special attention will be paid to mu
 ltidisciplinary research and how combining insight from different fields ca
 n help our understanding of biology in this unique region. An important asp
 ect of this symposium will focus on the societal impact of Antarctic biolog
 ical sciences and how this can be communicated, not only to the general pub
 lic, but also to policy makers.\nFind our more information and important de
 adlines on the symposium website <a href="http://kuleuvencongres.be/scarbio
 logy2017/">http://kuleuvencongres.be/scarbiology2017/</a>\n
X-ALT-DESC;FMTTYPE=text/html:<p>The main theme for the XIIth SCAR (<a href="http://www.scar.org/">Scient
 ific Committee on Antarctic Research</a>) biology symposium is "Scale matte
 rs". From the small molecular scale, through population and large ecosystem
  scale, biological processes and diversity span all these levels. Understan
 ding these processes as well past and present patterns of biodiversity are 
 essential for understanding possible threats to Antarctic biology and their
  impact. With this Symposium we want to focus on understanding biological d
 istribution and trends as well as adaptation and processes both in the mari
 ne and terrestrial realm including the human biology. Special attention wil
 l be paid to multidisciplinary research and how combining insight from diff
 erent fields can help our understanding of biology in this unique region. A
 n important aspect of this symposium will focus on the societal impact of A
 ntarctic biological sciences and how this can be communicated, not only to 
 the general public, but also to policy makers.</p><p>Find our more informat
 ion and important deadlines on the symposium website <a href="http://kuleuv
 encongres.be/scarbiology2017/">http://kuleuvencongres.be/scarbiology2017/</
 a></p>
DTSTAMP:20260424T052049Z
DTSTART;TZID=UTC;VALUE=DATE:20170711
DTEND;TZID=UTC;VALUE=DATE:20170715
SEQUENCE:0
TRANSP:OPAQUE
END:VEVENT
END:VCALENDAR