BEGIN:VCALENDAR
VERSION:2.0
PRODID:-//jEvents 2.0 for Joomla//EN
CALSCALE:GREGORIAN
METHOD:PUBLISH
BEGIN:VEVENT
UID:8847da4e8a4a3ea32ab14c4fa2ec44f8
CATEGORIES:Polar Conferences, Meetings and Events
CREATED:20190930T140834
SUMMARY:3rd Canadian Polar Data Workshop
LOCATION:Banff\, Alberta\, Canada
DESCRIPTION:Participants are invited for the Third Canadian Polar Data Workshop (CPDW3)
 , a follow-up to previous Canada wide consultations held in 2015 and 2017. 
 \nThe workshop will be structured to reach specific outcomes through workin
 g group sessions and consensus building on themes such as the need for a na
 tional data management strategy for Canada, data discovery and federated se
 arch, all aspects of data interoperability, and other themes related to pol
 ar data broadly defined, including knowledge transfer and Indigenous data p
 olicies.\nThe workshop will also include a hackathon to advance technical a
 spects of polar data management in Canada. All members of the Canadian pola
 r data and research community are invited to participate. Members of the br
 oader data community are also welcome to attend. Additional details on expa
 nded theme descriptions and registration details will be provided in the co
 ming months.\nThe workshop will be hosted through partnership between the C
 anadian Consortium for Arctic Data Interoperability, Canadian Cryospheric I
 nformation Network/Polar Data Catalogue (CCIN/PDC), Polar Knowledge Canada,
  and numerous other organizations.\nRegistration deadline: 15 January 2020.
  To register, go to: \nFor more information, go to: <a title="https://www.a
 rcus.org/sites/all/modules/civicrm/extern/url.php?u=17542&amp;qid=3012736" 
 href="https://www.arcus.org/sites/all/modules/civicrm/extern/url.php?u=1754
 2&amp;qid=3012736">Workshop homepage</a>\n
X-ALT-DESC;FMTTYPE=text/html:<p>Participants are invited for the&nbsp;<strong>Third Canadian Polar Data 
 Workshop (CPDW3)</strong>,<strong>&nbsp;</strong>a follow-up to previous Ca
 nada&nbsp;wide consultations held in 2015 and 2017.&nbsp;</p><p>The worksho
 p will be structured to reach specific outcomes through working group sessi
 ons and consensus building on themes such as the need for a national data m
 anagement strategy for Canada, data discovery and federated search, all asp
 ects of data interoperability, and other themes related to polar data broad
 ly defined, including knowledge transfer and Indigenous data policies.</p><
 p>The workshop will also include a hackathon to advance technical aspects o
 f polar data management in Canada. All members of the Canadian polar data a
 nd research community are invited to participate. Members of the broader da
 ta community are also welcome to attend. Additional details on expanded the
 me descriptions and registration details will be provided in the coming mon
 ths.</p><p>The workshop will be hosted through partnership between the Cana
 dian Consortium for Arctic Data Interoperability, Canadian Cryospheric Info
 rmation Network/Polar Data Catalogue (CCIN/PDC), Polar Knowledge Canada, an
 d numerous other organizations.</p><p><strong style="color: inherit; font-f
 amily: inherit; font-size: 1rem;">Registration deadline:</strong><span styl
 e="color: inherit; font-family: inherit; font-size: 1rem; background-color:
  inherit;">&nbsp;15 January 2020. To register, go to:&nbsp;</span><a style=
 "font-family: inherit; font-size: 1rem;" href="https://www.arcus.org/sites/
 all/modules/civicrm/extern/url.php?u=17541&amp;qid=3012736">Workshop Regist
 ration</a></p><p>For more information, go to:&nbsp;<a title="https://www.ar
 cus.org/sites/all/modules/civicrm/extern/url.php?u=17542&amp;qid=3012736" h
 ref="https://www.arcus.org/sites/all/modules/civicrm/extern/url.php?u=17542
 &amp;qid=3012736">Workshop homepage</a></p>
CONTACT:Ravi Darwin Sankar, Email: This email address is being protected from spambots. You need JavaScript enabled to view it.
				document.getElementById('cloaka2da8f65a19dfa0a93558a0533960604').innerHTML = '';
				var prefix = '&#109;a' + 'i&#108;' + '&#116;o';
				var path = 'hr' + 'ef' + '=';
				var addya2da8f65a19dfa0a93558a0533960604 = 'r&#97;v&#105;.s&#97;nk&#97;r' + '&#64;';
				addya2da8f65a19dfa0a93558a0533960604 = addya2da8f65a19dfa0a93558a0533960604 + '&#117;c&#97;lg&#97;ry' + '&#46;' + 'c&#97;';
				var addy_texta2da8f65a19dfa0a93558a0533960604 = 'r&#97;v&#105;.s&#97;nk&#97;r' + '&#64;' + '&#117;c&#97;lg&#97;ry' + '&#46;' + 'c&#97;';document.getElementById('cloaka2da8f65a19dfa0a93558a0533960604').innerHTML += '<a ' + path + '\'' + prefix + ':' + addya2da8f65a19dfa0a93558a0533960604 + '\'>'+addy_texta2da8f65a19dfa0a93558a0533960604+'';
		, Phone: 403-220-7928
DTSTAMP:20260425T011633Z
DTSTART;TZID=UTC;VALUE=DATE:20200218
DTEND;TZID=UTC;VALUE=DATE:20200222
SEQUENCE:0
TRANSP:OPAQUE
END:VEVENT
END:VCALENDAR