BEGIN:VCALENDAR
VERSION:2.0
PRODID:-//jEvents 2.0 for Joomla//EN
CALSCALE:GREGORIAN
METHOD:PUBLISH
BEGIN:VEVENT
UID:a7f1a9e8fe83a58dc266020a2ea85564
CATEGORIES:APECS Events
CREATED:20190906T125801
SUMMARY:APECS Germany workshop: Best practice - Science communication
LOCATION:Bremen\, Germany
DESCRIPTION:Wednesday, Sept. 25 2019, 15:00 - 17:00\nBremen University\nin cooperation 
 with ICYMARE and the SPP Antarctic Research Coordination meeting\n\nYoung r
 esearchers are invited to the APECS Germany workshop about science communic
 ation to be held on September 25, 3-5pm at Bremen University. Panel speaker
 s will offer their insights and experiences, and explain how to effectively
  reach a broader audience and squeeze science communication outreach into o
 ur schedules. The workshop itself is free and is held in cooperation with t
 he ICYMARE 2019 young marine researchers conference (www.icymare.com; Sept.
  24-27). It will be prior to the icebreaker of the annual SPP Antarctic Res
 earch coordination meeting (Sept. 25-27).\n\nICYMARE has kindly offered the
 ir support for the polar early careers and will arrange for polar sessions 
 to be held on Wednesday prior to the APECS workshop and SPP meeting. Abstra
 cts are welcome until July 31 here (https://www.icymare.com/call-for-abstra
 cts/).\nSPP participants can register for a reduced fee of 20 EUR, consider
 ing their absence for the latter part of the ICYMARE conference. Just atten
 ding the APECS Germany Workshop is free.\n\nWe welcome all interested early
  career researchers and are excited to meet you in an “icy” atmosphere!\nTo
  plan accordingly and tailor the workshop according to your needs, please s
 ign in <a href="https://forms.gle/TBSiBEHN9ZYyM1Ni6">here</a> beforehand if
  you would like to attend.\n
X-ALT-DESC;FMTTYPE=text/html:<p><strong>Wednesday, Sept. 25 2019, 15:00 - 17:00</strong><br /><strong>Br
 emen University</strong></p><p>in cooperation with ICYMARE and the SPP Anta
 rctic Research Coordination meeting<br /><br />Young researchers are invite
 d to the APECS Germany workshop about science communication to be held on S
 eptember 25, 3-5pm at Bremen University. Panel speakers will offer their in
 sights and experiences, and explain how to effectively reach a broader audi
 ence and squeeze science communication outreach into our schedules. The wor
 kshop itself is free and is held in cooperation with the ICYMARE 2019 young
  marine researchers conference (www.icymare.com; Sept. 24-27). It will be p
 rior to the icebreaker of the annual SPP Antarctic Research coordination me
 eting (Sept. 25-27).<br /><br />ICYMARE has kindly offered their support fo
 r the polar early careers and will arrange for polar sessions to be held on
  Wednesday prior to the APECS workshop and SPP meeting. Abstracts are welco
 me&nbsp;<a href="https://www.icymare.com/call-for-abstracts/">until July 31
  here</a>.</p><p>SPP participants can register for a reduced fee of 20 EUR,
  considering their absence for the latter part of the ICYMARE conference. J
 ust attending the APECS Germany Workshop is free.<br /><br />We welcome all
  interested early career researchers and are excited to meet you in an “icy
 ” atmosphere!</p><p>To plan accordingly and tailor the workshop according t
 o your needs, please sign in&nbsp;<a href="https://forms.gle/TBSiBEHN9ZYyM1
 Ni6">here</a>&nbsp;beforehand if you would like to attend.</p>
DTSTAMP:20260425T153059Z
DTSTART;TZID=UTC;VALUE=DATE:20190925
DTEND;TZID=UTC;VALUE=DATE:20190926
SEQUENCE:0
TRANSP:OPAQUE
END:VEVENT
END:VCALENDAR