BEGIN:VCALENDAR
VERSION:2.0
PRODID:-//jEvents 2.0 for Joomla//EN
CALSCALE:GREGORIAN
METHOD:PUBLISH
BEGIN:VEVENT
UID:e9f7a3e50343996381d1401258ac82bc
CATEGORIES:Polar Conferences, Meetings and Events
CREATED:20190715T133313
SUMMARY:EARSeL snow and ice workshop
LOCATION:Bern\, Switzerland
DESCRIPTION:The 9th Workshop on Remote Sensing of Land Ice and Snow of the European Ass
 ociation of Remote Sensing Laboratories (EARSeL) will be held at the Instit
 ute of Geography, University of Bern, Switzerland, from 03 - 05 February 20
 20. The theme of the 2020 workshop is: Remote Sensing of the Cryosphere: Mo
 nitor what is vanishing.\nSchedule\nJuly 11, 2019: Call for papers\nOctober
  1, 2019: Due date for abstracts\nNovember 15, 2019: Notification of abstra
 ct acceptance\nDecember 15, 2019: Preliminary program\nFurther information 
 are available here: http://www.earsel.org/SIG/Snow-Ice/workshop/call.php.\n
X-ALT-DESC;FMTTYPE=text/html:<p>The 9th Workshop on Remote Sensing of Land Ice and Snow of the European 
 Association of Remote Sensing Laboratories (EARSeL) will be held at the Ins
 titute of Geography, University of Bern, Switzerland, from 03 - 05 February
  2020. The theme of the 2020 workshop is: <strong>Remote Sensing of the Cry
 osphere: Monitor what is vanishing</strong>.</p><p><strong>Schedule</strong
 ><br />July 11, 2019: Call for papers<br />October 1, 2019: Due date for ab
 stracts<br />November 15, 2019: Notification of abstract acceptance<br />De
 cember 15, 2019: Preliminary program</p><p>Further information are availabl
 e here: <a href="http://www.earsel.org/SIG/Snow-Ice/workshop/call.php.">htt
 p://www.earsel.org/SIG/Snow-Ice/workshop/call.php.</a></p>
DTSTAMP:20260425T030440Z
DTSTART;TZID=UTC;VALUE=DATE:20200203
DTEND;TZID=UTC;VALUE=DATE:20200206
SEQUENCE:0
TRANSP:OPAQUE
END:VEVENT
END:VCALENDAR