BEGIN:VCALENDAR
VERSION:2.0
PRODID:-//jEvents 2.0 for Joomla//EN
CALSCALE:GREGORIAN
METHOD:PUBLISH
BEGIN:VEVENT
UID:a41251e19d0837526c981d56ed937df5
CATEGORIES:Polar Conferences, Meetings and Events
CREATED:20190512T095902
SUMMARY:SCAR May Newsletter
DESCRIPTION:Welcome back to the SCAR Newsletter!\nWe are delighted to be relaunching th
 e SCAR newsletter, a regular update from the SCAR Secretariat containing ne
 ws, events, and opportunities from and for the SCAR community and beyond.\n
 It's been a while since we last posted a newsletter, so this one's a bit lo
 nger than usual. We have included a review of the highly successful SC-HASS
  (Standing Committee on Humanities and Social Sciences) meeting in Ushuaia 
 last month, as well as an update on plans for SCAR’s Open Science Conferenc
 e in Hobart in July/August 2020. We need your help to put together a stimul
 ating and comprehensive agenda that meets the community's needs. So please 
 take a look at the draft session list – comments can be submitted to This e
 mail address is being protected from spambots. You need JavaScript enabled 
 to view it.
				document.getElementById('cloakeb6a83915497d4ff04aa3cf0777e3
 d35').innerHTML = '';
				var prefix = '&#109;a' + 'i&#108;' + '&#116;o';
	
 			var path = 'hr' + 'ef' + '=';
				var addyeb6a83915497d4ff04aa3cf0777e3d
 35 = '&#105;nf&#111;' + '&#64;';
				addyeb6a83915497d4ff04aa3cf0777e3d35 =
  addyeb6a83915497d4ff04aa3cf0777e3d35 + 'sc&#97;r' + '&#46;' + '&#111;rg';

 				var addy_texteb6a83915497d4ff04aa3cf0777e3d35 = '&#105;nf&#111;' + '&#6
 4;' + 'sc&#97;r' + '&#46;' + '&#111;rg';document.getElementById('cloakeb6a8
 3915497d4ff04aa3cf0777e3d35').innerHTML += '<a ' + path + '\'' + prefix + '
 :' + addyeb6a83915497d4ff04aa3cf0777e3d35 + '\'>'+addy_texteb6a83915497d4ff
 04aa3cf0777e3d35+'';
		 up until 28th June 2019.\nWe also recently launched
  a survey to help with the SCAR executive committee’s ongoing structural re
 view. This review was requested by the SCAR Delegates at their 2018 meeting
  and aims to review SCAR programmes, activities and committees to ensure th
 ey continue to be fit-for-purpose as the science need evolves. We’d really 
 appreciate your taking part – it’s open until May 31st.\nWe would love to h
 ear more about what you want to see in this newsletter. Please send us your
  comments and ideas, and feel free to share any news, events, and photos wi
 th us at  We’re also launching our new Facebook page today – please do sign
  up!\n
X-ALT-DESC;FMTTYPE=text/html:<p>Welcome back to the SCAR Newsletter!</p><p>We are delighted to be relaun
 ching the SCAR newsletter, a regular update from the SCAR Secretariat conta
 ining news, events, and opportunities from and for the SCAR community and b
 eyond.</p><p>It's been a while since we last posted a newsletter, so this o
 ne's a bit longer than usual. We have included a review of the highly succe
 ssful SC-HASS (Standing Committee on Humanities and Social Sciences) meetin
 g in Ushuaia last month, as well as an update on plans for SCAR’s Open Scie
 nce Conference in Hobart in July/August 2020. We need your help to put toge
 ther a stimulating and comprehensive agenda that meets the community's need
 s. So please take a look at the draft session list – comments can be submit
 ted to <span id="cloakeb6a83915497d4ff04aa3cf0777e3d35">This email address 
 is being protected from spambots. You need JavaScript enabled to view it.</
 span><script type='text/javascript'>
				document.getElementById('cloakeb6a
 83915497d4ff04aa3cf0777e3d35').innerHTML = '';
				var prefix = '&#109;a' +
  'i&#108;' + '&#116;o';
				var path = 'hr' + 'ef' + '=';
				var addyeb6a8
 3915497d4ff04aa3cf0777e3d35 = '&#105;nf&#111;' + '&#64;';
				addyeb6a83915
 497d4ff04aa3cf0777e3d35 = addyeb6a83915497d4ff04aa3cf0777e3d35 + 'sc&#97;r'
  + '&#46;' + '&#111;rg';
				var addy_texteb6a83915497d4ff04aa3cf0777e3d35 
 = '&#105;nf&#111;' + '&#64;' + 'sc&#97;r' + '&#46;' + '&#111;rg';document.g
 etElementById('cloakeb6a83915497d4ff04aa3cf0777e3d35').innerHTML += '<a ' +
  path + '\'' + prefix + ':' + addyeb6a83915497d4ff04aa3cf0777e3d35 + '\'>'+
 addy_texteb6a83915497d4ff04aa3cf0777e3d35+'<\/a>';
		</script> up until 28t
 h June 2019.</p><p>We also recently launched a survey to help with the SCAR
  executive committee’s ongoing structural review. This review was requested
  by the SCAR Delegates at their 2018 meeting and aims to review SCAR progra
 mmes, activities and committees to ensure they continue to be fit-for-purpo
 se as the science need evolves. We’d really appreciate your taking part – i
 t’s open until May 31st.</p><p>We would love to hear more about what you wa
 nt to see in this newsletter. Please send us your comments and ideas, and f
 eel free to share any news, events, and photos with us at <a href="mailto:i
 nfo@scar.org."><span id="cloakd21c498d2938d73fa39c87affb4f7dd2">This email 
 address is being protected from spambots. You need JavaScript enabled to vi
 ew it.</span><script type='text/javascript'>
				document.getElementById('c
 loakd21c498d2938d73fa39c87affb4f7dd2').innerHTML = '';
				var prefix = '&#
 109;a' + 'i&#108;' + '&#116;o';
				var path = 'hr' + 'ef' + '=';
				var a
 ddyd21c498d2938d73fa39c87affb4f7dd2 = '&#105;nf&#111;' + '&#64;';
				addyd
 21c498d2938d73fa39c87affb4f7dd2 = addyd21c498d2938d73fa39c87affb4f7dd2 + 's
 c&#97;r' + '&#46;' + '&#111;rg';
				var addy_textd21c498d2938d73fa39c87aff
 b4f7dd2 = '&#105;nf&#111;' + '&#64;' + 'sc&#97;r' + '&#46;' + '&#111;rg';do
 cument.getElementById('cloakd21c498d2938d73fa39c87affb4f7dd2').innerHTML +=
  '<a ' + path + '\'' + prefix + ':' + addyd21c498d2938d73fa39c87affb4f7dd2 
 + '\'>'+addy_textd21c498d2938d73fa39c87affb4f7dd2+'<\/a>';
		</script>.</a>
  We’re also launching our new Facebook page today – please do sign up!</p>
DTSTAMP:20260425T013705Z
DTSTART;TZID=UTC;VALUE=DATE:20190512
DTEND;TZID=UTC;VALUE=DATE:20190513
SEQUENCE:0
TRANSP:OPAQUE
END:VEVENT
END:VCALENDAR