BEGIN:VCALENDAR
VERSION:2.0
PRODID:-//jEvents 2.0 for Joomla//EN
CALSCALE:GREGORIAN
METHOD:PUBLISH
BEGIN:VEVENT
UID:8f33cdae51b1e65c34fad7531cd1d97f
CATEGORIES:Polar Conferences, Meetings and Events
CREATED:20190512T095731
SUMMARY:Call for Input Draft 2019 Long Range Science Plan
DESCRIPTION:The U.S. Ice Drilling Program invites community input for their 2019 Long R
 ange Science Plan.\nEach year in the spring the IDP works with its Science 
 Advisory Board and with the research community to update the Long Range Sci
 ence Plan. This Plan identifies the science in the coming decade that will 
 require the use of ice drilling technology and expertise for the community,
  and drives the formation of other plans, such as the Long Range Drilling T
 echnology Plan. The plans provide the basis for multi-annual planning for t
 he actions and drill development projects of the IDP and others, and give t
 he funding agencies advance notice of upcoming community science needs.\nRe
 searchers that will need an ice core or a hole drilled in a glacier or ice 
 sheet, or a rock core from under shallow glacial ice, in the coming decade,
  should ensure that their science is captured in the current draft update o
 f the U.S. Ice Drilling Program Office Long Range Science Plan.\nCommunity 
 input in the form of corrections, updates, or additions to the Plan should 
 be sent to \nInput submission deadline: 17 May 2019\nhttps://icedrill.org/a
 bout/resources.shtml#scienceplan\n
X-ALT-DESC;FMTTYPE=text/html:<p>The U.S. Ice Drilling Program invites community input for their 2019 Lon
 g Range Science Plan.</p><p>Each year in the spring the IDP works with its 
 Science Advisory Board and with the research community to update the Long R
 ange Science Plan. This Plan identifies the science in the coming decade th
 at will require the use of ice drilling technology and expertise for the co
 mmunity, and drives the formation of other plans, such as the Long Range Dr
 illing Technology Plan. The plans provide the basis for multi-annual planni
 ng for the actions and drill development projects of the IDP and others, an
 d give the funding agencies advance notice of upcoming community science ne
 eds.</p><p>Researchers that will need an ice core or a hole drilled in a gl
 acier or ice sheet, or a rock core from under shallow glacial ice, in the c
 oming decade, should ensure that their science is captured in the current d
 raft update of the U.S. Ice Drilling Program Office Long Range Science Plan
 .</p><p>Community input in the form of corrections, updates, or additions t
 o the Plan should be sent to <a href="mailto:IceDrill@Dartmouth.edu."><span
  id="cloak4522834b53fe7a3354fddd4826307d8d">This email address is being pro
 tected from spambots. You need JavaScript enabled to view it.</span><script
  type='text/javascript'>
				document.getElementById('cloak4522834b53fe7a33
 54fddd4826307d8d').innerHTML = '';
				var prefix = '&#109;a' + 'i&#108;' +
  '&#116;o';
				var path = 'hr' + 'ef' + '=';
				var addy4522834b53fe7a335
 4fddd4826307d8d = 'Ic&#101;Dr&#105;ll' + '&#64;';
				addy4522834b53fe7a335
 4fddd4826307d8d = addy4522834b53fe7a3354fddd4826307d8d + 'D&#97;rtm&#111;&#
 117;th' + '&#46;' + '&#101;d&#117;';
				var addy_text4522834b53fe7a3354fdd
 d4826307d8d = 'Ic&#101;Dr&#105;ll' + '&#64;' + 'D&#97;rtm&#111;&#117;th' + 
 '&#46;' + '&#101;d&#117;';document.getElementById('cloak4522834b53fe7a3354f
 ddd4826307d8d').innerHTML += '<a ' + path + '\'' + prefix + ':' + addy45228
 34b53fe7a3354fddd4826307d8d + '\'>'+addy_text4522834b53fe7a3354fddd4826307d
 8d+'<\/a>';
		</script>.</a></p><p>Input submission deadline: 17 May 2019</
 p><p>https://icedrill.org/about/resources.shtml#scienceplan</p>
DTSTAMP:20260425T192958Z
DTSTART;TZID=UTC;VALUE=DATE:20190517
DTEND;TZID=UTC;VALUE=DATE:20190518
SEQUENCE:0
TRANSP:OPAQUE
END:VEVENT
END:VCALENDAR