BEGIN:VCALENDAR
VERSION:2.0
PRODID:-//jEvents 2.0 for Joomla//EN
CALSCALE:GREGORIAN
METHOD:PUBLISH
BEGIN:VEVENT
UID:e7f28673e6fd8838a9cc90278f4f98c5
CATEGORIES:Polar Conferences, Meetings and Events
CREATED:20160817T130016
SUMMARY:The International Glaciological Society - Nordic Branch Meeting 2016
LOCATION:Tromsø\, Norway
DESCRIPTION:The International Glaciological Society - Nordic Branch Meeting 2016 will b
 e held at the Fram Centre in Tromsø, Norway, from Wednesday October 26 at 1
 3:00 to Friday October 28 14:00, 2016.\nThe meeting is co-organized by the 
 Norwegian Polar Institute, CliC (the Climate and Cryosphere Project of the 
 WCRP), the University of Oslo, Dept. of Geosciences, UiT/The Arctic Univers
 ity of Norway, Dept. of Geology.\nThe Nordic IGS meeting provides an inform
 al venue for Nordic-based scientists and students in glaciology to present 
 their latest results and projects. We aim to stimulate discussions and netw
 orking among all participants during the meeting, at poster sessions and so
 cial events. Presentations are welcome on all aspects of ice and snow resea
 rch and related topics, and the meeting is open for all interested.\nRegist
 ration deadline is on 12 October 2016. \nhttp://www.npolar.no/en/events/201
 6/10-annual-meeting-of-the-nordic-branch-of-the-international-glaciological
 -society/\n
X-ALT-DESC;FMTTYPE=text/html:<p style="text-align: justify;"><strong>The International Glaciological Soc
 iety - Nordic Branch Meeting 2016 will be held at the Fram Centre in Tromsø
 , Norway, from Wednesday October 26 at 13:00 to Friday October 28 14:00, 20
 16.</strong></p><p style="text-align: justify;">The meeting is co-organized
  by the Norwegian Polar Institute, CliC (the Climate and Cryosphere Project
  of the WCRP), the University of Oslo, Dept. of Geosciences, UiT/The Arctic
  University of Norway, Dept. of Geology.</p><p style="text-align: justify;"
 >The Nordic IGS meeting provides an informal venue for Nordic-based scienti
 sts and students in glaciology to present their latest results and projects
 . We aim to stimulate discussions and networking among all participants dur
 ing the meeting, at poster sessions and social events. Presentations are we
 lcome on all aspects of ice and snow research and related topics, and the m
 eeting is open for all interested.</p><p><strong>Registration deadline is o
 n 12 October 2016. </strong></p><p class="p1"><span class="s1">http://www.n
 polar.no/en/events/2016/10-annual-meeting-of-the-nordic-branch-of-the-inter
 national-glaciological-society/</span></p>
DTSTAMP:20260424T114940Z
DTSTART;TZID=UTC;VALUE=DATE:20161026
DTEND;TZID=UTC;VALUE=DATE:20161029
SEQUENCE:0
TRANSP:OPAQUE
END:VEVENT
END:VCALENDAR