BEGIN:VCALENDAR
VERSION:2.0
PRODID:-//jEvents 2.0 for Joomla//EN
CALSCALE:GREGORIAN
METHOD:PUBLISH
BEGIN:VEVENT
UID:5ec6251620bad44151837679365adca3
CATEGORIES:Polar Conferences, Meetings and Events
CREATED:20181116T110256
SUMMARY:QuIESCENT Arctic Aerosol-Cloud Interactions Workshop
LOCATION:British Antarctic Survey in Cambridge\, UK
DESCRIPTION:The inaugural QuIESCENT Arctic workshop (Quantifying the Indirect Effect: f
 rom Sources to Climate Effects of Natural and Transported aerosol in the Ar
 ctic) will bring together aerosol and cloud physicists and chemists to iden
 tify the key outstanding challenges in understanding and quantifying Arctic
  aerosol-cloud interactions, with a focus on how Arctic air pollution affec
 ts clouds in the region.  For more information, please visit: <a id="LPlnk9
 38094" class="x_OWAAutoLink" href="https://sites.google.com/view/quiescent-
 arctic/workshops/1st-quiescent-workshop">\n</a> 
X-ALT-DESC;FMTTYPE=text/html:<div>The inaugural&nbsp;<strong>QuIESCENT Arctic</strong>&nbsp;<strong>work
 shop</strong> (Quantifying the Indirect Effect: from Sources to Climate Eff
 ects of Natural and Transported aerosol in the Arctic)&nbsp;will bring toge
 ther aerosol and cloud physicists and chemists to identify the key outstand
 ing challenges in understanding and quantifying Arctic aerosol-cloud intera
 ctions, with a focus on how Arctic air pollution affects clouds in the regi
 on.&nbsp;</div><div>&nbsp;</div><div>For more information, please visit:&nb
 sp;<a href="https://www.arcus.org/sites/all/modules/civicrm/extern/url.php?
 u=12106&amp;qid=1961958">Workshop homepage</a><a id="LPlnk938094" class="x_
 OWAAutoLink" href="https://sites.google.com/view/quiescent-arctic/workshops
 /1st-quiescent-workshop"><br /></a></div><div>&nbsp;</div><div></div>
CONTACT:Gillian Young: This email address is being protected from spambots. You need JavaScript enabled to view it.
				document.getElementById('cloak75c7316b0702c70829be446c3bbb8a85').innerHTML = '';
				var prefix = '&#109;a' + 'i&#108;' + '&#116;o';
				var path = 'hr' + 'ef' + '=';
				var addy75c7316b0702c70829be446c3bbb8a85 = 'q&#117;&#105;&#101;sc&#101;nt.&#97;rct&#105;c' + '&#64;';
				addy75c7316b0702c70829be446c3bbb8a85 = addy75c7316b0702c70829be446c3bbb8a85 + 'gm&#97;&#105;l' + '&#46;' + 'c&#111;m';
				var addy_text75c7316b0702c70829be446c3bbb8a85 = 'q&#117;&#105;&#101;sc&#101;nt.&#97;rct&#105;c' + '&#64;' + 'gm&#97;&#105;l' + '&#46;' + 'c&#111;m';document.getElementById('cloak75c7316b0702c70829be446c3bbb8a85').innerHTML += '<a ' + path + '\'' + prefix + ':' + addy75c7316b0702c70829be446c3bbb8a85 + '\'>'+addy_text75c7316b0702c70829be446c3bbb8a85+'';
		
DTSTAMP:20260424T094810Z
DTSTART;TZID=UTC;VALUE=DATE:20190404
DTEND;TZID=UTC;VALUE=DATE:20190406
SEQUENCE:0
TRANSP:OPAQUE
END:VEVENT
END:VCALENDAR