BEGIN:VCALENDAR
VERSION:2.0
PRODID:-//jEvents 2.0 for Joomla//EN
CALSCALE:GREGORIAN
METHOD:PUBLISH
BEGIN:VEVENT
UID:9820fcaf95de8c4b2700eef7df08c645
CATEGORIES:Polar Conferences, Meetings and Events
CREATED:20181019T075703
SUMMARY:Cryospheric Science with ICESat-2 Hackweek
LOCATION:Polar Science Center at the University of Washington\, Seattle (US)
DESCRIPTION:Following the successful launch of ICESat-2, the Polar Science Center at th
 e University of Washington in collaboration with the eScience Institute and
  NASA will be hosting a weeklong "Hackweek" to help jumpstart Cryospheric S
 cience with ICESat-2 (CSI). The CSI-Hackweek will bring together experts fr
 om the ICESat-2 science team, data providers, and data science experts, wit
 h researchers who want hands on experience with using and manipulating geop
 hysical data from ICESat-2. CSI-Hackweek participants will learn about ICES
 at-2 fundamentals, data formats, tools, and how to get to results quickly. 
 Introductory lectures will be combined with open data exploration, tool dev
 elopment, sample research applications, and community building. \nAs prepar
 ation for the workshop, we are also offering a 2-day Software Carpentry Wor
 kshop on February 7,8, 2019 on the UW Campus. For more information on the C
 SI-Hackweek and Software Carpentry workshops, please visit https://icesat-2
 hackweek.github.io/ or <a href="mailto:email-icesat@uw.edu.">This email add
 ress is being protected from spambots. You need JavaScript enabled to view 
 it.
				document.getElementById('cloakb83b3c5a428e55bf12ef4133d55da42b').in
 nerHTML = '';
				var prefix = '&#109;a' + 'i&#108;' + '&#116;o';
				var p
 ath = 'hr' + 'ef' + '=';
				var addyb83b3c5a428e55bf12ef4133d55da42b = '&#
 101;m&#97;&#105;l-&#105;c&#101;s&#97;t' + '&#64;';
				addyb83b3c5a428e55bf
 12ef4133d55da42b = addyb83b3c5a428e55bf12ef4133d55da42b + '&#117;w' + '&#46
 ;' + '&#101;d&#117;';
				var addy_textb83b3c5a428e55bf12ef4133d55da42b = '
 &#101;m&#97;&#105;l-&#105;c&#101;s&#97;t' + '&#64;' + '&#117;w' + '&#46;' +
  '&#101;d&#117;';document.getElementById('cloakb83b3c5a428e55bf12ef4133d55d
 a42b').innerHTML += '<a ' + path + '\'' + prefix + ':' + addyb83b3c5a428e55
 bf12ef4133d55da42b + '\'>'+addy_textb83b3c5a428e55bf12ef4133d55da42b+'';
		
 .</a>\nLimited travel support for attendees maybe be available.\n
X-ALT-DESC;FMTTYPE=text/html:<p>Following the successful launch of ICESat-2, the Polar Science Center at
  the University of Washington in collaboration with the eScience Institute 
 and NASA will be hosting a weeklong "Hackweek" to help jumpstart Cryospheri
 c Science with ICESat-2 (CSI). The CSI-Hackweek will bring together experts
  from the ICESat-2 science team, data providers, and data science experts, 
 with researchers who want hands on experience with using and manipulating g
 eophysical data from ICESat-2. CSI-Hackweek participants will learn about I
 CESat-2 fundamentals, data formats, tools, and how to get to results quickl
 y. Introductory lectures will be combined with open data exploration, tool 
 development, sample research applications, and community building.&nbsp;</p
 ><p>As preparation for the workshop, we are also offering a 2-day Software 
 Carpentry Workshop on February 7,8, 2019 on the UW Campus. For more informa
 tion on the CSI-Hackweek and Software Carpentry workshops, please visit <a 
 href="https://icesat-2hackweek.github.io/">https://icesat-2hackweek.github.
 io/</a> or <a href="mailto:email-icesat@uw.edu."><span id="cloakb83b3c5a428
 e55bf12ef4133d55da42b">This email address is being protected from spambots.
  You need JavaScript enabled to view it.</span><script type='text/javascrip
 t'>
				document.getElementById('cloakb83b3c5a428e55bf12ef4133d55da42b').in
 nerHTML = '';
				var prefix = '&#109;a' + 'i&#108;' + '&#116;o';
				var p
 ath = 'hr' + 'ef' + '=';
				var addyb83b3c5a428e55bf12ef4133d55da42b = '&#
 101;m&#97;&#105;l-&#105;c&#101;s&#97;t' + '&#64;';
				addyb83b3c5a428e55bf
 12ef4133d55da42b = addyb83b3c5a428e55bf12ef4133d55da42b + '&#117;w' + '&#46
 ;' + '&#101;d&#117;';
				var addy_textb83b3c5a428e55bf12ef4133d55da42b = '
 &#101;m&#97;&#105;l-&#105;c&#101;s&#97;t' + '&#64;' + '&#117;w' + '&#46;' +
  '&#101;d&#117;';document.getElementById('cloakb83b3c5a428e55bf12ef4133d55d
 a42b').innerHTML += '<a ' + path + '\'' + prefix + ':' + addyb83b3c5a428e55
 bf12ef4133d55da42b + '\'>'+addy_textb83b3c5a428e55bf12ef4133d55da42b+'<\/a>
 ';
		</script>.</a></p><p>Limited travel support for attendees maybe be ava
 ilable.</p>
DTSTAMP:20260426T005034Z
DTSTART;TZID=UTC;VALUE=DATE:20190617
DTEND;TZID=UTC;VALUE=DATE:20190622
SEQUENCE:0
TRANSP:OPAQUE
END:VEVENT
END:VCALENDAR