BEGIN:VCALENDAR
VERSION:2.0
PRODID:-//jEvents 2.0 for Joomla//EN
CALSCALE:GREGORIAN
METHOD:PUBLISH
BEGIN:VEVENT
UID:d9d265f20a2e71d7cdec35a94eea39b4
CATEGORIES:Polar Conferences, Meetings and Events
CREATED:20160614T072824
SUMMARY:International Penguin Careers workshop
LOCATION:Cape Town\, South Africa
DESCRIPTION:International Penguin Early Career Scientists (IPECS) is accepting abstract
 s for a small number of oral presentations during our 1st Early Career Foru
 m on Sun., Sept. 4, 2016. The Forum is a scheduled session of our Internati
 onal Penguin Careers workshop (Sept. 2-4), to be held the weekend before an
 d in partnership with the 9th International Penguin Conference in Cape Town
 , South Africa (Sept. 5-9). This workshop is free to attend, thanks to the 
 generosity of our Major Sponsor, the Global Penguin Society.\nIf interested
 , early career scientists should submit abstracts for oral presentations du
 ring our Forum no later than Thurs., June 30, 2016. Each speaker will recei
 ve time to share their penguin research, time to answer questions, and then
  personal feedback from IPECS' expert mentors on how they can improve their
  presentation.\nFor information on workshop registration and abstract submi
 ssion, please visit our website: www.ipecs.org/workshop (http://www.ipecs.o
 rg/workshop)\nPlease e-mail This email address is being protected from spam
 bots. You need JavaScript enabled to view it.
				document.getElementById('
 cloak17343032e9632c7c3835d835f1d9873c').innerHTML = '';
				var prefix = '&
 #109;a' + 'i&#108;' + '&#116;o';
				var path = 'hr' + 'ef' + '=';
				var 
 addy17343032e9632c7c3835d835f1d9873c = 'P&#101;ng&#117;&#105;nW&#111;rksh&#
 111;p' + '&#64;';
				addy17343032e9632c7c3835d835f1d9873c = addy17343032e9
 632c7c3835d835f1d9873c + '&#105;p&#101;cs' + '&#46;' + '&#111;rg';
				var 
 addy_text17343032e9632c7c3835d835f1d9873c = 'P&#101;ng&#117;&#105;nW&#111;r
 ksh&#111;p' + '&#64;' + '&#105;p&#101;cs' + '&#46;' + '&#111;rg';document.g
 etElementById('cloak17343032e9632c7c3835d835f1d9873c').innerHTML += '<a ' +
  path + '\'' + prefix + ':' + addy17343032e9632c7c3835d835f1d9873c + '\'>'+
 addy_text17343032e9632c7c3835d835f1d9873c+'';
		 or tweet @iPenguinECS with
  any questions.\n
X-ALT-DESC;FMTTYPE=text/html:<p>International Penguin Early Career Scientists (IPECS) is accepting abstr
 acts for a small number of oral presentations during our 1st Early Career F
 orum on Sun., Sept. 4, 2016. The Forum is a scheduled session of our Intern
 ational Penguin Careers workshop (Sept. 2-4), to be held the weekend before
  and in partnership with the 9th International Penguin Conference in Cape T
 own, South Africa (Sept. 5-9). This workshop is free to attend, thanks to t
 he generosity of our Major Sponsor, the Global Penguin Society.</p><p>If in
 terested, early career scientists should submit abstracts for oral presenta
 tions during our Forum no later than Thurs., June 30, 2016. Each speaker wi
 ll receive time to share their penguin research, time to answer questions, 
 and then personal feedback from IPECS' expert mentors on how they can impro
 ve their presentation.</p><p>For information on workshop registration and a
 bstract submission, please visit our website: <a href="http://www.ipecs.org
 /workshop">www.ipecs.org/workshop</a></p><p>Please e-mail <span id="cloak17
 343032e9632c7c3835d835f1d9873c">This email address is being protected from 
 spambots. You need JavaScript enabled to view it.</span><script type='text/
 javascript'>
				document.getElementById('cloak17343032e9632c7c3835d835f1d9
 873c').innerHTML = '';
				var prefix = '&#109;a' + 'i&#108;' + '&#116;o';

 				var path = 'hr' + 'ef' + '=';
				var addy17343032e9632c7c3835d835f1d98
 73c = 'P&#101;ng&#117;&#105;nW&#111;rksh&#111;p' + '&#64;';
				addy1734303
 2e9632c7c3835d835f1d9873c = addy17343032e9632c7c3835d835f1d9873c + '&#105;p
 &#101;cs' + '&#46;' + '&#111;rg';
				var addy_text17343032e9632c7c3835d835
 f1d9873c = 'P&#101;ng&#117;&#105;nW&#111;rksh&#111;p' + '&#64;' + '&#105;p&
 #101;cs' + '&#46;' + '&#111;rg';document.getElementById('cloak17343032e9632
 c7c3835d835f1d9873c').innerHTML += '<a ' + path + '\'' + prefix + ':' + add
 y17343032e9632c7c3835d835f1d9873c + '\'>'+addy_text17343032e9632c7c3835d835
 f1d9873c+'<\/a>';
		</script> or tweet @iPenguinECS with any questions.</p>
CONTACT:This email address is being protected from spambots. You need JavaScript enabled to view it.
				document.getElementById('cloak6c66ddcc7577d61956348b5c172f3580').innerHTML = '';
				var prefix = '&#109;a' + 'i&#108;' + '&#116;o';
				var path = 'hr' + 'ef' + '=';
				var addy6c66ddcc7577d61956348b5c172f3580 = 'P&#101;ng&#117;&#105;nW&#111;rksh&#111;p' + '&#64;';
				addy6c66ddcc7577d61956348b5c172f3580 = addy6c66ddcc7577d61956348b5c172f3580 + '&#105;p&#101;cs' + '&#46;' + '&#111;rg';
				var addy_text6c66ddcc7577d61956348b5c172f3580 = 'P&#101;ng&#117;&#105;nW&#111;rksh&#111;p' + '&#64;' + '&#105;p&#101;cs' + '&#46;' + '&#111;rg';document.getElementById('cloak6c66ddcc7577d61956348b5c172f3580').innerHTML += '<a ' + path + '\'' + prefix + ':' + addy6c66ddcc7577d61956348b5c172f3580 + '\'>'+addy_text6c66ddcc7577d61956348b5c172f3580+'';
		
DTSTAMP:20260424T190449Z
DTSTART;TZID=UTC;VALUE=DATE:20160904
DTEND;TZID=UTC;VALUE=DATE:20160905
SEQUENCE:0
TRANSP:OPAQUE
END:VEVENT
END:VCALENDAR