BEGIN:VCALENDAR
VERSION:2.0
PRODID:-//jEvents 2.0 for Joomla//EN
CALSCALE:GREGORIAN
METHOD:PUBLISH
BEGIN:VEVENT
UID:a3f2eeab40fded4f62e8c765b2a8dd71
CATEGORIES:Polar Conferences, Meetings and Events
CREATED:20180517T135425
SUMMARY:2nd Baikal international scientific and practical conference
LOCATION:Olkhon\, Russia
DESCRIPTION:Irkutsk National Research Technical University http://snow-baikal.tw1.ru ho
 lds the second Baikal International Scientific and Practical Conference and
  a school for scientific youth\n"Snow cover, atmospheric precipitation, aer
 osols: technology, climate and ecology" from June 25 to June 30, 2018.\nThe
  conference will be held in the Khuzhir village located on the Olkhon. \n<a
  href="http://www.istu.edu/news/29811/" target="_blank" rel="noopener">http
 ://www.istu.edu/ news/29811</a>\n\nSincerely, Organizing Committee of the I
 I Baikal International Scientific and Practical Conference "Snow Cover, Atm
 ospheric Precipitation, Aerosols: Technology, Climate and Ecology", June 25
 -30, 2018 (p. Khuzhir. Baikal)\nThe application form for participation and 
 materials for publication should be sent to the website http://snow-baikal.
 tw1.ru\npublications - to the mail This email address is being protected fr
 om spambots. You need JavaScript enabled to view it.
				document.getElemen
 tById('cloaka93f22ddcea9ce6964fc6e145dba58e5').innerHTML = '';
				var pref
 ix = '&#109;a' + 'i&#108;' + '&#116;o';
				var path = 'hr' + 'ef' + '=';
	
 			var addya93f22ddcea9ce6964fc6e145dba58e5 = 'sn&#111;w-b&#97;&#105;k&#97;
 l' + '&#64;';
				addya93f22ddcea9ce6964fc6e145dba58e5 = addya93f22ddcea9ce
 6964fc6e145dba58e5 + 'm&#97;&#105;l' + '&#46;' + 'r&#117;';
				var addy_te
 xta93f22ddcea9ce6964fc6e145dba58e5 = 'sn&#111;w-b&#97;&#105;k&#97;l' + '&#6
 4;' + 'm&#97;&#105;l' + '&#46;' + 'r&#117;';document.getElementById('cloaka
 93f22ddcea9ce6964fc6e145dba58e5').innerHTML += '<a ' + path + '\'' + prefix
  + ':' + addya93f22ddcea9ce6964fc6e145dba58e5 + '\'>'+addy_texta93f22ddcea9
 ce6964fc6e145dba58e5+'';
		.\nFor more information, please see the <a href=
 "images/Heike/FIRST_SNOW_COVER_NN.pdf" target="_blank">flyer</a>.\n
X-ALT-DESC;FMTTYPE=text/html:<p>Irkutsk National Research Technical University <a href="http://snow-baik
 al.tw1.ru">http://snow-baikal.tw1.ru</a> holds the second Baikal Internatio
 nal Scientific and Practical Conference and a school for scientific youth</
 p><p><strong>"Snow cover, atmospheric precipitation, aerosols: technology, 
 climate and ecology" from June 25 to June 30, 2018.</strong></p><p>The conf
 erence will be held in the Khuzhir village located on the Olkhon. </p><p><a
  href="http://www.istu.edu/news/29811/" target="_blank" rel="noopener">http
 ://www.istu.edu/ news/29811</a><br /><br />Sincerely, Organizing Committee 
 of the II Baikal International Scientific and Practical Conference "Snow Co
 ver, Atmospheric Precipitation, Aerosols: Technology, Climate and Ecology",
  June 25-30, 2018 (p. Khuzhir. Baikal)<br />The application form for partic
 ipation and materials for publication should be sent to the website <a href
 ="http://snow-baikal.tw1.ru">http://snow-baikal.tw1.ru</a><br />publication
 s - to the mail <span id="cloaka93f22ddcea9ce6964fc6e145dba58e5">This email
  address is being protected from spambots. You need JavaScript enabled to v
 iew it.</span><script type='text/javascript'>
				document.getElementById('
 cloaka93f22ddcea9ce6964fc6e145dba58e5').innerHTML = '';
				var prefix = '&
 #109;a' + 'i&#108;' + '&#116;o';
				var path = 'hr' + 'ef' + '=';
				var 
 addya93f22ddcea9ce6964fc6e145dba58e5 = 'sn&#111;w-b&#97;&#105;k&#97;l' + '&
 #64;';
				addya93f22ddcea9ce6964fc6e145dba58e5 = addya93f22ddcea9ce6964fc6
 e145dba58e5 + 'm&#97;&#105;l' + '&#46;' + 'r&#117;';
				var addy_texta93f2
 2ddcea9ce6964fc6e145dba58e5 = 'sn&#111;w-b&#97;&#105;k&#97;l' + '&#64;' + '
 m&#97;&#105;l' + '&#46;' + 'r&#117;';document.getElementById('cloaka93f22dd
 cea9ce6964fc6e145dba58e5').innerHTML += '<a ' + path + '\'' + prefix + ':' 
 + addya93f22ddcea9ce6964fc6e145dba58e5 + '\'>'+addy_texta93f22ddcea9ce6964f
 c6e145dba58e5+'<\/a>';
		</script>.</p><p>For more information, please see 
 the <a href="images/Heike/FIRST_SNOW_COVER_NN.pdf" target="_blank">flyer</a
 >.</p>
DTSTAMP:20260424T023203Z
DTSTART;TZID=UTC;VALUE=DATE:20180625
DTEND;TZID=UTC;VALUE=DATE:20180701
SEQUENCE:0
TRANSP:OPAQUE
END:VEVENT
END:VCALENDAR