BEGIN:VCALENDAR
VERSION:2.0
PRODID:-//jEvents 2.0 for Joomla//EN
CALSCALE:GREGORIAN
METHOD:PUBLISH
BEGIN:VEVENT
UID:62a2b17c8961c9693e3736c3d014fbe8
CATEGORIES:Polar Conferences, Meetings and Events
CREATED:20180424T100602
SUMMARY:Glaciological Symposium
LOCATION:Sochi\, Russia
DESCRIPTION:Glaciological Symposium on Polar regions and cryosphere in the context of  
 global warming' to be held 24-29 September 2018, in Sochi, Russia\nThe Symp
 osium theme is «Polar regions and cryosphere in the context of global warmi
 ng». Both events will be held by the Institute of Geography, Russian Academ
 y of Sciences, and Glaciological Association.\nScientific Program\nThe Symp
 osium will cover a wide range of cryospheric topics. It is expected that pr
 esentations will describe results of recent investigations devoted to the m
 ain key issues of present-day glaciology. Each oral presentation will be al
 lowed 20 minutes, including discussion. Working languages are Russian and E
 nglish (no simultaneous translation will be provided). Abstracts of present
 ations should be addressed to Muraviev Anton Yaroslavovich (This email addr
 ess is being protected from spambots. You need JavaScript enabled to view i
 t.
				document.getElementById('cloak00a86545d020e3f1225d82e6515dc656').inn
 erHTML = '';
				var prefix = '&#109;a' + 'i&#108;' + '&#116;o';
				var pa
 th = 'hr' + 'ef' + '=';
				var addy00a86545d020e3f1225d82e6515dc656 = 'm&#
 117;r&#97;v&#105;&#101;v' + '&#64;';
				addy00a86545d020e3f1225d82e6515dc6
 56 = addy00a86545d020e3f1225d82e6515dc656 + '&#105;gr&#97;s' + '&#46;' + 'r
 &#117;';
				var addy_text00a86545d020e3f1225d82e6515dc656 = 'm&#117;r&#97;
 v&#105;&#101;v' + '&#64;' + '&#105;gr&#97;s' + '&#46;' + 'r&#117;';document
 .getElementById('cloak00a86545d020e3f1225d82e6515dc656').innerHTML += '<a '
  + path + '\'' + prefix + ':' + addy00a86545d020e3f1225d82e6515dc656 + '\'>
 '+addy_text00a86545d020e3f1225d82e6515dc656+'';
		) not later than, June 01
 , 2018.\nThe first circular is posted on the website https://bit.ly/2HKx5vo
  \nFor registration please go to <a href="http://polar2018.igras.ru/en/">ht
 tp://polar2018.igras.ru/en/</a>\nAbstract submission and registration will 
 close on 1 June 2018.\n \n
X-ALT-DESC;FMTTYPE=text/html:<p>Glaciological Symposium on Polar regions and cryosphere in the context o
 f&nbsp; global warming' to be held 24-29 September 2018, in Sochi, Russia</
 p><p>The Symposium theme is «<strong>Polar regions and cryosphere in the co
 ntext of global warming</strong>». Both events will be held by the Institut
 e of Geography, Russian Academy of Sciences, and Glaciological Association.
 </p><p><strong>Scientific Program</strong></p><p>The Symposium will cover a
  wide range of cryospheric topics. It is expected that presentations will d
 escribe results of recent investigations devoted to the main key issues of 
 present-day glaciology. Each oral presentation will be allowed 20 minutes, 
 including discussion. Working languages are Russian and English (no simulta
 neous translation will be provided). Abstracts of presentations should be a
 ddressed to Muraviev Anton Yaroslavovich (<span id="cloak00a86545d020e3f122
 5d82e6515dc656">This email address is being protected from spambots. You ne
 ed JavaScript enabled to view it.</span><script type='text/javascript'>
			
 	document.getElementById('cloak00a86545d020e3f1225d82e6515dc656').innerHTML
  = '';
				var prefix = '&#109;a' + 'i&#108;' + '&#116;o';
				var path = '
 hr' + 'ef' + '=';
				var addy00a86545d020e3f1225d82e6515dc656 = 'm&#117;r&
 #97;v&#105;&#101;v' + '&#64;';
				addy00a86545d020e3f1225d82e6515dc656 = a
 ddy00a86545d020e3f1225d82e6515dc656 + '&#105;gr&#97;s' + '&#46;' + 'r&#117;
 ';
				var addy_text00a86545d020e3f1225d82e6515dc656 = 'm&#117;r&#97;v&#105
 ;&#101;v' + '&#64;' + '&#105;gr&#97;s' + '&#46;' + 'r&#117;';document.getEl
 ementById('cloak00a86545d020e3f1225d82e6515dc656').innerHTML += '<a ' + pat
 h + '\'' + prefix + ':' + addy00a86545d020e3f1225d82e6515dc656 + '\'>'+addy
 _text00a86545d020e3f1225d82e6515dc656+'<\/a>';
		</script>) not later than,
  June 01, 2018.</p><p>The first circular is posted on the website <a href="
 https://bit.ly/2HKx5vo">https://bit.ly/2HKx5vo</a> <br />For registration p
 lease go to <a href="http://polar2018.igras.ru/en/">http://polar2018.igras.
 ru/en/</a></p><p><strong>Abstract submission and registration</strong> will
  close on <strong>1 June 2018</strong>.</p><p>&nbsp;</p>
DTSTAMP:20260424T023206Z
DTSTART;TZID=UTC;VALUE=DATE:20180924
DTEND;TZID=UTC;VALUE=DATE:20180930
SEQUENCE:0
TRANSP:OPAQUE
END:VEVENT
END:VCALENDAR