BEGIN:VCALENDAR
VERSION:2.0
PRODID:-//jEvents 2.0 for Joomla//EN
CALSCALE:GREGORIAN
METHOD:PUBLISH
BEGIN:VEVENT
UID:46b3cf223bbe13b0d0c3c56e3c4499e8
CATEGORIES:Field and Summer Schools
CREATED:20160603T150018
SUMMARY:Glaciology of the Southern Andes
LOCATION:Mendoza\, Argentina
DESCRIPTION:We are glad to announce the 2nd edition of the postgraduate course on "Glac
 iology of the Southern Andes, by Instituto Argentino de Nivología, Glaciolo
 gía y Ciencias Ambientales (IANIGLA- CONICET), that will be held in Mendoza
 , Argentina, 1-7 August 2016.APPLICATION DEADLINE: 1 July 2015The course is
  intended to provide a comprehensive overview of the physics of glaciers wi
 th examples from the Southern Andes. Due to his extent, the Southern Andes 
 (22°S-54°S) span a broad range of both latitude and altitude. This dictates
  a large range of temperature and precipitation conditions, resulting in a 
 significant climatic diversity that host numerous and different types of gl
 aciers. We will exploit these differences to get a better understanding of 
 the importance of glaciers and glacier changes in local to regional human a
 ctivities.        Key topics include:       •Climatology of the Southern An
 des       •The history of glaciology and glaciological discoveries along th
 e Southern Andes       •Glacier mass balance and hydrology in the Southern 
 Andes       •Glacier dynamics, surging and tidewater glaciers in the Southe
 rn Andes       •Remote Sensing in glaciology       •Glacier geology along t
 he Southern AndesDuring the course, lectures will be given each morning and
  the concepts will we consolidate with computational exercises, each aftern
 oon, based on examples from the different climatic regions of the Southern 
 Andes. In addition, a field excursion of two days to the Parque Provincial 
 Aconcagua will be organized in which all the student could get a closer loo
 k of the field techniques need to retrieve mass balance and glacier dynamic
  data.The course is taught in Spanish by glaciologists from IANIGLA and is 
 intended for postgraduate students with research's subject related with gla
 ciology. Also, graduate students or technicians from public or private agen
 cies related to the management of mountain hydrology or natural resource ma
 nagement of the Southern Andes are welcome to apply.CONTACT: This email add
 ress is being protected from spambots. You need JavaScript enabled to view 
 it.
				document.getElementById('cloak77fe7016811262205192b3297fe4540c').in
 nerHTML = '';
				var prefix = '&#109;a' + 'i&#108;' + '&#116;o';
				var p
 ath = 'hr' + 'ef' + '=';
				var addy77fe7016811262205192b3297fe4540c = 'lr
 &#117;&#105;z' + '&#64;';
				addy77fe7016811262205192b3297fe4540c = addy77
 fe7016811262205192b3297fe4540c + 'm&#101;nd&#111;z&#97;-c&#111;n&#105;c&#10
 1;t' + '&#46;' + 'g&#111;b' + '&#46;' + '&#97;r';
				var addy_text77fe7016
 811262205192b3297fe4540c = 'lr&#117;&#105;z' + '&#64;' + 'm&#101;nd&#111;z&
 #97;-c&#111;n&#105;c&#101;t' + '&#46;' + 'g&#111;b' + '&#46;' + '&#97;r';do
 cument.getElementById('cloak77fe7016811262205192b3297fe4540c').innerHTML +=
  '<a ' + path + '\'' + prefix + ':' + addy77fe7016811262205192b3297fe4540c 
 + '\' class="moz-txt-link-abbreviated">'+addy_text77fe7016811262205192b3297
 fe4540c+'';
		See for further information: http://www.mendoza-conicet.gov.a
 r/cursosav
X-ALT-DESC;FMTTYPE=text/html:<pre>We are glad to announce the 2nd edition of the postgraduate course on 
 "Glaciology of the Southern Andes, by Instituto Argentino de Nivología, Gla
 ciología y Ciencias Ambientales (IANIGLA- CONICET), that will be held in Me
 ndoza, Argentina, 1-7 August 2016.APPLICATION DEADLINE: 1 July 2015The cour
 se is intended to provide a comprehensive overview of the physics of glacie
 rs with examples from the Southern Andes. Due to his extent, the Southern A
 ndes (22°S-54°S) span a broad range of both latitude and altitude. This dic
 tates a large range of temperature and precipitation conditions, resulting 
 in a significant climatic diversity that host numerous and different types 
 of glaciers. We will exploit these differences to get a better understandin
 g of the importance of glaciers and glacier changes in local to regional hu
 man activities.        Key topics include:       •Climatology of the Southe
 rn Andes       •The history of glaciology and glaciological discoveries alo
 ng the Southern Andes       •Glacier mass balance and hydrology in the Sout
 hern Andes       •Glacier dynamics, surging and tidewater glaciers in the S
 outhern Andes       •Remote Sensing in glaciology       •Glacier geology al
 ong the Southern AndesDuring the course, lectures will be given each mornin
 g and the concepts will we consolidate with computational exercises, each a
 fternoon, based on examples from the different climatic regions of the Sout
 hern Andes. In addition, a field excursion of two days to the Parque Provin
 cial Aconcagua will be organized in which all the student could get a close
 r look of the field techniques need to retrieve mass balance and glacier dy
 namic data.The course is taught in Spanish by glaciologists from IANIGLA an
 d is intended for postgraduate students with research's subject related wit
 h glaciology. Also, graduate students or technicians from public or private
  agencies related to the management of mountain hydrology or natural resour
 ce management of the Southern Andes are welcome to apply.CONTACT: <span id=
 "cloak77fe7016811262205192b3297fe4540c">This email address is being protect
 ed from spambots. You need JavaScript enabled to view it.</span><script typ
 e='text/javascript'>
				document.getElementById('cloak77fe7016811262205192
 b3297fe4540c').innerHTML = '';
				var prefix = '&#109;a' + 'i&#108;' + '&#
 116;o';
				var path = 'hr' + 'ef' + '=';
				var addy77fe7016811262205192b
 3297fe4540c = 'lr&#117;&#105;z' + '&#64;';
				addy77fe7016811262205192b329
 7fe4540c = addy77fe7016811262205192b3297fe4540c + 'm&#101;nd&#111;z&#97;-c&
 #111;n&#105;c&#101;t' + '&#46;' + 'g&#111;b' + '&#46;' + '&#97;r';
				var 
 addy_text77fe7016811262205192b3297fe4540c = 'lr&#117;&#105;z' + '&#64;' + '
 m&#101;nd&#111;z&#97;-c&#111;n&#105;c&#101;t' + '&#46;' + 'g&#111;b' + '&#4
 6;' + '&#97;r';document.getElementById('cloak77fe7016811262205192b3297fe454
 0c').innerHTML += '<a ' + path + '\'' + prefix + ':' + addy77fe701681126220
 5192b3297fe4540c + '\' class="moz-txt-link-abbreviated">'+addy_text77fe7016
 811262205192b3297fe4540c+'<\/a>';
		</script>See for further information: <
 a href="http://www.mendoza-conicet.gov.ar/cursosav" class="moz-txt-link-fre
 etext">http://www.mendoza-conicet.gov.ar/cursosav</a></pre>
CONTACT:http://www.mendoza-conicet.gov.ar/cursosav
DTSTAMP:20260424T190911Z
DTSTART;TZID=UTC;VALUE=DATE:20160801
DTEND;TZID=UTC;VALUE=DATE:20160808
SEQUENCE:0
TRANSP:OPAQUE
END:VEVENT
END:VCALENDAR