BEGIN:VCALENDAR
VERSION:2.0
PRODID:-//jEvents 2.0 for Joomla//EN
CALSCALE:GREGORIAN
METHOD:PUBLISH
BEGIN:VEVENT
UID:4a3cc8ec2bfbc6192682f64849431e98
CATEGORIES:Polar Conferences, Meetings and Events
CREATED:20180418T125301
SUMMARY:Side Meeting on solid Earth-cryosphere interactions at POLAR 18 conference
LOCATION:Davos\, Switzerland
DESCRIPTION:As you register to attend the POLAR 18 conference organised by SCAR in Davo
 s this June, please consider signing up to attend the SERCE ('Solid Earth R
 esponse and influence on Cryospheric Evolution') side meeting, which will t
 ake place immediately prior to the main conference.\nThe role of SERCE is t
 o facilitate research on interactions between the solid Earth and the cryos
 phere (https://www.scar.org/science/serce/serce/). Our side meeting is open
  to all and will be relevant to anyone interested in the solid Earth (if yo
 u're attending POLAR 18 then we assume you are also interested in the cryos
 phere...).\nDuring the meeting we will report on recent activities supporte
 d by SERCE (including a report from the Antarctic Heat Flux that is taking 
 place this week), outline and discuss plans for future SERCE-supported acti
 vities, update on recent research that addresses the scientific aims of SER
 CE, and invite discussion of plans for the future direction of SCAR's Scien
 tific Research Programs (of which SERCE is currently one, others listed her
 e: <a href="https://www.scar.org/science/srp/" target="_blank" rel="noopene
 r">https://www.scar.org/science/srp/</a>).\nDetails of POLAR 18 side meetin
 gs are listed here:\nhttps://www.polar2018.org/side-meetings-scariascassw.h
 tml \nRegistration for the SERCE side meeting is free; sign up when you reg
 ister for the main conference.\nThe SERCE side meeting will take place 2-4p
 m, in room A Sertig, on Sunday 17th June.\nPlease get in touch if you have 
 any questions or would like to suggest points for discussion during the mee
 ting. In particular, we have recently appointed an Early Career Researcher 
 rep (cc'd), so please get in touch with her if there are ECR-facing activit
 ies or issues that you would like us to discuss.\nBest wishes,\nPippa White
 house and Matt King (SERCE joint chief officers)\nNadya Yanakieva (SERCE EC
 R rep)\n
X-ALT-DESC;FMTTYPE=text/html:<p style="text-align: justify;">As you register to attend the POLAR 18 conf
 erence organised by SCAR in Davos this June, please consider signing up to 
 attend the <strong>SERCE ('Solid Earth Response and influence on Cryospheri
 c Evolution') side meeting</strong>, which will take place immediately <spa
 n style="text-decoration: underline;">prior</span> to the main conference.<
 /p><p style="text-align: justify;">The role of SERCE is to facilitate resea
 rch on interactions between the solid Earth and the cryosphere (<a href="ht
 tps://www.scar.org/science/serce/serce/" target="_blank" rel="noopener">htt
 ps://www.scar.org/science/serce/serce/</a>). Our side meeting is open to al
 l and will be relevant to anyone interested in the solid Earth (if you're a
 ttending POLAR 18 then we assume you are also interested in the cryosphere.
 ..).</p><p style="text-align: justify;">During the meeting we will report o
 n recent activities supported by SERCE (including a report from the Antarct
 ic Heat Flux that is taking place this week), outline and discuss plans for
  future SERCE-supported activities, update on recent research that addresse
 s the scientific aims of SERCE, and invite discussion of plans for the futu
 re direction of SCAR's Scientific Research Programs (of which SERCE is curr
 ently one, others listed here: <a href="https://www.scar.org/science/srp/" 
 target="_blank" rel="noopener">https://www.scar.org/science/srp/</a>).</p><
 p style="text-align: justify;">Details of POLAR 18 side meetings are listed
  here:<br /><a href="https://www.polar2018.org/side-meetings-scariascassw.h
 tml">https://www.polar2018.org/side-meetings-scariascassw.html</a> <br />Re
 gistration for the SERCE side meeting is free; sign up when you register fo
 r the main conference.<br />The SERCE side meeting will take place <strong>
 2-4pm, in room A Sertig, on Sunday 17th June</strong>.</p><p style="text-al
 ign: justify;">Please get in touch if you have any questions or would like 
 to suggest points for discussion during the meeting. In particular, we have
  recently appointed an Early Career Researcher rep (cc'd), so please get in
  touch with her if there are ECR-facing activities or issues that you would
  like us to discuss.</p><p style="text-align: justify;">Best wishes,<br />P
 ippa Whitehouse and Matt King (SERCE joint chief officers)<br />Nadya Yanak
 ieva (SERCE ECR rep)</p>
DTSTAMP:20260424T023116Z
DTSTART;TZID=UTC;VALUE=DATE:20180617
DTEND;TZID=UTC;VALUE=DATE:20180618
SEQUENCE:0
TRANSP:OPAQUE
END:VEVENT
END:VCALENDAR