BEGIN:VCALENDAR
VERSION:2.0
PRODID:-//jEvents 2.0 for Joomla//EN
CALSCALE:GREGORIAN
METHOD:PUBLISH
BEGIN:VEVENT
UID:e9a1f8153de03ed7e79f6c37b7583064
CATEGORIES:APECS Events
CREATED:20160601T114001
SUMMARY:UKPN Meeting 2016 at Antarctic Science Conference 2016
LOCATION:University of East Anglia\, Norwich\, United Kingdom
DESCRIPTION:A meeting for Early Career Researchers involved in Antarctic research to be
  held immediately before the Antarctic Science Conference 2016.\nThe meetin
 g will host a number of professionally-run career development workshops on 
 the following themes:\n(i) Getting the most out of conferences;\n(ii) Publi
 shing work: what, how and where to publish; and\n(iii) Outreach: ideas and 
 experiments for ECRs to take into educational settings.\nECRs will also be 
 invited to take a tour of the new UEA Sea Ice Chamber.\nA networking drinks
  reception for meeting participants will be sponsored by UEA and this will 
 be followed by a local meal together (optional, at own cost).\n
X-ALT-DESC;FMTTYPE=text/html:<p>A meeting for Early Career Researchers involved in Antarctic research to
  be held immediately before the Antarctic Science Conference 2016.</p><p>Th
 e meeting will host a number of professionally-run career development works
 hops on the following themes:<br />(i) Getting the most out of conferences;
 <br />(ii) Publishing work: what, how and where to publish; and<br />(iii) 
 Outreach: ideas and experiments for ECRs to take into educational settings.
 </p><p>ECRs will also be invited to take a tour of the new UEA Sea Ice Cham
 ber.</p><p>A networking drinks reception for meeting participants will be s
 ponsored by UEA and this will be followed by a local meal together (optiona
 l, at own cost).</p>
CONTACT:Cecilia Liszka (This email address is being protected from spambots. You need JavaScript enabled to view it.
				document.getElementById('cloak38dbbfabd8e1591174c4b7d8216e9694').innerHTML = '';
				var prefix = '&#109;a' + 'i&#108;' + '&#116;o';
				var path = 'hr' + 'ef' + '=';
				var addy38dbbfabd8e1591174c4b7d8216e9694 = 'c&#101;cl&#105;s56' + '&#64;';
				addy38dbbfabd8e1591174c4b7d8216e9694 = addy38dbbfabd8e1591174c4b7d8216e9694 + 'b&#97;s' + '&#46;' + '&#97;c' + '&#46;' + '&#117;k';
				var addy_text38dbbfabd8e1591174c4b7d8216e9694 = 'c&#101;cl&#105;s56' + '&#64;' + 'b&#97;s' + '&#46;' + '&#97;c' + '&#46;' + '&#117;k';document.getElementById('cloak38dbbfabd8e1591174c4b7d8216e9694').innerHTML += '<a ' + path + '\'' + prefix + ':' + addy38dbbfabd8e1591174c4b7d8216e9694 + '\'>'+addy_text38dbbfabd8e1591174c4b7d8216e9694+'';
		)
X-EXTRAINFO:Places can be booked at the UKPN meeting for free when attending the Antarc
 tic Science Conference 2016. You can book for this here: \n\nPlease tick th
 e box to indicate you wish to attend the UKPN meeting. The last booking dat
 e is 17 June 2016.\n\nNERC is kindly subsidising registrations for PhD stud
 ents, up to £60 (depending on final numbers). Reimbursement will be provide
 d upon registration at the Conference. Please bring evidence of booking/ pa
 yment.
DTSTAMP:20260424T080517Z
DTSTART;TZID=UTC;VALUE=DATE:20160704
DTEND;TZID=UTC;VALUE=DATE:20160706
SEQUENCE:0
TRANSP:OPAQUE
END:VEVENT
END:VCALENDAR