BEGIN:VCALENDAR
VERSION:2.0
PRODID:-//jEvents 2.0 for Joomla//EN
CALSCALE:GREGORIAN
METHOD:PUBLISH
BEGIN:VEVENT
UID:f999563546e8b552d0ea16d667322e1a
CATEGORIES:Polar Conferences, Meetings and Events
CREATED:20180404T081425
SUMMARY:Palaeotopography and palaobathymetry workshop at POLAR2018
LOCATION:Davos\, Switzerland
DESCRIPTION:As you register for POLAR2018 in Davos, please take note of a side meeting 
 ‘Paleobathymetry and Paleotopography of Antarctica and Greenland’ that take
 s place during the Open Science Conference. This workshop is largely focuss
 ed on ongoing work for Antarctica under the umbrella of the PAIS (Past Anta
 rctic Ice Sheets) SCAR working group (https://www.scar.org/science/pais/pai
 s/  (https://www.scar.org/science/pais/pais/)) as a way to generate better 
 palaeo boundary conditions for the community to use in their investigations
  and modelling studies. We also hope that there might be interest in consid
 ering palaeotopographic and palaeobathymetric reconstructions for Greenland
  and are keen to have discussions that cross both poles.\n \nThe workshop w
 ill be held on Tuesday 19th June at 6:30-9:30 pm in room B Rinerhorn &amp; 
 Strela (this is immediately after the opening reception so we will have a ‘
 relaxed’ discussion).\n \nWe anticipate discussion following an approximate
  agenda as outlined below but we will be flexible depending on group intere
 st:\n \n1) Outline of process and progress on Antarctic palaeobathymetry co
 mpilation.\n2) Outline of process and progress on Antarctic palaeotopograph
 y reconstruction.\n3) Discussion of how to deal with intermediate timeslice
 s (e.g. times in between reconstructions)\n4) Is there interest in a Greenl
 and palaeotopographic/palaeobathymetric reconstruction?\n5) What do modelle
 rs need from us? Format? Particular timeslices of interest in relation to p
 articular sensitivities?\n6) From palaeotopography to palaeolandscape and p
 alaeoceanography – adding context to the reconstructions (e.g. climate, veg
 etation, ocean circulation etc.) –we are hoping all sorts of people might w
 ant to use these products – not just ice sheet modellers so it will be help
 ful to discuss what the polar community might like to do with such reconstr
 uctions.\n \nIf you will attend our workshop (it’s free!) then it would be 
 useful if you can email me (This email address is being protected from spam
 bots. You need JavaScript enabled to view it.
				document.getElementById('
 cloak63e2cb8fec73c0a447fed243b60e56fa').innerHTML = '';
				var prefix = '&
 #109;a' + 'i&#108;' + '&#116;o';
				var path = 'hr' + 'ef' + '=';
				var 
 addy63e2cb8fec73c0a447fed243b60e56fa = 'St&#101;w&#97;rt.J&#97;m&#105;&#101
 ;s&#111;n' + '&#64;';
				addy63e2cb8fec73c0a447fed243b60e56fa = addy63e2cb
 8fec73c0a447fed243b60e56fa + 'd&#117;rh&#97;m' + '&#46;' + '&#97;c' + '&#46
 ;' + '&#117;k';
				var addy_text63e2cb8fec73c0a447fed243b60e56fa = 'St&#10
 1;w&#97;rt.J&#97;m&#105;&#101;s&#111;n' + '&#64;' + 'd&#117;rh&#97;m' + '&#
 46;' + '&#97;c' + '&#46;' + '&#117;k';document.getElementById('cloak63e2cb8
 fec73c0a447fed243b60e56fa').innerHTML += '<a ' + path + '\'' + prefix + ':'
  + addy63e2cb8fec73c0a447fed243b60e56fa + '\' target="_blank">'+addy_text63
 e2cb8fec73c0a447fed243b60e56fa+'';
		) to indicate you will attend (and pro
 vide a sentence of where your interest lies) but otherwise, if you are regi
 stered for the Open Science Conference then you will all be most welcome.\n
  \nRegards,\nStewart Jamieson and Karsten Gohl (Co-chairs SCAR-PAIS palaeob
 athymetry-palaeotopography group)\n
X-ALT-DESC;FMTTYPE=text/html:<p>As you register for POLAR2018 in Davos, please take note of a side meeti
 ng <strong>‘Paleobathymetry and Paleotopography of Antarctica and Greenland
 ’</strong> that takes place during the Open Science Conference. This worksh
 op is largely focussed on ongoing work for Antarctica under the umbrella of
  the PAIS (Past Antarctic Ice Sheets) SCAR working group (<a href="https://
 www.scar.org/science/pais/pais/" target="_blank" rel="noopener">https://www
 .scar.org/science/pais/pais/ </a>) as a way to generate better palaeo bound
 ary conditions for the community to use in their investigations and modelli
 ng studies. We also hope that there might be interest in considering palaeo
 topographic and palaeobathymetric reconstructions for Greenland and are kee
 n to have discussions that cross both poles.<br /> <br />The workshop will 
 be held on <strong>Tuesday 19th June at 6:30-9:30 pm in room B Rinerhorn &a
 mp; Strela</strong> (this is immediately after the opening reception so we 
 will have a ‘relaxed’ discussion).<br /> <br />We anticipate discussion fol
 lowing an approximate agenda as outlined below but we will be flexible depe
 nding on group interest:<br /> <br />1) Outline of process and progress on 
 Antarctic palaeobathymetry compilation.<br />2) Outline of process and prog
 ress on Antarctic palaeotopography reconstruction.<br />3) Discussion of ho
 w to deal with intermediate timeslices (e.g. times in between reconstructio
 ns)<br />4) Is there interest in a Greenland palaeotopographic/palaeobathym
 etric reconstruction?<br />5) What do modellers need from us? Format? Parti
 cular timeslices of interest in relation to particular sensitivities?<br />
 6) From palaeotopography to palaeolandscape and palaeoceanography – adding 
 context to the reconstructions (e.g. climate, vegetation, ocean circulation
  etc.) –we are hoping all sorts of people might want to use these products 
 – not just ice sheet modellers so it will be helpful to discuss what the po
 lar community might like to do with such reconstructions.<br /> <br />If yo
 u will attend our workshop (it’s free!) then it would be useful if you can 
 email me (<span id="cloak0be0569853a163189a30aba554f6f98e"><span id="cloak6
 3e2cb8fec73c0a447fed243b60e56fa">This email address is being protected from
  spambots. You need JavaScript enabled to view it.</span><script type='text
 /javascript'>
				document.getElementById('cloak63e2cb8fec73c0a447fed243b60
 e56fa').innerHTML = '';
				var prefix = '&#109;a' + 'i&#108;' + '&#116;o';
 
				var path = 'hr' + 'ef' + '=';
				var addy63e2cb8fec73c0a447fed243b60e
 56fa = 'St&#101;w&#97;rt.J&#97;m&#105;&#101;s&#111;n' + '&#64;';
				addy63
 e2cb8fec73c0a447fed243b60e56fa = addy63e2cb8fec73c0a447fed243b60e56fa + 'd&
 #117;rh&#97;m' + '&#46;' + '&#97;c' + '&#46;' + '&#117;k';
				var addy_tex
 t63e2cb8fec73c0a447fed243b60e56fa = 'St&#101;w&#97;rt.J&#97;m&#105;&#101;s&
 #111;n' + '&#64;' + 'd&#117;rh&#97;m' + '&#46;' + '&#97;c' + '&#46;' + '&#1
 17;k';document.getElementById('cloak63e2cb8fec73c0a447fed243b60e56fa').inne
 rHTML += '<a ' + path + '\'' + prefix + ':' + addy63e2cb8fec73c0a447fed243b
 60e56fa + '\' target="_blank">'+addy_text63e2cb8fec73c0a447fed243b60e56fa+'
 <\/a>';
		</script></span>) to indicate you will attend (and provide a sent
 ence of where your interest lies) but otherwise, if you are registered for 
 the Open Science Conference then you will all be most welcome.<br /> <br />
 Regards,<br />Stewart Jamieson and Karsten Gohl (Co-chairs SCAR-PAIS palaeo
 bathymetry-palaeotopography group)</p>
CONTACT:This email address is being protected from spambots. You need JavaScript enabled to view it.
				document.getElementById('cloakeff7bc403373d0fa769df67ce5a05c45').innerHTML = '';
				var prefix = '&#109;a' + 'i&#108;' + '&#116;o';
				var path = 'hr' + 'ef' + '=';
				var addyeff7bc403373d0fa769df67ce5a05c45 = 'St&#101;w&#97;rt.J&#97;m&#105;&#101;s&#111;n' + '&#64;';
				addyeff7bc403373d0fa769df67ce5a05c45 = addyeff7bc403373d0fa769df67ce5a05c45 + 'd&#117;rh&#97;m' + '&#46;' + '&#97;c' + '&#46;' + '&#117;k';
				var addy_texteff7bc403373d0fa769df67ce5a05c45 = 'St&#101;w&#97;rt.J&#97;m&#105;&#101;s&#111;n' + '&#64;' + 'd&#117;rh&#97;m' + '&#46;' + '&#97;c' + '&#46;' + '&#117;k';document.getElementById('cloakeff7bc403373d0fa769df67ce5a05c45').innerHTML += '<a ' + path + '\'' + prefix + ':' + addyeff7bc403373d0fa769df67ce5a05c45 + '\'>'+addy_texteff7bc403373d0fa769df67ce5a05c45+'';
		
DTSTAMP:20260424T023201Z
DTSTART;TZID=UTC:20180619T183000
DTEND;TZID=UTC:20180619T213000
SEQUENCE:0
TRANSP:OPAQUE
END:VEVENT
END:VCALENDAR