BEGIN:VCALENDAR
VERSION:2.0
PRODID:-//jEvents 2.0 for Joomla//EN
CALSCALE:GREGORIAN
METHOD:PUBLISH
BEGIN:VEVENT
UID:058cae096f05e8626857a0d25bd29cd7
CATEGORIES:APECS Events
CREATED:20180323T094310
SUMMARY:V Symposium APECS-Brazil: “Achievements and challenges in a decade of changes in national and international scene” 
LOCATION:Belo Horizonte\, Brazil
DESCRIPTION:V Symposium APECS-Brazil: Achievements and challenges in a decade of change
 s in the national and international scenario\n15 - 18 May 2018, Federal Uni
 versity of Minas Gerais, Brazil\nThe event celebrates the 10th anniversary 
 of the creation of the Brazilian APECS committee and from the last Internat
 ional Polar Year. In addition to celebrating our first decade of existence,
  we want to offer the opportunity for an open dialogue not only about polar
  science, but also on the role of APECS-Brazil in spreading science to soci
 ety and the strategies to insert polar topics into the classroom. The sympo
 sium is an event with a scientific focus, where the scientific community ca
 n discuss the advances and new discoveries of any area related to polar sci
 ence. It's a great opportunity to get acquainted with polar science, build 
 partnerships and bring new ideas to address pole-related issues in the clas
 sroom. We are preparing a high-level scientific event, which will include t
 he participation of senior and early career researchers from Brazil and abr
 oad!\nAbstract submission has been extended to 30th March, 2018.\nRegistrat
 ion is open and should be done through the APECS Brazil website (https://ww
 w.apecsbrasil.com/a5th-symposium-apecs-brazil/)\n\nAPECS members have reduc
 ed registration fees.\nMore information <a href="https://www.apecsbrasil.co
 m/a5th-symposium-apecs-brazil/">https://www.apecsbrasil.com/a5th-symposium-
 apecs-brazil/</a>\n
X-ALT-DESC;FMTTYPE=text/html:<p><strong>V Symposium APECS-Brazil: Achievements and challenges in a decad
 e of changes in the national and international scenario</strong><br /><em>1
 5 - 18 May 2018, Federal University of Minas Gerais, Brazil</em></p><p>The 
 event celebrates the 10th anniversary of the creation of the Brazilian APEC
 S committee and from the last International Polar Year. In addition to cele
 brating our first decade of existence, we want to offer the opportunity for
  an open dialogue not only about polar science, but also on the role of APE
 CS-Brazil in spreading science to society and the strategies to insert pola
 r topics into the classroom. The symposium is an event with a scientific fo
 cus, where the scientific community can discuss the advances and new discov
 eries of any area related to polar science. It's a great opportunity to get
  acquainted with polar science, build partnerships and bring new ideas to a
 ddress pole-related issues in the classroom. We are preparing a high-level 
 scientific event, which will include the participation of senior and early 
 career researchers from Brazil and abroad!</p><p>Abstract submission has be
 en extended to <strong>30th March, 2018</strong>.</p><p>Registration is ope
 n and should be done through the <a href="https://www.apecsbrasil.com/a5th-
 symposium-apecs-brazil/">APECS Brazil website</a><br /><br />APECS members 
 have reduced registration fees.</p><p>More information <a href="https://www
 .apecsbrasil.com/a5th-symposium-apecs-brazil/">https://www.apecsbrasil.com/
 a5th-symposium-apecs-brazil/</a></p>
CONTACT:Adriana / Juliana This email address is being protected from spambots. You need JavaScript enabled to view it.
				document.getElementById('cloak5a3951fe1cbaa41d002466d82aa0d2bd').innerHTML = '';
				var prefix = '&#109;a' + 'i&#108;' + '&#116;o';
				var path = 'hr' + 'ef' + '=';
				var addy5a3951fe1cbaa41d002466d82aa0d2bd = 'vs&#105;mp&#111;s&#105;&#111;&#97;p&#101;csbr&#97;s&#105;l' + '&#64;';
				addy5a3951fe1cbaa41d002466d82aa0d2bd = addy5a3951fe1cbaa41d002466d82aa0d2bd + 'gm&#97;&#105;l' + '&#46;' + 'c&#111;m';
				var addy_text5a3951fe1cbaa41d002466d82aa0d2bd = 'vs&#105;mp&#111;s&#105;&#111;&#97;p&#101;csbr&#97;s&#105;l' + '&#64;' + 'gm&#97;&#105;l' + '&#46;' + 'c&#111;m';document.getElementById('cloak5a3951fe1cbaa41d002466d82aa0d2bd').innerHTML += '<a ' + path + '\'' + prefix + ':' + addy5a3951fe1cbaa41d002466d82aa0d2bd + '\'>'+addy_text5a3951fe1cbaa41d002466d82aa0d2bd+'';
		
DTSTAMP:20260423T233033Z
DTSTART;TZID=UTC;VALUE=DATE:20180515
DTEND;TZID=UTC;VALUE=DATE:20180519
SEQUENCE:0
TRANSP:OPAQUE
END:VEVENT
END:VCALENDAR