BEGIN:VCALENDAR
VERSION:2.0
PRODID:-//jEvents 2.0 for Joomla//EN
CALSCALE:GREGORIAN
METHOD:PUBLISH
BEGIN:VEVENT
UID:b78face590161eddb15edfd3a35bb7ad
CATEGORIES:Polar Conferences, Meetings and Events
CREATED:20180321T115827
SUMMARY:NSGG Postgraduate Research Symposium 2018
LOCATION:University of Leeds\, UK
DESCRIPTION:NSGG Postgraduate Research Symposium 2018\nDate: Monday 16th July 2018\nVen
 ue: School of Earth and Environment, University of Leeds (http://www.see.le
 eds.ac.uk/home/)\nRegistration fee: £20 standard delegate rate, £15 concess
 ions (students etc).\nThe <a href="http://www.nsgg.org.uk/test-sites/index.
 html" target="_blank" rel="noopener">Near Surface Geophysics Group (NSGG)</
 a> invites submissions from postgraduate students for our 2018 Postgraduate
  Research Symposium. The event is hosted in the School of Earth and Environ
 ment at the University of Leeds, by the School’s Institute of Applied Geosc
 iences (http://www.see.leeds.ac.uk/research/iag/).\nThe NSGG is a special i
 nterest group of The Geological Society, with a remit of advancing, encoura
 ging and supporting the study and practice of near-surface geophysics throu
 ghout the industrial and academic sectors. Our postgraduate symposia offer 
 students of near-surface geophysics the opportunity to present their resear
 ch to their peer group, plus a network of academic and industrial practitio
 ners, in a relaxed and supportive environment.\n\nWe solicit abstracts from
  postgraduate students working in any aspect of near-surface geophysics, in
 cluding environmental investigations, engineering, archaeology, forensic sc
 ience, mineral exploration and geological processes. To mark the Geological
  Society’s “<a href="https://www.geolsoc.org.uk/Resources18" target="_blank
 " rel="noopener">Year of Resources</a>”, we will hold a special session fea
 turing near-surface geophysical methods as applied to the characterisation 
 of subsurface resources (e.g., energy, minerals, water) and their sustainab
 le development (e.g., waste disposal, time-lapse monitoring).\n\nThe deadli
 ne for the submission of a 500-word abstract, plus 1 optional figure, is 17
 :00 on Friday 1st June 2018. Abstracts should be emailed to Dr Adam Booth (
 This email address is being protected from spambots. You need JavaScript en
 abled to view it.
				document.getElementById('cloak9e14cc86428d05de1351760
 726f1c168').innerHTML = '';
				var prefix = '&#109;a' + 'i&#108;' + '&#116
 ;o';
				var path = 'hr' + 'ef' + '=';
				var addy9e14cc86428d05de13517607
 26f1c168 = '&#97;.d.b&#111;&#111;th' + '&#64;';
				addy9e14cc86428d05de135
 1760726f1c168 = addy9e14cc86428d05de1351760726f1c168 + 'l&#101;&#101;ds' + 
 '&#46;' + '&#97;c' + '&#46;' + '&#117;k';
				var addy_text9e14cc86428d05de
 1351760726f1c168 = '&#97;.d.b&#111;&#111;th' + '&#64;' + 'l&#101;&#101;ds' 
 + '&#46;' + '&#97;c' + '&#46;' + '&#117;k';document.getElementById('cloak9e
 14cc86428d05de1351760726f1c168').innerHTML += '<a ' + path + '\'' + prefix 
 + ':' + addy9e14cc86428d05de1351760726f1c168 + '\' target="_blank">'+addy_t
 ext9e14cc86428d05de1351760726f1c168+'';
		); a preference for oral (15+5 mi
 ns) presentation will be assumed unless poster format is requested. All pre
 senters will be considered for the NSGG Best Presentation Award.\n\nDelegat
 es are required to register in advance, but payment can be taken on the day
 . Your registration fee includes lunch and refreshments, generously sponsor
 ed by Geomatrix Earth Science Ltd, and a post-symposium reception at the en
 d of the day. We look forward to welcoming you to Leeds!\nConvenors: Adam B
 ooth (University of Leeds) and Jamie Pringle (Keele University)\n
X-ALT-DESC;FMTTYPE=text/html:<p><strong>NSGG Postgraduate Research Symposium 2018</strong><br /><strong>
 Date:</strong> Monday 16th July 2018<br /><strong>Venue:</strong> <a href="
 http://www.see.leeds.ac.uk/home/" target="_blank" rel="noopener">School of 
 Earth and Environment, University of Leeds</a><br /><strong>Registration fe
 e:</strong> £20 standard delegate rate, £15 concessions (students etc).</p>
 <p>The <a href="http://www.nsgg.org.uk/test-sites/index.html" target="_blan
 k" rel="noopener">Near Surface Geophysics Group (NSGG)</a> invites submissi
 ons from postgraduate students for our 2018 Postgraduate Research Symposium
 . The event is hosted in the School of Earth and Environment at the Univers
 ity of Leeds, by the School’s <a href="http://www.see.leeds.ac.uk/research/
 iag/" target="_blank" rel="noopener">Institute of Applied Geosciences</a>.<
 br />The NSGG is a special interest group of The Geological Society, with a
  remit of advancing, encouraging and supporting the study and practice of n
 ear-surface geophysics throughout the industrial and academic sectors. Our 
 postgraduate symposia offer students of near-surface geophysics the opportu
 nity to present their research to their peer group, plus a network of acade
 mic and industrial practitioners, in a relaxed and supportive environment.<
 br /><br />We solicit abstracts from postgraduate students working in any a
 spect of near-surface geophysics, including environmental investigations, e
 ngineering, archaeology, forensic science, mineral exploration and geologic
 al processes. To mark the Geological Society’s “<a href="https://www.geolso
 c.org.uk/Resources18" target="_blank" rel="noopener">Year of Resources</a>”
 , we will hold a special session featuring near-surface geophysical methods
  as applied to the characterisation of subsurface resources (e.g., energy, 
 minerals, water) and their sustainable development (e.g., waste disposal, t
 ime-lapse monitoring).<br /><br />The deadline for the submission of a 500-
 word abstract, plus 1 optional figure, is 17:00 on <strong>Friday 1st June 
 2018</strong>. Abstracts should be emailed to Dr Adam Booth (<span id="cloa
 k9e14cc86428d05de1351760726f1c168">This email address is being protected fr
 om spambots. You need JavaScript enabled to view it.</span><script type='te
 xt/javascript'>
				document.getElementById('cloak9e14cc86428d05de135176072
 6f1c168').innerHTML = '';
				var prefix = '&#109;a' + 'i&#108;' + '&#116;o
 ';
				var path = 'hr' + 'ef' + '=';
				var addy9e14cc86428d05de1351760726
 f1c168 = '&#97;.d.b&#111;&#111;th' + '&#64;';
				addy9e14cc86428d05de13517
 60726f1c168 = addy9e14cc86428d05de1351760726f1c168 + 'l&#101;&#101;ds' + '&
 #46;' + '&#97;c' + '&#46;' + '&#117;k';
				var addy_text9e14cc86428d05de13
 51760726f1c168 = '&#97;.d.b&#111;&#111;th' + '&#64;' + 'l&#101;&#101;ds' + 
 '&#46;' + '&#97;c' + '&#46;' + '&#117;k';document.getElementById('cloak9e14
 cc86428d05de1351760726f1c168').innerHTML += '<a ' + path + '\'' + prefix + 
 ':' + addy9e14cc86428d05de1351760726f1c168 + '\' target="_blank">'+addy_tex
 t9e14cc86428d05de1351760726f1c168+'<\/a>';
		</script>); a preference for o
 ral (15+5 mins) presentation will be assumed unless poster format is reques
 ted. All presenters will be considered for the NSGG Best Presentation Award
 .<br /><br />Delegates are required to register in advance, but payment can
  be taken on the day. Your registration fee includes lunch and refreshments
 , generously sponsored by Geomatrix Earth Science Ltd, and a post-symposium
  reception at the end of the day. We look forward to welcoming you to Leeds
 !</p><p><strong>Convenors:</strong> Adam Booth (University of Leeds) and Ja
 mie Pringle (Keele University)</p>
DTSTAMP:20260424T023303Z
DTSTART;TZID=UTC:20180321T080000
DTEND;TZID=UTC:20180321T170000
SEQUENCE:0
TRANSP:OPAQUE
END:VEVENT
END:VCALENDAR