BEGIN:VCALENDAR
VERSION:2.0
PRODID:-//jEvents 2.0 for Joomla//EN
CALSCALE:GREGORIAN
METHOD:PUBLISH
BEGIN:VEVENT
UID:9b9e6cc4e6865f1b9d343013826548ee
CATEGORIES:Field and Summer Schools
CREATED:20180312T171635
SUMMARY:Potsdam Summer School 2018
LOCATION:Potsdam\, Germany
DESCRIPTION:This year’s Summer School will take place from September 10 through Septemb
 er 19 2018 in Potsdam, Germany. It will address these central questions:\n\
 n - Why is the Earth Surface System dynamic?\n - What are the Triggers for 
 dynamic Processes?\n - What are possible societal Adaptation Strategies for
  Sustainable Land Management?The fifth summer school event will explore the
  terrestrial earth surface system which is driven by geological, biological
  and climatic forces. They form a complex system of closely coupled process
 es and feedbacks that are not yet sufficiently understood. Knowledge of the
 se interactions is essential since the earth´s surface is the foundation fo
 r all human activity. Its dynamics have an impact on all facets of life, ha
 bitability and sustainability.\nFind more information about the summer scho
 ol and application procedure here: \nhttp://potsdam-summer-school.org/\n<a 
 href="images/Heike/PSS_2018_one_pager_call_for_application.pdf" target="_bl
 ank">PPS 2018 Flyer</a>\n
X-ALT-DESC;FMTTYPE=text/html:<p>This year’s Summer School will take place from <strong>September 10 thro
 ugh September 19 2018 in Potsdam, Germany</strong>. It will address these c
 entral questions:</p><ul><li>Why is the Earth Surface System dynamic?</li><
 li>What are the Triggers for dynamic Processes?</li><li>What are possible s
 ocietal Adaptation Strategies for Sustainable Land Management?</li></ul><p>
 The fifth summer school event will explore the terrestrial earth surface sy
 stem which is driven by geological, biological and climatic forces. They fo
 rm a complex system of closely coupled processes and feedbacks that are not
  yet sufficiently understood. Knowledge of these interactions is essential 
 since the earth´s surface is the foundation for all human activity. Its dyn
 amics have an impact on all facets of life, habitability and sustainability
 .</p><p>Find more information about the summer school and application proce
 dure here: <br /><a href="http://potsdam-summer-school.org/">http://potsdam
 -summer-school.org/</a></p><p><a href="images/Heike/PSS_2018_one_pager_call
 _for_application.pdf" target="_blank">PPS 2018 Flyer</a></p>
DTSTAMP:20260424T022048Z
DTSTART;TZID=UTC;VALUE=DATE:20180910
DTEND;TZID=UTC;VALUE=DATE:20180920
SEQUENCE:0
TRANSP:OPAQUE
END:VEVENT
END:VCALENDAR