BEGIN:VCALENDAR
VERSION:2.0
PRODID:-//jEvents 2.0 for Joomla//EN
CALSCALE:GREGORIAN
METHOD:PUBLISH
BEGIN:VEVENT
UID:8d94c1b5d7d4f6511cc6b6a2a38d7096
CATEGORIES:Polar Conferences, Meetings and Events
CREATED:20180312T170726
SUMMARY:NSF Workshop on the Application of SmallSat and Commercial Imagery to Arctic Science
LOCATION:University of Minnesota\, Twin Cities\, USA
DESCRIPTION:The Workshop\nThe National Science Foundation (NSF) has funded a workshop t
 o bring scientists and experts together to discuss the new era of Arctic sc
 ience enabled by the availability of high-resolution commercial satellite i
 magery. Participants will address questions that help drive new science and
  satellite collection strategies to report in a long-term science community
  driven plan.\nDetailed Information \nWhen: May 21-22, 2018\nWhere: Univers
 ity of Minnesota, Twin Cities\nHost: Polar Geospatial Center\nApplication R
 equirements: \n1-2 page document with your contact information describing t
 he new Arctic science enabled by commercial and SmallSat imagery. In additi
 on, a shapefile or KMZ describing the geographic extent of the requirement 
 and the optimal times for collection can be included.\nPlease email your fi
 les as attachments to This email address is being protected from spambots. 
 You need JavaScript enabled to view it.
				document.getElementById('cloak2
 69748dca4f209cbe039a40292376e61').innerHTML = '';
				var prefix = '&#109;a
 ' + 'i&#108;' + '&#116;o';
				var path = 'hr' + 'ef' + '=';
				var addy26
 9748dca4f209cbe039a40292376e61 = '&#97;rct&#105;c&#105;m&#97;g&#101;ryw&#11
 1;rksh&#111;p' + '&#64;';
				addy269748dca4f209cbe039a40292376e61 = addy26
 9748dca4f209cbe039a40292376e61 + '&#117;mn' + '&#46;' + '&#101;d&#117;';
		
 		var addy_text269748dca4f209cbe039a40292376e61 = '&#97;rct&#105;c&#105;m&#
 97;g&#101;ryw&#111;rksh&#111;p@&#117;mn.&#101;d&#117;.';document.getElement
 ById('cloak269748dca4f209cbe039a40292376e61').innerHTML += '<a ' + path + '
 \'' + prefix + ':' + addy269748dca4f209cbe039a40292376e61 + '\'>'+addy_text
 269748dca4f209cbe039a40292376e61+'';
		\nApplication Deadline: March 30, 20
 18\nContact\nPhone, email, and messaging can be found at: https://www.pgc.u
 mn.edu/about/findus/\nFor more information, go to: <a href="https://www.arc
 us.org/sites/all/modules/civicrm/extern/url.php?u=7963&amp;qid=1061874" tar
 get="_blank" rel="noopener">Workshop homepage</a>\n
X-ALT-DESC;FMTTYPE=text/html:<p><strong>The Workshop</strong><br />The National Science Foundation (NSF)
  has funded a workshop to bring scientists and experts together to discuss 
 the new era of Arctic science enabled by the availability of high-resolutio
 n commercial satellite imagery. Participants will address questions that he
 lp drive new science and satellite collection strategies to report in a lon
 g-term science community driven plan.</p><p><strong>Detailed Information</s
 trong> <br /><strong>When:</strong> May 21-22, 2018</p><p><strong>Where:</s
 trong> University of Minnesota, Twin Cities</p><p><strong>Host:</strong> Po
 lar Geospatial Center</p><p><strong>Application Requirements:</strong> <br 
 />1-2 page document with your contact information describing the new Arctic
  science enabled by commercial and SmallSat imagery. In addition, a shapefi
 le or KMZ describing the geographic extent of the requirement and the optim
 al times for collection can be included.</p><p>Please email your files as a
 ttachments to <span id="cloak269748dca4f209cbe039a40292376e61">This email a
 ddress is being protected from spambots. You need JavaScript enabled to vie
 w it.</span><script type='text/javascript'>
				document.getElementById('cl
 oak269748dca4f209cbe039a40292376e61').innerHTML = '';
				var prefix = '&#1
 09;a' + 'i&#108;' + '&#116;o';
				var path = 'hr' + 'ef' + '=';
				var ad
 dy269748dca4f209cbe039a40292376e61 = '&#97;rct&#105;c&#105;m&#97;g&#101;ryw
 &#111;rksh&#111;p' + '&#64;';
				addy269748dca4f209cbe039a40292376e61 = ad
 dy269748dca4f209cbe039a40292376e61 + '&#117;mn' + '&#46;' + '&#101;d&#117;'
 ;
				var addy_text269748dca4f209cbe039a40292376e61 = '&#97;rct&#105;c&#105
 ;m&#97;g&#101;ryw&#111;rksh&#111;p@&#117;mn.&#101;d&#117;.';document.getEle
 mentById('cloak269748dca4f209cbe039a40292376e61').innerHTML += '<a ' + path
  + '\'' + prefix + ':' + addy269748dca4f209cbe039a40292376e61 + '\'>'+addy_
 text269748dca4f209cbe039a40292376e61+'<\/a>';
		</script></p><p><strong>App
 lication Deadline: </strong>March 30, 2018</p><p><strong>Contact</strong><b
 r />Phone, email, and messaging can be found at: <a href="https://www.pgc.u
 mn.edu/about/findus/">https://www.pgc.umn.edu/about/findus/</a></p><p>For m
 ore information, go to: <a href="https://www.arcus.org/sites/all/modules/ci
 vicrm/extern/url.php?u=7963&amp;qid=1061874" target="_blank" rel="noopener"
 >Workshop homepage</a></p>
DTSTAMP:20260423T233000Z
DTSTART;TZID=UTC;VALUE=DATE:20180521
DTEND;TZID=UTC;VALUE=DATE:20180523
SEQUENCE:0
TRANSP:OPAQUE
END:VEVENT
END:VCALENDAR