BEGIN:VCALENDAR
VERSION:2.0
PRODID:-//jEvents 2.0 for Joomla//EN
CALSCALE:GREGORIAN
METHOD:PUBLISH
BEGIN:VEVENT
UID:0377de2bd428c113c5d35e6540473fb8
CATEGORIES:Polar Conferences, Meetings and Events
CREATED:20180312T152952
SUMMARY:Indigenous Queer Intersections in the Arctic // IASSA Working Group Gender in the Arctic
LOCATION:Oulu\, Finland
DESCRIPTION:Queering Indigeneity: Indigenous Queer Intersections in the Arctic\nThe “IA
 SSA Working Group Gender in the Arctic” (gender-arctic.jimdo.com (http://ge
 nder-arctic.jimdo.com/)) hosts an IASC-SHWG funded workshop on 6th of Septe
 mber 2018 in Oulu/Finland as a side meeting to the UArctic Congress.\n \nIn
  the Arctic, queer identities and issues are rarely discussed in public, es
 pecially in Indigenous communities. Besides the common heteronormative disc
 rimination in society, many Indigenous queer individuals are ostracized in 
 their communities and as the result, relocate to more urban settings. The w
 orkshop examines these experiences and practices from both an academic and 
 activist perspective. It presents Indigenous perspectives on queerness and 
 interrogates assumptions of Indigenous heteronormativity. The workshop cons
 ists of three sessions: an academic panel on queer Indigenous studies, an a
 ctivist panel on queer Indigenous experiences and reflections and a conclud
 ing academic-activist round table discussing the future prospects and chall
 enges of queering Indigeneity and the need for queer Indigenous studies in 
 the Arctic.\n \nIASC can provide (partial) funding for travels of activists
 , early career researchers and others without institutional affiliation/fun
 ding. Please indicate the requested amount in your submission. Abstract (15
 0 words) submission to This email address is being protected from spambots.
  You need JavaScript enabled to view it.
				document.getElementById('cloak
 b4ceee211405a0b30cf165464c42b8dd').innerHTML = '';
				var prefix = '&#109;
 a' + 'i&#108;' + '&#116;o';
				var path = 'hr' + 'ef' + '=';
				var addyb
 4ceee211405a0b30cf165464c42b8dd = 'G&#101;rtr&#117;d&#101;.S&#97;x&#105;ng&
 #101;r' + '&#64;';
				addyb4ceee211405a0b30cf165464c42b8dd = addyb4ceee211
 405a0b30cf165464c42b8dd + '&#117;n&#105;v&#105;&#101;' + '&#46;' + '&#97;c'
  + '&#46;' + '&#97;t';
				var addy_textb4ceee211405a0b30cf165464c42b8dd = 
 'G&#101;rtr&#117;d&#101;.S&#97;x&#105;ng&#101;r' + '&#64;' + '&#117;n&#105;
 v&#105;&#101;' + '&#46;' + '&#97;c' + '&#46;' + '&#97;t';document.getElemen
 tById('cloakb4ceee211405a0b30cf165464c42b8dd').innerHTML += '<a ' + path + 
 '\'' + prefix + ':' + addyb4ceee211405a0b30cf165464c42b8dd + '\'>'+addy_tex
 tb4ceee211405a0b30cf165464c42b8dd+'';
		 until 1st of April 2018.\n \nOrgan
 isers: IASSA Working Group Gender in the Arctic\nDr Gertrude Saxinger, Vien
 na\nProf Rauna Kuokkanen, Rovaniemi\nTobias Poggats, Umeå\nProf J. Otto Hab
 eck, Hamburg\nProf Gunhild Hoogensen Gjørv, Tromsø\n \nAbout IASSA/GiA: <a 
 href="http://gender-arctic.jimdo.com/" target="_blank" rel="noopener">gende
 r-arctic.jimdo.com</a>\nMAILING LIST IASSA GiA: https://lists.univie.ac.at/
 mailman/listinfo/gender-arctic \nAbout IASSA – International Arctic Social 
 Sciences Association <a href="http://www.iassa.org%C3%82%C2%A0">www.iassa.o
 rg </a> \nAbout IASC – International Arctic Science Committee www.iasc.info
   (http://www.iasc.infoÂ ) \n \nGet involved!\nRegister as a GiA member <a 
 href="https://lists.univie.ac.at/mailman/listinfo/gender-arctic">https://li
 sts.univie.ac.at/mailman/listinfo/gender-arctic</a>\nIASSA/GiA welcomes Lin
 ks/Urls related to research platforms, networks, activism, institutions etc
  to be published on the GiA website: https://gender-arctic.jimdo.com/arctic
 -gender-initiatives/\nContact: This email address is being protected from s
 pambots. You need JavaScript enabled to view it.
				document.getElementByI
 d('cloak46c5b29d24fc314daabf123e876d218f').innerHTML = '';
				var prefix =
  '&#109;a' + 'i&#108;' + '&#116;o';
				var path = 'hr' + 'ef' + '=';
				v
 ar addy46c5b29d24fc314daabf123e876d218f = 'g&#101;rtr&#117;d&#101;.s&#97;x&
 #105;ng&#101;r' + '&#64;';
				addy46c5b29d24fc314daabf123e876d218f = addy4
 6c5b29d24fc314daabf123e876d218f + '&#117;n&#105;v&#105;&#101;' + '&#46;' + 
 '&#97;c' + '&#46;' + '&#97;t';
				var addy_text46c5b29d24fc314daabf123e876
 d218f = 'g&#101;rtr&#117;d&#101;.s&#97;x&#105;ng&#101;r' + '&#64;' + '&#117
 ;n&#105;v&#105;&#101;' + '&#46;' + '&#97;c' + '&#46;' + '&#97;t';document.g
 etElementById('cloak46c5b29d24fc314daabf123e876d218f').innerHTML += '<a ' +
  path + '\'' + prefix + ':' + addy46c5b29d24fc314daabf123e876d218f + '\'>'+
 addy_text46c5b29d24fc314daabf123e876d218f+'';
		 \n
X-ALT-DESC;FMTTYPE=text/html:<p><strong>Queering Indigeneity: Indigenous Queer Intersections in the Arct
 ic</strong></p><p>The <em>“IASSA Working Group Gender in the Arctic”</em> (
 <a href="http://gender-arctic.jimdo.com/" target="_blank" rel="noopener">ge
 nder-arctic.jimdo.com</a>) hosts an IASC-SHWG funded workshop on <strong>6t
 h of September 2018 in Oulu/Finland</strong> as a <em>side meeting to the U
 Arctic Congress</em>.<br /> <br />In the Arctic, queer identities and issue
 s are rarely discussed in public, especially in Indigenous communities. Bes
 ides the common heteronormative discrimination in society, many Indigenous 
 queer individuals are ostracized in their communities and as the result, re
 locate to more urban settings. The workshop examines these experiences and 
 practices from both an academic and activist perspective. It presents Indig
 enous perspectives on queerness and interrogates assumptions of Indigenous 
 heteronormativity. The workshop consists of three sessions: an academic pan
 el on queer Indigenous studies, an activist panel on queer Indigenous exper
 iences and reflections and a concluding academic-activist round table discu
 ssing the future prospects and challenges of queering Indigeneity and the n
 eed for queer Indigenous studies in the Arctic.<br /> <br />IASC can provid
 e (partial) funding for travels of activists, early career researchers and 
 others without institutional affiliation/funding. Please indicate the reque
 sted amount in your submission. Abstract (150 words) submission to <span id
 ="cloakb4ceee211405a0b30cf165464c42b8dd">This email address is being protec
 ted from spambots. You need JavaScript enabled to view it.</span><script ty
 pe='text/javascript'>
				document.getElementById('cloakb4ceee211405a0b30cf
 165464c42b8dd').innerHTML = '';
				var prefix = '&#109;a' + 'i&#108;' + '&
 #116;o';
				var path = 'hr' + 'ef' + '=';
				var addyb4ceee211405a0b30cf1
 65464c42b8dd = 'G&#101;rtr&#117;d&#101;.S&#97;x&#105;ng&#101;r' + '&#64;';

 				addyb4ceee211405a0b30cf165464c42b8dd = addyb4ceee211405a0b30cf165464c42
 b8dd + '&#117;n&#105;v&#105;&#101;' + '&#46;' + '&#97;c' + '&#46;' + '&#97;
 t';
				var addy_textb4ceee211405a0b30cf165464c42b8dd = 'G&#101;rtr&#117;d&
 #101;.S&#97;x&#105;ng&#101;r' + '&#64;' + '&#117;n&#105;v&#105;&#101;' + '&
 #46;' + '&#97;c' + '&#46;' + '&#97;t';document.getElementById('cloakb4ceee2
 11405a0b30cf165464c42b8dd').innerHTML += '<a ' + path + '\'' + prefix + ':'
  + addyb4ceee211405a0b30cf165464c42b8dd + '\'>'+addy_textb4ceee211405a0b30c
 f165464c42b8dd+'<\/a>';
		</script> until <strong>1st of April 2018</strong
 >.<br /> <br /><strong>Organisers:</strong> IASSA Working Group Gender in t
 he Arctic<br />Dr Gertrude Saxinger, Vienna<br />Prof Rauna Kuokkanen, Rova
 niemi<br />Tobias Poggats, Umeå<br />Prof J. Otto Habeck, Hamburg<br />Prof
  Gunhild Hoogensen Gjørv, Tromsø<br /> <br />About IASSA/GiA: <a href="http
 ://gender-arctic.jimdo.com/" target="_blank" rel="noopener">gender-arctic.j
 imdo.com</a><br />MAILING LIST IASSA GiA: <a href="https://lists.univie.ac.
 at/mailman/listinfo/gender-arctic">https://lists.univie.ac.at/mailman/listi
 nfo/gender-arctic</a> <br />About IASSA – International Arctic Social Scien
 ces Association <a href="http://www.iassa.orgÂ&nbsp;">www.iassa.org&nbsp;</
 a> <br />About IASC – International Arctic Science Committee <a href="http:
 //www.iasc.infoÂ&nbsp;">www.iasc.info&nbsp;</a> <br /> <br />Get involved!<
 br />Register as a GiA member <a href="https://lists.univie.ac.at/mailman/l
 istinfo/gender-arctic">https://lists.univie.ac.at/mailman/listinfo/gender-a
 rctic</a><br />IASSA/GiA welcomes Links/Urls related to research platforms,
  networks, activism, institutions etc to be published on the GiA website: <
 a href="https://gender-arctic.jimdo.com/arctic-gender-initiatives/">https:/
 /gender-arctic.jimdo.com/arctic-gender-initiatives/</a><br />Contact: <span
  id="cloak46c5b29d24fc314daabf123e876d218f">This email address is being pro
 tected from spambots. You need JavaScript enabled to view it.</span><script
  type='text/javascript'>
				document.getElementById('cloak46c5b29d24fc314d
 aabf123e876d218f').innerHTML = '';
				var prefix = '&#109;a' + 'i&#108;' +
  '&#116;o';
				var path = 'hr' + 'ef' + '=';
				var addy46c5b29d24fc314da
 abf123e876d218f = 'g&#101;rtr&#117;d&#101;.s&#97;x&#105;ng&#101;r' + '&#64;
 ';
				addy46c5b29d24fc314daabf123e876d218f = addy46c5b29d24fc314daabf123e8
 76d218f + '&#117;n&#105;v&#105;&#101;' + '&#46;' + '&#97;c' + '&#46;' + '&#
 97;t';
				var addy_text46c5b29d24fc314daabf123e876d218f = 'g&#101;rtr&#117
 ;d&#101;.s&#97;x&#105;ng&#101;r' + '&#64;' + '&#117;n&#105;v&#105;&#101;' +
  '&#46;' + '&#97;c' + '&#46;' + '&#97;t';document.getElementById('cloak46c5
 b29d24fc314daabf123e876d218f').innerHTML += '<a ' + path + '\'' + prefix + 
 ':' + addy46c5b29d24fc314daabf123e876d218f + '\'>'+addy_text46c5b29d24fc314
 daabf123e876d218f+'<\/a>';
		</script> </p>
CONTACT:This email address is being protected from spambots. You need JavaScript enabled to view it.
				document.getElementById('cloakd27554a72c4cdbc38ef57f99321d6d0b').innerHTML = '';
				var prefix = '&#109;a' + 'i&#108;' + '&#116;o';
				var path = 'hr' + 'ef' + '=';
				var addyd27554a72c4cdbc38ef57f99321d6d0b = 'g&#101;rtr&#117;d&#101;.s&#97;x&#105;ng&#101;r' + '&#64;';
				addyd27554a72c4cdbc38ef57f99321d6d0b = addyd27554a72c4cdbc38ef57f99321d6d0b + '&#117;n&#105;v&#105;&#101;' + '&#46;' + '&#97;c' + '&#46;' + '&#97;t';
				var addy_textd27554a72c4cdbc38ef57f99321d6d0b = 'g&#101;rtr&#117;d&#101;.s&#97;x&#105;ng&#101;r' + '&#64;' + '&#117;n&#105;v&#105;&#101;' + '&#46;' + '&#97;c' + '&#46;' + '&#97;t';document.getElementById('cloakd27554a72c4cdbc38ef57f99321d6d0b').innerHTML += '<a ' + path + '\'' + prefix + ':' + addyd27554a72c4cdbc38ef57f99321d6d0b + '\'>'+addy_textd27554a72c4cdbc38ef57f99321d6d0b+'';
		
DTSTAMP:20260424T023202Z
DTSTART;TZID=UTC;VALUE=DATE:20180906
DTEND;TZID=UTC;VALUE=DATE:20180907
SEQUENCE:0
TRANSP:OPAQUE
END:VEVENT
END:VCALENDAR