BEGIN:VCALENDAR
VERSION:2.0
PRODID:-//jEvents 2.0 for Joomla//EN
CALSCALE:GREGORIAN
METHOD:PUBLISH
BEGIN:VEVENT
UID:58ebbf9cda0dec41fefbcd3edea7ffc8
CATEGORIES:Polar Conferences, Meetings and Events
CREATED:20180312T151030
SUMMARY:International Glaciological Society Annual Symposium
LOCATION:Buffalo\, New York\, USA
DESCRIPTION:Organizers invite registration for the International Glaciological Society 
 Annual Symposium titled Timescales, Processes, and Glacier Dynamics. This s
 ymposium will be held 3-8 June 2018 in Buffalo, New York.\nSymposium Overvi
 ew:\nThe physical processes controlling glacier dynamics form the basis of 
 modern glaciology. In spite of the rapid growth in observational data, the 
 ultimate scientific challenge continues to be relating observations to proc
 esses. Time-series observational data are essential to understanding proces
 ses; however, their analysis often reveals processes operating on timescale
 s ranging from diurnal to millennial. Individual processes may underpin lon
 g-term glacier stability, promote instability, or drive natural variability
  in the glacier state. For example, gravitationally-driven flow is among th
 e most fundamental processes in glaciology and is controlled by ice-surface
  slope and thickness. The evolution of the ice surface, in turn, reveals pr
 ocesses related to the mechanical controls on ice flow, firn compaction, de
 velopment of supraglacial meltwater flow networks, basal melt, isostasy, an
 d surface mass balance. Each of these processes alters the surface elevatio
 n and is characterized by a different timescale. Assessment of the processe
 s producing changes over a particular time interval poses a major challenge
 . Hence, even routinely acquired data are difficult to reason about. Interp
 retation of other data, such as surface velocity, climatological data, rada
 r stratigraphy, glacier history, ice core records, paleoclimate proxies, an
 d in-situ observations, are also confounded by relations between processes 
 and timescales.\nImportant information:\n\n- Abstract submission is open un
 til 23:59 GMT April 9 2018.\n- Early registration deadline is extended unti
 l April 22, 2018.\n- Application deadline for early career support is 12 Ap
 ril, 2018.\n- Book your accommodation ASAP\nWe have been able to negotiate 
 some extensions on deadlines for booking accommodations. The deadlines for 
 when we have to release the rooms are as follows.\n \nHilton Garden Inn Apr
 il 13th\nThe Hotel Lafayette – April 8th\nThe Holiday Inn Express – May 3rd
 , 2018\nEmbassy Suites – May 3rd\n \nThe symposium venue is the Hotel Lafay
 ette so presumably it will be popular\nPlease go to https://www.igsoc.org/s
 ymposia/2018/buffalo/ to register online, submit your abstract, view the se
 cond circular and get the information on the student funding\nFor more info
 rmation, go to:\n<a href="https://www.arcus.org/sites/all/modules/civicrm/e
 xtern/url.php?u=7698&amp;qid=1014862" target="_blank" rel="noopener">Sympos
 ium homepage</a>\nTo submit an abstract, go to:\n\nTo register, go to:\n<a 
 href="https://www.arcus.org/sites/all/modules/civicrm/extern/url.php?u=7701
 &amp;qid=1014862" target="_blank" rel="noopener">Symposium registration web
 page</a>\n
X-ALT-DESC;FMTTYPE=text/html:<p>Organizers invite registration for the<strong> International Glaciologic
 al Society Annual Symposium</strong> titled <em>Timescales, Processes, and 
 Glacier Dynamics</em>. This symposium will be held <strong>3-8 June 2018 in
  Buffalo, New York</strong>.</p><p><strong>Symposium Overview:</strong></p>
 <p>The physical processes controlling glacier dynamics form the basis of mo
 dern glaciology. In spite of the rapid growth in observational data, the ul
 timate scientific challenge continues to be relating observations to proces
 ses. Time-series observational data are essential to understanding processe
 s; however, their analysis often reveals processes operating on timescales 
 ranging from diurnal to millennial. Individual processes may underpin long-
 term glacier stability, promote instability, or drive natural variability i
 n the glacier state. For example, gravitationally-driven flow is among the 
 most fundamental processes in glaciology and is controlled by ice-surface s
 lope and thickness. The evolution of the ice surface, in turn, reveals proc
 esses related to the mechanical controls on ice flow, firn compaction, deve
 lopment of supraglacial meltwater flow networks, basal melt, isostasy, and 
 surface mass balance. Each of these processes alters the surface elevation 
 and is characterized by a different timescale. Assessment of the processes 
 producing changes over a particular time interval poses a major challenge. 
 Hence, even routinely acquired data are difficult to reason about. Interpre
 tation of other data, such as surface velocity, climatological data, radar 
 stratigraphy, glacier history, ice core records, paleoclimate proxies, and 
 in-situ observations, are also confounded by relations between processes an
 d timescales.</p><p><strong>Important information:<br /></strong><br />- Ab
 stract submission is open until 23:59 GMT April 9 2018.<br />- Early regist
 ration deadline is extended until April 22, 2018.<br />- Application deadli
 ne for early career support is 12 April, 2018.<br />- Book your accommodati
 on ASAP</p><p>We have been able to negotiate some extensions on deadlines f
 or booking accommodations. The deadlines for when we have to release the ro
 oms are as follows.<br /> <br />Hilton Garden Inn April 13th<br />The Hotel
  Lafayette – April 8th<br />The Holiday Inn Express – May 3rd, 2018<br />Em
 bassy Suites – May 3rd<br /> <br />The symposium venue is the Hotel Lafayet
 te so presumably it will be popular</p><p>Please go to <a href="https://www
 .igsoc.org/symposia/2018/buffalo/">https://www.igsoc.org/symposia/2018/buff
 alo/</a> to register online, submit your abstract, view the second circular
  and get the information on the student funding</p><p>For more information,
  go to:<br /><a href="https://www.arcus.org/sites/all/modules/civicrm/exter
 n/url.php?u=7698&amp;qid=1014862" target="_blank" rel="noopener">Symposium 
 homepage</a></p><p>To submit an abstract, go to:<br /><a href="https://www.
 arcus.org/sites/all/modules/civicrm/extern/url.php?u=7700&amp;qid=1014862" 
 target="_blank" rel="noopener">Abstract submission webpage</a></p><p>To reg
 ister, go to:<br /><a href="https://www.arcus.org/sites/all/modules/civicrm
 /extern/url.php?u=7701&amp;qid=1014862" target="_blank" rel="noopener">Symp
 osium registration webpage</a></p>
CONTACT:Bea Csatho: This email address is being protected from spambots. You need JavaScript enabled to view it.
				document.getElementById('cloak5a7e703bb8cfc68f402dec18d9e5e775').innerHTML = '';
				var prefix = '&#109;a' + 'i&#108;' + '&#116;o';
				var path = 'hr' + 'ef' + '=';
				var addy5a7e703bb8cfc68f402dec18d9e5e775 = 'bcs&#97;th&#111;' + '&#64;';
				addy5a7e703bb8cfc68f402dec18d9e5e775 = addy5a7e703bb8cfc68f402dec18d9e5e775 + 'b&#117;ff&#97;l&#111;' + '&#46;' + '&#101;d&#117;';
				var addy_text5a7e703bb8cfc68f402dec18d9e5e775 = 'bcs&#97;th&#111;' + '&#64;' + 'b&#117;ff&#97;l&#111;' + '&#46;' + '&#101;d&#117;';document.getElementById('cloak5a7e703bb8cfc68f402dec18d9e5e775').innerHTML += '<a ' + path + '\'' + prefix + ':' + addy5a7e703bb8cfc68f402dec18d9e5e775 + '\'>'+addy_text5a7e703bb8cfc68f402dec18d9e5e775+'';
		 or Magnús Már Magnússon: This email address is being protected from spambots. You need JavaScript enabled to view it.
				document.getElementById('cloakfdfcbc2b47aee8f6a8be561ac1979158').innerHTML = '';
				var prefix = '&#109;a' + 'i&#108;' + '&#116;o';
				var path = 'hr' + 'ef' + '=';
				var addyfdfcbc2b47aee8f6a8be561ac1979158 = 'm&#97;gn&#117;s' + '&#64;';
				addyfdfcbc2b47aee8f6a8be561ac1979158 = addyfdfcbc2b47aee8f6a8be561ac1979158 + '&#105;gs&#111;c' + '&#46;' + '&#111;rg';
				var addy_textfdfcbc2b47aee8f6a8be561ac1979158 = 'm&#97;gn&#117;s' + '&#64;' + '&#105;gs&#111;c' + '&#46;' + '&#111;rg';document.getElementById('cloakfdfcbc2b47aee8f6a8be561ac1979158').innerHTML += '<a ' + path + '\'' + prefix + ':' + addyfdfcbc2b47aee8f6a8be561ac1979158 + '\'>'+addy_textfdfcbc2b47aee8f6a8be561ac1979158+'';
		
DTSTAMP:20260423T222145Z
DTSTART;TZID=UTC;VALUE=DATE:20180603
DTEND;TZID=UTC;VALUE=DATE:20180604
SEQUENCE:0
TRANSP:OPAQUE
END:VEVENT
END:VCALENDAR