BEGIN:VCALENDAR
VERSION:2.0
PRODID:-//jEvents 2.0 for Joomla//EN
CALSCALE:GREGORIAN
METHOD:PUBLISH
BEGIN:VEVENT
UID:9e669204786e4b9dfe94d5e60b61b18d
CATEGORIES:Field and Summer Schools
CREATED:20180222T151136
SUMMARY:Karthaus course 2018
LOCATION:Karthaus\, Italy
DESCRIPTION:Announcement of the next Karthaus course on ICE SHEETS AND GLACIERS IN THE 
 CLIMATE SYSTEM\n11-22 September 2018, Karthaus, Italy\nSponsored by:\nThe I
 nstitute for Marine and Atmospheric Research, Utrecht University\nNetherlan
 ds Earth System Science Centre\nThe Descartes Prize (EPICA), EU\nThe course
  will provide a basic introduction to the dynamics of glaciers and ice shee
 ts with a focus on ice-climate interactions. The course is meant for Ph.D. 
 students that work on (or will soon start working on) a glaciology-related 
 climate project. The registration fee will be € 800. This includes lodging,
  full board, course material and excursion.\nLecturers include: B. de Boer,
  T. Blunier, I. Hewitt, N. Karlsson, F. Navarro, F. Pattyn, G. Spada, A. St
 roeven, W.J. van de Berg, J. Oerlemans (convenor).\nSend your application t
 o the convenor (This email address is being protected from spambots. You ne
 ed JavaScript enabled to view it.
				document.getElementById('cloakf6fa718
 f2453c8b7bfd4f6d6fb4fe540').innerHTML = '';
				var prefix = '&#109;a' + 'i
 &#108;' + '&#116;o';
				var path = 'hr' + 'ef' + '=';
				var addyf6fa718f
 2453c8b7bfd4f6d6fb4fe540 = 'j.&#111;&#101;rl&#101;m&#97;ns' + '&#64;';
				
 addyf6fa718f2453c8b7bfd4f6d6fb4fe540 = addyf6fa718f2453c8b7bfd4f6d6fb4fe540
  + '&#117;&#117;' + '&#46;' + 'nl';
				var addy_textf6fa718f2453c8b7bfd4f6
 d6fb4fe540 = 'j.&#111;&#101;rl&#101;m&#97;ns' + '&#64;' + '&#117;&#117;' + 
 '&#46;' + 'nl';document.getElementById('cloakf6fa718f2453c8b7bfd4f6d6fb4fe5
 40').innerHTML += '<a ' + path + '\'' + prefix + ':' + addyf6fa718f2453c8b7
 bfd4f6d6fb4fe540 + '\'>'+addy_textf6fa718f2453c8b7bfd4f6d6fb4fe540+'';
		),
  before 15 May 2018.\n\nYou will be notified about the decision of the Sele
 ction Committee by 15 June 2018.\n\nYour application should include: \n• A 
 short statement why you want to partipate in this course\n• Affiliation and
  name of supervisor\n• A description of your research project (~200 words)\
 n• A curriculum vitae\nPlease supply this information as a single PDF file.
 \nhttps://www.projects.science.uu.nl/iceclimate/karthaus/application.php\nK
 arthaus course website:\n<a href="http://www.projects.science.uu.nl/iceclim
 ate/karthaus/">http://www.projects.science.uu.nl/iceclimate/karthaus/</a>\n
X-ALT-DESC;FMTTYPE=text/html:<p>Announcement of the next Karthaus course on <strong>ICE SHEETS AND GLACI
 ERS IN THE CLIMATE SYSTEM</strong><br /><strong>11-22 September 2018, Karth
 aus, Italy</strong></p><p><strong>Sponsored by:</strong><br />The Institute
  for Marine and Atmospheric Research, Utrecht University<br />Netherlands E
 arth System Science Centre<br />The Descartes Prize (EPICA), EU</p><p>The c
 ourse will provide a basic introduction to the dynamics of glaciers and ice
  sheets with a focus on ice-climate interactions. The course is meant for P
 h.D. students that work on (or will soon start working on) a glaciology-rel
 ated climate project. The registration fee will be € 800. This includes lod
 ging, full board, course material and excursion.</p><p><strong>Lecturers in
 clude:</strong> B. de Boer, T. Blunier, I. Hewitt, N. Karlsson, F. Navarro,
  F. Pattyn, G. Spada, A. Stroeven, W.J. van de Berg, J. Oerlemans (convenor
 ).</p><p>Send your application to the convenor (<span id="cloakf6fa718f2453
 c8b7bfd4f6d6fb4fe540">This email address is being protected from spambots. 
 You need JavaScript enabled to view it.</span><script type='text/javascript
 '>
				document.getElementById('cloakf6fa718f2453c8b7bfd4f6d6fb4fe540').inn
 erHTML = '';
				var prefix = '&#109;a' + 'i&#108;' + '&#116;o';
				var pa
 th = 'hr' + 'ef' + '=';
				var addyf6fa718f2453c8b7bfd4f6d6fb4fe540 = 'j.&
 #111;&#101;rl&#101;m&#97;ns' + '&#64;';
				addyf6fa718f2453c8b7bfd4f6d6fb4
 fe540 = addyf6fa718f2453c8b7bfd4f6d6fb4fe540 + '&#117;&#117;' + '&#46;' + '
 nl';
				var addy_textf6fa718f2453c8b7bfd4f6d6fb4fe540 = 'j.&#111;&#101;rl&
 #101;m&#97;ns' + '&#64;' + '&#117;&#117;' + '&#46;' + 'nl';document.getElem
 entById('cloakf6fa718f2453c8b7bfd4f6d6fb4fe540').innerHTML += '<a ' + path 
 + '\'' + prefix + ':' + addyf6fa718f2453c8b7bfd4f6d6fb4fe540 + '\'>'+addy_t
 extf6fa718f2453c8b7bfd4f6d6fb4fe540+'<\/a>';
		</script>), before <strong>1
 5 May 2018</strong>.<br /><br />You will be notified about the decision of 
 the Selection Committee by 15 June 2018.<br /><br /><strong>Your applicatio
 n should include:</strong> <br />• A short statement why you want to partip
 ate in this course<br />• Affiliation and name of supervisor<br />• A descr
 iption of your research project (~200 words)<br />• A curriculum vitae<br /
 >Please supply this information as a single PDF file.</p><p><a href="https:
 //www.projects.science.uu.nl/iceclimate/karthaus/application.php" style="fo
 nt-family: Helvetica; font-size: 12px; font-style: normal; font-weight: nor
 mal; letter-spacing: normal; text-align: start; text-indent: 0px; text-tran
 sform: none; white-space: normal; word-spacing: 0px;">https://www.projects.
 science.uu.nl/iceclimate/karthaus/application.php</a></p><p>Karthaus course
  website:<br /><a href="http://www.projects.science.uu.nl/iceclimate/kartha
 us/">http://www.projects.science.uu.nl/iceclimate/karthaus/</a></p>
CONTACT:This email address is being protected from spambots. You need JavaScript enabled to view it.
				document.getElementById('cloak23d587f735b94848b7b2be1c1c0b4af5').innerHTML = '';
				var prefix = '&#109;a' + 'i&#108;' + '&#116;o';
				var path = 'hr' + 'ef' + '=';
				var addy23d587f735b94848b7b2be1c1c0b4af5 = 'j.&#111;&#101;rl&#101;m&#97;ns' + '&#64;';
				addy23d587f735b94848b7b2be1c1c0b4af5 = addy23d587f735b94848b7b2be1c1c0b4af5 + '&#117;&#117;' + '&#46;' + 'nl';
				var addy_text23d587f735b94848b7b2be1c1c0b4af5 = 'j.&#111;&#101;rl&#101;m&#97;ns' + '&#64;' + '&#117;&#117;' + '&#46;' + 'nl';document.getElementById('cloak23d587f735b94848b7b2be1c1c0b4af5').innerHTML += '<a ' + path + '\'' + prefix + ':' + addy23d587f735b94848b7b2be1c1c0b4af5 + '\'>'+addy_text23d587f735b94848b7b2be1c1c0b4af5+'';
		
DTSTAMP:20260424T034253Z
DTSTART;TZID=UTC;VALUE=DATE:20180911
DTEND;TZID=UTC;VALUE=DATE:20180923
SEQUENCE:0
TRANSP:OPAQUE
END:VEVENT
END:VCALENDAR