BEGIN:VCALENDAR
VERSION:2.0
PRODID:-//jEvents 2.0 for Joomla//EN
CALSCALE:GREGORIAN
METHOD:PUBLISH
BEGIN:VEVENT
UID:37b15b34ab9f36ff802d98019e11001c
CATEGORIES:Polar Conferences, Meetings and Events
CREATED:20180221T073548
SUMMARY:Seabird Group Conference
LOCATION:Liverpool\, UK
DESCRIPTION:4th International Seabird Group Conference in Liverpool on the 3-6th Septem
 ber 2018\nThe next International Seabird Group Conference is being organise
 d by Jon Green and Samantha Patrick and colleagues from the University of L
 iverpool. The conference promises to provide an exciting showcase of the la
 test seabird research, located within the heart of the city of Liverpool, f
 amous for its maritime history and cultural diversity. Keynote speakers and
  early career events will compliment two and a half days of talks and poste
 rs, covering all aspects of seabird research.\nFor registration and abstrac
 t submission, please visit: https://www.liverpool.ac.uk/international-seabi
 rd-group-conference/.\n
X-ALT-DESC;FMTTYPE=text/html:<p><strong>4th International Seabird Group Conference in Liverpool on the 3
 -6th September 2018</strong></p><p>The next International Seabird Group Con
 ference is being organised by Jon Green and Samantha Patrick and colleagues
  from the University of Liverpool. The conference promises to provide an ex
 citing showcase of the latest seabird research, located within the heart of
  the city of Liverpool, famous for its maritime history and cultural divers
 ity. Keynote speakers and early career events will compliment two and a hal
 f days of talks and posters, covering all aspects of seabird research.</p><
 p>For registration and abstract submission, please visit: <a href="https://
 www.liverpool.ac.uk/international-seabird-group-conference/">https://www.li
 verpool.ac.uk/international-seabird-group-conference/</a>.</p>
CONTACT:This email address is being protected from spambots. You need JavaScript enabled to view it.
				document.getElementById('cloak915ceb4e0f128e4aa5eedd3e089f7bd6').innerHTML = '';
				var prefix = '&#109;a' + 'i&#108;' + '&#116;o';
				var path = 'hr' + 'ef' + '=';
				var addy915ceb4e0f128e4aa5eedd3e089f7bd6 = 's&#101;&#97;b&#105;rdc&#111;nf&#101;r&#101;nc&#101;' + '&#64;';
				addy915ceb4e0f128e4aa5eedd3e089f7bd6 = addy915ceb4e0f128e4aa5eedd3e089f7bd6 + 'l&#105;v&#101;rp&#111;&#111;l' + '&#46;' + '&#97;c' + '&#46;' + '&#117;k';
				var addy_text915ceb4e0f128e4aa5eedd3e089f7bd6 = 's&#101;&#97;b&#105;rdc&#111;nf&#101;r&#101;nc&#101;' + '&#64;' + 'l&#105;v&#101;rp&#111;&#111;l' + '&#46;' + '&#97;c' + '&#46;' + '&#117;k';document.getElementById('cloak915ceb4e0f128e4aa5eedd3e089f7bd6').innerHTML += '<a ' + path + '\'' + prefix + ':' + addy915ceb4e0f128e4aa5eedd3e089f7bd6 + '\'>'+addy_text915ceb4e0f128e4aa5eedd3e089f7bd6+'';
		
DTSTAMP:20260424T023304Z
DTSTART;TZID=UTC;VALUE=DATE:20180903
DTEND;TZID=UTC;VALUE=DATE:20180907
SEQUENCE:0
TRANSP:OPAQUE
END:VEVENT
END:VCALENDAR