BEGIN:VCALENDAR
VERSION:2.0
PRODID:-//jEvents 2.0 for Joomla//EN
CALSCALE:GREGORIAN
METHOD:PUBLISH
BEGIN:VEVENT
UID:9c21a831c77d01f6d3d7e66df183f255
CATEGORIES:Field and Summer Schools
CREATED:20180125T111513
SUMMARY:Arctic Field Summer School 2018: Arctic Coastal Environments in Rapid Transition
LOCATION:Utqiaġvik (Barrow)\, Alaska
DESCRIPTION:We are is pleased to announce the second field school as a part of the Inte
 rnational Partnerships for Excellence in Education and Research (INTPART) p
 roject “Arctic Field Summer Schools: Norway-Canada-USA collaboration”. The 
 second field school is organized by the University of Alaska Fairbanks and 
 is tentatively planned for May 29 to June 9, 2018.\nThe “Arctic Field Summe
 r School” is primarily funded by the Research Council of Norway (NFR) and t
 he Norwegian Centre for International Cooperation in Education (SIU), under
  grant agreement number 261786/H30 (http://cirfa.uit.no/intpart-project-to-
 cirfa-arctic-field-summer-school). The project supports research and educat
 ion collaboration among UiT-the Arctic University of Norway, the Internatio
 nal Arctic Research Center (IARC) of the University of Alaska Fairbanks (UA
 F), USA, and the University of Calgary (UC), Canada. Through a series of su
 mmer schools, the project engages graduate students in exploring science qu
 estions related to Arctic challenges.\nDuring this second field school, stu
 dents will participate and learn about remote sensing and ground-based fiel
 d observations in Utqiaġvik, Alaska (formerly Barrow). The overall theme of
  the school is the study of processes of the Arctic coastal environment at 
 the intersection between the marine, terrestrial, atmospheric and cryospher
 ic environments using ground-based and remote sensing observations. The cou
 rse will be primarily based in and near the Barrow Environmental Observator
 y (BEO) and will be conducted in close collaboration with UIC Science (Ukpe
 aġvik Iñupiat Corporation), where the participating students will receive i
 ntroductory lectures and collect in-situ and remote sensing data to be anal
 yzed in collaboration with their instructors. Students will formulate a pro
 ject jointly with instructors and work on their project for the duration of
  the field school. The participating students will make an oral presentatio
 n and submit an individual or group report at the end of the school, and wi
 ll be able to earn credits for participation based on an assessment of the 
 work. The class will be offered as a two-credit UAF summer course and stude
 nts willing to earn credits need to enroll for the class in advance.\nTrave
 l grants (amounts will be determined later) will be issued by IARC to help 
 offset or fully cover travel costs to Utqiaġvik (Barrow), Alaska, as well a
 s local costs and accommodation. Please send your 1-page motivation letter 
 that outlines how this course fits into your graduate study and career plan
 s, CV, and a recommendation letter from your supervisor.\nImportant: This o
 pportunity is open only for US-based graduate students enrolled at US unive
 rsities and the international partners will advertise separately.\nFor furt
 her information or to apply, please contact Mr. Tohru Saito (This email add
 ress is being protected from spambots. You need JavaScript enabled to view 
 it.
				document.getElementById('cloakc5441ce76c97028610fbf20aaa80af03').in
 nerHTML = '';
				var prefix = '&#109;a' + 'i&#108;' + '&#116;o';
				var p
 ath = 'hr' + 'ef' + '=';
				var addyc5441ce76c97028610fbf20aaa80af03 = 'ts
 &#97;&#105;t&#111;' + '&#64;';
				addyc5441ce76c97028610fbf20aaa80af03 = a
 ddyc5441ce76c97028610fbf20aaa80af03 + '&#97;l&#97;sk&#97;' + '&#46;' + '&#1
 01;d&#117;';
				var addy_textc5441ce76c97028610fbf20aaa80af03 = 'ts&#97;&#
 105;t&#111;' + '&#64;' + '&#97;l&#97;sk&#97;' + '&#46;' + '&#101;d&#117;';d
 ocument.getElementById('cloakc5441ce76c97028610fbf20aaa80af03').innerHTML +
 = '<a ' + path + '\'' + prefix + ':' + addyc5441ce76c97028610fbf20aaa80af03
  + '\'>'+addy_textc5441ce76c97028610fbf20aaa80af03+'';
		).\nApplication de
 adline is February 28, 2018.\n
X-ALT-DESC;FMTTYPE=text/html:<p>We are is pleased to announce the second field school as a part of the <
 em>International Partnerships for Excellence in Education and Research (INT
 PART) project “Arctic Field Summer Schools: Norway-Canada-USA collaboration
 ”</em>. The second field school is organized by the University of Alaska Fa
 irbanks and is tentatively planned for <strong>May 29 to June 9, 2018</stro
 ng>.</p><p>The “Arctic Field Summer School” is primarily funded by the Rese
 arch Council of Norway (NFR) and the Norwegian Centre for International Coo
 peration in Education (SIU), under grant agreement number 261786/H30 (<a hr
 ef="http://cirfa.uit.no/intpart-project-to-cirfa-arctic-field-summer-school
 ">http://cirfa.uit.no/intpart-project-to-cirfa-arctic-field-summer-school</
 a>). The project supports research and education collaboration among UiT-th
 e Arctic University of Norway, the International Arctic Research Center (IA
 RC) of the University of Alaska Fairbanks (UAF), USA, and the University of
  Calgary (UC), Canada. Through a series of summer schools, the project enga
 ges graduate students in exploring science questions related to Arctic chal
 lenges.</p><p>During this second field school, students will participate an
 d learn about remote sensing and ground-based field observations in Utqiaġv
 ik, Alaska (formerly Barrow). The overall theme of the school is the study 
 of processes of the Arctic coastal environment at the intersection between 
 the marine, terrestrial, atmospheric and cryospheric environments using gro
 und-based and remote sensing observations. The course will be primarily bas
 ed in and near the Barrow Environmental Observatory (BEO) and will be condu
 cted in close collaboration with UIC Science (Ukpeaġvik Iñupiat Corporation
 ), where the participating students will receive introductory lectures and 
 collect in-situ and remote sensing data to be analyzed in collaboration wit
 h their instructors. Students will formulate a project jointly with instruc
 tors and work on their project for the duration of the field school. The pa
 rticipating students will make an oral presentation and submit an individua
 l or group report at the end of the school, and will be able to earn credit
 s for participation based on an assessment of the work. The class will be o
 ffered as a two-credit UAF summer course and students willing to earn credi
 ts need to enroll for the class in advance.</p><p>Travel grants (amounts wi
 ll be determined later) will be issued by IARC to help offset or fully cove
 r travel costs to Utqiaġvik (Barrow), Alaska, as well as local costs and ac
 commodation. Please send your 1-page motivation letter that outlines how th
 is course fits into your graduate study and career plans, CV, and a recomme
 ndation letter from your supervisor.</p><p>Important: This opportunity is o
 pen only for US-based graduate students enrolled at US universities and the
  international partners will advertise separately.</p><p>For further inform
 ation or to apply, please contact Mr. Tohru Saito (<span id="cloakc5441ce76
 c97028610fbf20aaa80af03">This email address is being protected from spambot
 s. You need JavaScript enabled to view it.</span><script type='text/javascr
 ipt'>
				document.getElementById('cloakc5441ce76c97028610fbf20aaa80af03').
 innerHTML = '';
				var prefix = '&#109;a' + 'i&#108;' + '&#116;o';
				var
  path = 'hr' + 'ef' + '=';
				var addyc5441ce76c97028610fbf20aaa80af03 = '
 ts&#97;&#105;t&#111;' + '&#64;';
				addyc5441ce76c97028610fbf20aaa80af03 =
  addyc5441ce76c97028610fbf20aaa80af03 + '&#97;l&#97;sk&#97;' + '&#46;' + '&
 #101;d&#117;';
				var addy_textc5441ce76c97028610fbf20aaa80af03 = 'ts&#97;
 &#105;t&#111;' + '&#64;' + '&#97;l&#97;sk&#97;' + '&#46;' + '&#101;d&#117;'
 ;document.getElementById('cloakc5441ce76c97028610fbf20aaa80af03').innerHTML
  += '<a ' + path + '\'' + prefix + ':' + addyc5441ce76c97028610fbf20aaa80af
 03 + '\'>'+addy_textc5441ce76c97028610fbf20aaa80af03+'<\/a>';
		</script>).
 </p><p><strong>Application deadline is February 28, 2018.</strong></p>
CONTACT:This email address is being protected from spambots. You need JavaScript enabled to view it.
				document.getElementById('cloak0eb3fb363220b3adcc90b1d2284ef320').innerHTML = '';
				var prefix = '&#109;a' + 'i&#108;' + '&#116;o';
				var path = 'hr' + 'ef' + '=';
				var addy0eb3fb363220b3adcc90b1d2284ef320 = 'ts&#97;&#105;t&#111;' + '&#64;';
				addy0eb3fb363220b3adcc90b1d2284ef320 = addy0eb3fb363220b3adcc90b1d2284ef320 + '&#97;l&#97;sk&#97;' + '&#46;' + '&#101;d&#117;';
				var addy_text0eb3fb363220b3adcc90b1d2284ef320 = 'ts&#97;&#105;t&#111;' + '&#64;' + '&#97;l&#97;sk&#97;' + '&#46;' + '&#101;d&#117;';document.getElementById('cloak0eb3fb363220b3adcc90b1d2284ef320').innerHTML += '<a ' + path + '\'' + prefix + ':' + addy0eb3fb363220b3adcc90b1d2284ef320 + '\'>'+addy_text0eb3fb363220b3adcc90b1d2284ef320+'';
		
DTSTAMP:20260423T233048Z
DTSTART;TZID=UTC;VALUE=DATE:20180529
DTEND;TZID=UTC;VALUE=DATE:20180610
SEQUENCE:0
TRANSP:OPAQUE
END:VEVENT
END:VCALENDAR